{"text_format":"1","workbook":"xlsx","n_sheets":36,"sheets":["個票","第1回","第2回","第3回","第4回","第5回","第6回","第7回","第8回","第9回","第10回","第11回","第12回","第13回","第14回","第15回","第16回","第17回","第18回","第19回","第20回","第21回","第22回","第23回","第24回","第25回","第26回","第27回","第28回","第29回","第30回","第31回","第32回","第33回","第34回","第35回"],"not_rendered":{"charts":0,"images":2,"macros":1,"external_links":0,"defined_names":36,"comments":0,"pivot_tables":0},"unopened":[],"bounds":{"document_bytes":16777216,"sheet_cells":100000,"rows_first":2000,"rows_last":500,"rows_between":2000,"halvings":0,"cell_chars":16384,"cell_head_chars":4096},"cells_cut":0,"cells_raw":0,"read":"whole","date_system":"1900"}

{"sheet":"個票","index":0,"n_rows":10,"n_cols":83,"rows_kept":10,"cut":false,"hidden":false,"merged":[[8,40,10,43],[0,2,0,3],[0,4,0,7],[0,12,0,15],[9,5,15,5],[9,6,15,6],[9,7,15,7],[9,8,15,8],[9,9,15,9],[9,10,15,10],[9,11,15,11],[9,12,15,12],[9,13,15,13],[9,14,15,14],[9,15,15,15],[1,0,1,1],[2,0,2,1],[3,0,3,1],[5,41,5,43],[6,41,6,43],[9,0,15,1],[9,2,15,2],[9,3,15,3],[9,4,15,4],[4,0,4,1],[9,16,15,16],[9,17,15,17],[9,18,15,18],[9,19,15,19],[9,20,15,20],[9,21,15,21],[9,22,15,22],[9,23,15,23],[9,24,15,24],[9,25,15,25],[9,26,15,26],[9,27,15,27],[9,28,15,28],[9,29,15,29],[9,30,15,30],[9,36,15,36],[9,31,15,31],[9,32,15,32],[9,33,15,33],[9,34,15,34],[9,35,15,35]]}
[null,null,null,null,"年道徳評価シート",null,null,null,"番号",1,null,"氏名",{"$f":"IF(Q1=0,\"\",Q1)","v":""},null,null,null,{"$f":"VLOOKUP($J$1,第1回!$A$2:$O$43,2)","v":0}]
["番　　　　号",null,1,2,3,4,5,6,7,8,9,10,11,12,13,14,15,16,17,18,19,20,21,22,23,24,25,26,27,28,29,30,31,32,33,34,35]
["指　　導　　内　　容"]
["主　　題　　名"]
["資　　料　　名"]
[1,"意欲的に考えることができた",{"$f":"IF(AW6=0,\"\",AW6)","v":""},{"$f":"IF(AX6=0,\"\",AX6)","v":""},"","","","","","","","","","","","","","","","","","","","","","","","","","","","","","","","","",null,null,null,1,"印刷開始番号",null,null,null,null,null,{"$f":"第1回!D2","v":"意欲的に考えることができた"},{"$f":"VLOOKUP($J$1,第1回!$A$2:$O$43,4)","v":0},{"$f":"VLOOKUP($J$1,第2回!$A$2:$O$43,4)","v":0},{"$f":"VLOOKUP($J$1,第3回!$A$2:$O$43,4)","v":0},{"$f":"VLOOKUP($J$1,第4回!$A$2:$O$43,4)","v":0},{"$f":"VLOOKUP($J$1,第5回!$A$2:$O$43,4)","v":0},{"$f":"VLOOKUP($J$1,第6回!$A$2:$O$43,4)","v":0},{"$f":"VLOOKUP($J$1,第7回!$A$2:$O$43,4)","v":0},{"$f":"VLOOKUP($J$1,第8回!$A$2:$O$43,4)","v":0},{"$f":"VLOOKUP($J$1,第9回!$A$2:$O$43,4)","v":0},{"$f":"VLOOKUP($J$1,第10回!$A$2:$O$43,4)","v":0},{"$f":"VLOOKUP($J$1,第11回!$A$2:$O$43,4)","v":0},{"$f":"VLOOKUP($J$1,第12回!$A$2:$O$43,4)","v":0},{"$f":"VLOOKUP($J$1,第13回!$A$2:$O$43,4)","v":0},{"$f":"VLOOKUP($J$1,第14回!$A$2:$O$43,4)","v":0},{"$f":"VLOOKUP($J$1,第15回!$A$2:$O$43,4)","v":0},{"$f":"VLOOKUP($J$1,第16回!$A$2:$O$43,4)","v":0},{"$f":"VLOOKUP($J$1,第17回!$A$2:$O$43,4)","v":0},{"$f":"VLOOKUP($J$1,第18回!$A$2:$O$43,4)","v":0},{"$f":"VLOOKUP($J$1,第19回!$A$2:$O$43,4)","v":0},{"$f":"VLOOKUP($J$1,第20回!$A$2:$O$43,4)","v":0},{"$f":"VLOOKUP($J$1,第21回!$A$2:$O$43,4)","v":0},{"$f":"VLOOKUP($J$1,第22回!$A$2:$O$43,4)","v":0},{"$f":"VLOOKUP($J$1,第23回!$A$2:$O$43,4)","v":0},{"$f":"VLOOKUP($J$1,第24回!$A$2:$O$43,4)","v":0},{"$f":"VLOOKUP($J$1,第25回!$A$2:$O$43,4)","v":0},{"$f":"VLOOKUP($J$1,第26回!$A$2:$O$43,4)","v":0},{"$f":"VLOOKUP($J$1,第27回!$A$2:$O$43,4)","v":0},{"$f":"VLOOKUP($J$1,第28回!$A$2:$O$43,4)","v":0},{"$f":"VLOOKUP($J$1,第29回!$A$2:$O$43,4)","v":0},{"$f":"VLOOKUP($J$1,第30回!$A$2:$O$43,4)","v":0},{"$f":"VLOOKUP($J$1,第31回!$A$2:$O$43,4)","v":0},{"$f":"VLOOKUP($J$1,第32回!$A$2:$O$43,4)","v":0},{"$f":"VLOOKUP($J$1,第33回!$A$2:$O$43,4)","v":0},{"$f":"VLOOKUP($J$1,第34回!$A$2:$O$43,4)","v":0},{"$f":"VLOOKUP($J$1,第35回!$A$2:$O$43,4)","v":0}]
[2,"登場人物を自分に置き換えて考えようとしている","","","","","","","","","","","","","","","","","","","","","","","","","","","","","","","","","","","",null,null,null,1,"印刷終了番号",null,null,null,null,null,{"$f":"第1回!E2","v":"登場人物を自分に置き換えて考えようとしている"},{"$f":"VLOOKUP($J$1,第1回!$A$2:$O$43,5)","v":0},{"$f":"VLOOKUP($J$1,第2回!$A$2:$O$43,5)","v":0},{"$f":"VLOOKUP($J$1,第3回!$A$2:$O$43,5)","v":0},{"$f":"VLOOKUP($J$1,第4回!$A$2:$O$43,5)","v":0},{"$f":"VLOOKUP($J$1,第5回!$A$2:$O$43,5)","v":0},{"$f":"VLOOKUP($J$1,第6回!$A$2:$O$43,5)","v":0},{"$f":"VLOOKUP($J$1,第7回!$A$2:$O$43,5)","v":0},{"$f":"VLOOKUP($J$1,第8回!$A$2:$O$43,5)","v":0},{"$f":"VLOOKUP($J$1,第9回!$A$2:$O$43,5)","v":0},{"$f":"VLOOKUP($J$1,第10回!$A$2:$O$43,5)","v":0},{"$f":"VLOOKUP($J$1,第11回!$A$2:$O$43,5)","v":0},{"$f":"VLOOKUP($J$1,第12回!$A$2:$O$43,5)","v":0},{"$f":"VLOOKUP($J$1,第13回!$A$2:$O$43,5)","v":0},{"$f":"VLOOKUP($J$1,第14回!$A$2:$O$43,5)","v":0},{"$f":"VLOOKUP($J$1,第15回!$A$2:$O$43,5)","v":0},{"$f":"VLOOKUP($J$1,第16回!$A$2:$O$43,5)","v":0},{"$f":"VLOOKUP($J$1,第17回!$A$2:$O$43,5)","v":0},{"$f":"VLOOKUP($J$1,第18回!$A$2:$O$43,5)","v":0},{"$f":"VLOOKUP($J$1,第19回!$A$2:$O$43,5)","v":0},{"$f":"VLOOKUP($J$1,第20回!$A$2:$O$43,5)","v":0},{"$f":"VLOOKUP($J$1,第21回!$A$2:$O$43,5)","v":0},{"$f":"VLOOKUP($J$1,第22回!$A$2:$O$43,5)","v":0},{"$f":"VLOOKUP($J$1,第23回!$A$2:$O$43,5)","v":0},{"$f":"VLOOKUP($J$1,第24回!$A$2:$O$43,5)","v":0},{"$f":"VLOOKUP($J$1,第25回!$A$2:$O$43,5)","v":0},{"$f":"VLOOKUP($J$1,第26回!$A$2:$O$43,5)","v":0},{"$f":"VLOOKUP($J$1,第27回!$A$2:$O$43,5)","v":0},{"$f":"VLOOKUP($J$1,第28回!$A$2:$O$43,5)","v":0},{"$f":"VLOOKUP($J$1,第29回!$A$2:$O$43,5)","v":0},{"$f":"VLOOKUP($J$1,第30回!$A$2:$O$43,5)","v":0},{"$f":"VLOOKUP($J$1,第31回!$A$2:$O$43,5)","v":0},{"$f":"VLOOKUP($J$1,第32回!$A$2:$O$43,5)","v":0},{"$f":"VLOOKUP($J$1,第33回!$A$2:$O$43,5)","v":0},{"$f":"VLOOKUP($J$1,第34回!$A$2:$O$43,5)","v":0},{"$f":"VLOOKUP($J$1,第35回!$A$2:$O$43,5)","v":0}]
[3,"友達の意見を参考にしながら多面的・多角的に考えようとしている","","","","","","","","","","","","","","","","","","","","","","","","","","","","","","","","","","","",null,null,null,null,null,null,null,null,null,null,{"$f":"第1回!F2","v":"友達の意見を参考にしながら多面的・多角的に考えようとしている"},{"$f":"VLOOKUP($J$1,第1回!$A$2:$O$43,6)","v":0},{"$f":"VLOOKUP($J$1,第2回!$A$2:$O$43,6)","v":0},{"$f":"VLOOKUP($J$1,第3回!$A$2:$O$43,6)","v":0},{"$f":"VLOOKUP($J$1,第4回!$A$2:$O$43,6)","v":0},{"$f":"VLOOKUP($J$1,第5回!$A$2:$O$43,6)","v":0},{"$f":"VLOOKUP($J$1,第6回!$A$2:$O$43,6)","v":0},{"$f":"VLOOKUP($J$1,第7回!$A$2:$O$43,6)","v":0},{"$f":"VLOOKUP($J$1,第8回!$A$2:$O$43,6)","v":0},{"$f":"VLOOKUP($J$1,第9回!$A$2:$O$43,6)","v":0},{"$f":"VLOOKUP($J$1,第10回!$A$2:$O$43,6)","v":0},{"$f":"VLOOKUP($J$1,第11回!$A$2:$O$43,6)","v":0},{"$f":"VLOOKUP($J$1,第12回!$A$2:$O$43,6)","v":0},{"$f":"VLOOKUP($J$1,第13回!$A$2:$O$43,6)","v":0},{"$f":"VLOOKUP($J$1,第14回!$A$2:$O$43,6)","v":0},{"$f":"VLOOKUP($J$1,第15回!$A$2:$O$43,6)","v":0},{"$f":"VLOOKUP($J$1,第16回!$A$2:$O$43,6)","v":0},{"$f":"VLOOKUP($J$1,第17回!$A$2:$O$43,6)","v":0},{"$f":"VLOOKUP($J$1,第18回!$A$2:$O$43,6)","v":0},{"$f":"VLOOKUP($J$1,第19回!$A$2:$O$43,6)","v":0},{"$f":"VLOOKUP($J$1,第20回!$A$2:$O$43,6)","v":0},{"$f":"VLOOKUP($J$1,第21回!$A$2:$O$43,6)","v":0},{"$f":"VLOOKUP($J$1,第22回!$A$2:$O$43,6)","v":0},{"$f":"VLOOKUP($J$1,第23回!$A$2:$O$43,6)","v":0},{"$f":"VLOOKUP($J$1,第24回!$A$2:$O$43,6)","v":0},{"$f":"VLOOKUP($J$1,第25回!$A$2:$O$43,6)","v":0},{"$f":"VLOOKUP($J$1,第26回!$A$2:$O$43,6)","v":0},{"$f":"VLOOKUP($J$1,第27回!$A$2:$O$43,6)","v":0},{"$f":"VLOOKUP($J$1,第28回!$A$2:$O$43,6)","v":0},{"$f":"VLOOKUP($J$1,第29回!$A$2:$O$43,6)","v":0},{"$f":"VLOOKUP($J$1,第30回!$A$2:$O$43,6)","v":0},{"$f":"VLOOKUP($J$1,第31回!$A$2:$O$43,6)","v":0},{"$f":"VLOOKUP($J$1,第32回!$A$2:$O$43,6)","v":0},{"$f":"VLOOKUP($J$1,第33回!$A$2:$O$43,6)","v":0},{"$f":"VLOOKUP($J$1,第34回!$A$2:$O$43,6)","v":0},{"$f":"VLOOKUP($J$1,第35回!$A$2:$O$43,6)","v":0}]
[4,"今までの自分を振り返りこれからの自分の生き方について考えようとしている","","","","","","","","","","","","","","","","","","","","","","","","","","","","","","","","","","","",null,null,null,"【印刷方法】\n\n・印刷開始番号と印刷終了番号の児童の出席番号を入れる。\n・一括印刷ボタンをクリックする。",null,null,null,null,null,null,{"$f":"第1回!G2","v":"今までの自分を振り返りこれからの自分の生き方について考えようとしている"},{"$f":"VLOOKUP($J$1,第1回!$A$2:$O$43,7)","v":0},{"$f":"VLOOKUP($J$1,第2回!$A$2:$O$43,7)","v":0},{"$f":"VLOOKUP($J$1,第3回!$A$2:$O$43,7)","v":0},{"$f":"VLOOKUP($J$1,第4回!$A$2:$O$43,7)","v":0},{"$f":"VLOOKUP($J$1,第5回!$A$2:$O$43,7)","v":0},{"$f":"VLOOKUP($J$1,第6回!$A$2:$O$43,7)","v":0},{"$f":"VLOOKUP($J$1,第7回!$A$2:$O$43,7)","v":0},{"$f":"VLOOKUP($J$1,第8回!$A$2:$O$43,7)","v":0},{"$f":"VLOOKUP($J$1,第9回!$A$2:$O$43,7)","v":0},{"$f":"VLOOKUP($J$1,第10回!$A$2:$O$43,7)","v":0},{"$f":"VLOOKUP($J$1,第11回!$A$2:$O$43,7)","v":0},{"$f":"VLOOKUP($J$1,第12回!$A$2:$O$43,7)","v":0},{"$f":"VLOOKUP($J$1,第13回!$A$2:$O$43,7)","v":0},{"$f":"VLOOKUP($J$1,第14回!$A$2:$O$43,7)","v":0},{"$f":"VLOOKUP($J$1,第15回!$A$2:$O$43,7)","v":0},{"$f":"VLOOKUP($J$1,第16回!$A$2:$O$43,7)","v":0},{"$f":"VLOOKUP($J$1,第17回!$A$2:$O$43,7)","v":0},{"$f":"VLOOKUP($J$1,第18回!$A$2:$O$43,7)","v":0},{"$f":"VLOOKUP($J$1,第19回!$A$2:$O$43,7)","v":0},{"$f":"VLOOKUP($J$1,第20回!$A$2:$O$43,7)","v":0},{"$f":"VLOOKUP($J$1,第21回!$A$2:$O$43,7)","v":0},{"$f":"VLOOKUP($J$1,第22回!$A$2:$O$43,7)","v":0},{"$f":"VLOOKUP($J$1,第23回!$A$2:$O$43,7)","v":0},{"$f":"VLOOKUP($J$1,第24回!$A$2:$O$43,7)","v":0},{"$f":"VLOOKUP($J$1,第25回!$A$2:$O$43,7)","v":0},{"$f":"VLOOKUP($J$1,第26回!$A$2:$O$43,7)","v":0},{"$f":"VLOOKUP($J$1,第27回!$A$2:$O$43,7)","v":0},{"$f":"VLOOKUP($J$1,第28回!$A$2:$O$43,7)","v":0},{"$f":"VLOOKUP($J$1,第29回!$A$2:$O$43,7)","v":0},{"$f":"VLOOKUP($J$1,第30回!$A$2:$O$43,7)","v":0},{"$f":"VLOOKUP($J$1,第31回!$A$2:$O$43,7)","v":0},{"$f":"VLOOKUP($J$1,第32回!$A$2:$O$43,7)","v":0},{"$f":"VLOOKUP($J$1,第33回!$A$2:$O$43,7)","v":0},{"$f":"VLOOKUP($J$1,第34回!$A$2:$O$43,7)","v":0},{"$f":"VLOOKUP($J$1,第35回!$A$2:$O$43,7)","v":0}]
["備考",null,"",{"$f":"IF(AX10=0,\"\",AX10)","v":""},{"$f":"IF(AY10=0,\"\",AY10)","v":""},{"$f":"IF(AZ10=0,\"\",AZ10)","v":""},{"$f":"IF(BA10=0,\"\",BA10)","v":""},{"$f":"IF(BB10=0,\"\",BB10)","v":""},{"$f":"IF(BC10=0,\"\",BC10)","v":""},{"$f":"IF(BD10=0,\"\",BD10)","v":""},{"$f":"IF(BE10=0,\"\",BE10)","v":""},{"$f":"IF(BF10=0,\"\",BF10)","v":""},{"$f":"IF(BG10=0,\"\",BG10)","v":""},{"$f":"IF(BH10=0,\"\",BH10)","v":""},{"$f":"IF(BI10=0,\"\",BI10)","v":""},{"$f":"IF(BJ10=0,\"\",BJ10)","v":""},{"$f":"IF(BK10=0,\"\",BK10)","v":""},{"$f":"IF(BL10=0,\"\",BL10)","v":""},{"$f":"IF(BM10=0,\"\",BM10)","v":""},{"$f":"IF(BN10=0,\"\",BN10)","v":""},{"$f":"IF(BO10=0,\"\",BO10)","v":""},{"$f":"IF(BP10=0,\"\",BP10)","v":""},{"$f":"IF(BQ10=0,\"\",BQ10)","v":""},{"$f":"IF(BR10=0,\"\",BR10)","v":""},{"$f":"IF(BS10=0,\"\",BS10)","v":""},{"$f":"IF(BT10=0,\"\",BT10)","v":""},{"$f":"IF(BU10=0,\"\",BU10)","v":""},{"$f":"IF(BV10=0,\"\",BV10)","v":""},{"$f":"IF(BW10=0,\"\",BW10)","v":""},{"$f":"IF(BX10=0,\"\",BX10)","v":""},{"$f":"IF(BY10=0,\"\",BY10)","v":""},{"$f":"IF(BZ10=0,\"\",BZ10)","v":""},{"$f":"IF(CA10=0,\"\",CA10)","v":""},{"$f":"IF(CB10=0,\"\",CB10)","v":""},{"$f":"IF(CC10=0,\"\",CC10)","v":""},{"$f":"IF(CD10=0,\"\",CD10)","v":""},{"$f":"IF(CE10=0,\"\",CE10)","v":""},null,null,null,null,null,null,null,null,null,null,{"$f":"第1回!H2","v":"備考"},{"$f":"VLOOKUP($J$1,第1回!$A$2:$O$43,8)","v":0},{"$f":"VLOOKUP($J$1,第2回!$A$2:$O$43,8)","v":0},{"$f":"VLOOKUP($J$1,第3回!$A$2:$O$43,8)","v":0},{"$f":"VLOOKUP($J$1,第4回!$A$2:$O$43,8)","v":0},{"$f":"VLOOKUP($J$1,第5回!$A$2:$O$43,8)","v":0},{"$f":"VLOOKUP($J$1,第6回!$A$2:$O$43,8)","v":0},{"$f":"VLOOKUP($J$1,第7回!$A$2:$O$43,8)","v":0},{"$f":"VLOOKUP($J$1,第8回!$A$2:$O$43,8)","v":0},{"$f":"VLOOKUP($J$1,第9回!$A$2:$O$43,8)","v":0},{"$f":"VLOOKUP($J$1,第10回!$A$2:$O$43,8)","v":0},{"$f":"VLOOKUP($J$1,第11回!$A$2:$O$43,8)","v":0},{"$f":"VLOOKUP($J$1,第12回!$A$2:$O$43,8)","v":0},{"$f":"VLOOKUP($J$1,第13回!$A$2:$O$43,8)","v":0},{"$f":"VLOOKUP($J$1,第14回!$A$2:$O$43,8)","v":0},{"$f":"VLOOKUP($J$1,第15回!$A$2:$O$43,8)","v":0},{"$f":"VLOOKUP($J$1,第16回!$A$2:$O$43,8)","v":0},{"$f":"VLOOKUP($J$1,第17回!$A$2:$O$43,8)","v":0},{"$f":"VLOOKUP($J$1,第18回!$A$2:$O$43,8)","v":0},{"$f":"VLOOKUP($J$1,第19回!$A$2:$O$43,8)","v":0},{"$f":"VLOOKUP($J$1,第20回!$A$2:$O$43,8)","v":0},{"$f":"VLOOKUP($J$1,第21回!$A$2:$O$43,8)","v":0},{"$f":"VLOOKUP($J$1,第22回!$A$2:$O$43,8)","v":0},{"$f":"VLOOKUP($J$1,第23回!$A$2:$O$43,8)","v":0},{"$f":"VLOOKUP($J$1,第24回!$A$2:$O$43,8)","v":0},{"$f":"VLOOKUP($J$1,第25回!$A$2:$O$43,8)","v":0},{"$f":"VLOOKUP($J$1,第26回!$A$2:$O$43,8)","v":0},{"$f":"VLOOKUP($J$1,第27回!$A$2:$O$43,8)","v":0},{"$f":"VLOOKUP($J$1,第28回!$A$2:$O$43,8)","v":0},{"$f":"VLOOKUP($J$1,第29回!$A$2:$O$43,8)","v":0},{"$f":"VLOOKUP($J$1,第30回!$A$2:$O$43,8)","v":0},{"$f":"VLOOKUP($J$1,第31回!$A$2:$O$43,8)","v":0},{"$f":"VLOOKUP($J$1,第32回!$A$2:$O$43,8)","v":0},{"$f":"VLOOKUP($J$1,第33回!$A$2:$O$43,8)","v":0},{"$f":"VLOOKUP($J$1,第34回!$A$2:$O$43,8)","v":0},{"$f":"VLOOKUP($J$1,第35回!$A$2:$O$43,8)","v":0}]

{"sheet":"第1回","index":1,"n_rows":42,"n_cols":19,"rows_kept":42,"cut":false,"hidden":false,"merged":[[0,1,0,2],[0,5,0,8],[0,3,0,4],[0,11,0,14],[0,9,0,10],[12,7,12,14],[1,7,1,14],[2,7,2,14],[3,7,3,14],[4,7,4,14],[5,7,5,14],[6,7,6,14],[7,7,7,14],[8,7,8,14],[9,7,9,14],[10,7,10,14],[11,7,11,14],[24,7,24,14],[13,7,13,14],[14,7,14,14],[15,7,15,14],[16,7,16,14],[17,7,17,14],[18,7,18,14],[19,7,19,14],[20,7,20,14],[21,7,21,14],[22,7,22,14],[23,7,23,14],[36,7,36,14],[25,7,25,14],[26,7,26,14],[27,7,27,14],[28,7,28,14],[29,7,29,14],[30,7,30,14],[31,7,31,14],[32,7,32,14],[33,7,33,14],[34,7,34,14],[35,7,35,14],[37,7,37,14],[38,7,38,14],[39,7,39,14],[40,7,40,14],[41,7,41,14]]}
[1,{"$f":"IF(Q1=0,\"\",Q1)","v":""},null,"主題名",null,{"$f":"IF(R1=0,\"\",R1)","v":""},null,null,null,"資料名",null,{"$f":"IF(S1=0,\"\",S1)","v":""},null,null,null,null,{"$f":"個票!$C$3","v":0},{"$f":"個票!$C$4","v":0},{"$f":"個票!$C$5","v":0}]
["No","氏　　名","性別",{"$f":"個票!B6","v":"意欲的に考えることができた"},{"$f":"個票!B7","v":"登場人物を自分に置き換えて考えようとしている"},{"$f":"個票!B8","v":"友達の意見を参考にしながら多面的・多角的に考えようとしている"},{"$f":"個票!B9","v":"今までの自分を振り返りこれからの自分の生き方について考えようとしている"},{"$f":"個票!A10","v":"備考"}]
[1]
[2]
[3]
[4]
[5]
[6]
[7]
[8]
[9]
[10]
[11]
[12]
[13]
[14]
[15]
[16]
[17]
[18]
[19]
[20]
[21]
[22]
[23]
[24]
[25]
[26]
[27]
[28]
[29]
[30]
[31]
[32]
[33]
[34]
[35]
[36]
[37]
[38]
[39]
[40]

{"sheet":"第2回","index":2,"n_rows":42,"n_cols":30,"rows_kept":42,"cut":false,"hidden":false,"merged":[[7,7,7,14],[0,1,0,2],[0,3,0,4],[0,5,0,8],[0,9,0,10],[0,11,0,14],[1,7,1,14],[2,7,2,14],[3,7,3,14],[4,7,4,14],[5,7,5,14],[6,7,6,14],[19,7,19,14],[8,7,8,14],[9,7,9,14],[10,7,10,14],[11,7,11,14],[12,7,12,14],[13,7,13,14],[14,7,14,14],[15,7,15,14],[16,7,16,14],[17,7,17,14],[18,7,18,14],[31,7,31,14],[20,7,20,14],[21,7,21,14],[22,7,22,14],[23,7,23,14],[24,7,24,14],[25,7,25,14],[26,7,26,14],[27,7,27,14],[28,7,28,14],[29,7,29,14],[30,7,30,14],[38,7,38,14],[39,7,39,14],[40,7,40,14],[41,7,41,14],[32,7,32,14],[33,7,33,14],[34,7,34,14],[35,7,35,14],[36,7,36,14],[37,7,37,14]]}
[2,{"$f":"IF(Q2=0,\"\",Q2)","v":""},null,"主題名",null,{"$f":"IF(R2=0,\"\",R2)","v":""},null,null,null,"資料名",null,{"$f":"IF(S2=0,\"\",S2)","v":""},null,null,null,null,null,null,{"$f":"個票!B6","v":"意欲的に考えることができた"},{"$f":"個票!B7","v":"登場人物を自分に置き換えて考えようとしている"},{"$f":"個票!B8","v":"友達の意見を参考にしながら多面的・多角的に考えようとしている"},{"$f":"個票!B9","v":"今までの自分を振り返りこれからの自分の生き方について考えようとしている"},{"$f":"個票!A10","v":"備考"},{"$f":"第1回!I2","v":0},{"$f":"第1回!J2","v":0},{"$f":"第1回!K2","v":0},{"$f":"第1回!L2","v":0},{"$f":"第1回!M2","v":0},{"$f":"第1回!N2","v":0},{"$f":"第1回!O2","v":0}]
["No","氏　　名","性別",{"$f":"IF(S1=0,\"\",S1)","v":"意欲的に考えることができた"},{"$f":"IF(T1=0,\"\",T1)","v":"登場人物を自分に置き換えて考えようとしている"},"友達の意見を参考にしながら多面的・多角的に考えようとしている","今までの自分を振り返りこれからの自分の生き方について考えようとしている","備考",null,null,null,null,null,null,null,null,{"$f":"個票!D3","v":0},{"$f":"個票!D4","v":0},{"$f":"個票!D5","v":0}]
[1,{"$f":"IF(Q3=0,\"\",Q3)","v":""},{"$f":"IF(R3=0,\"\",R3)","v":""},null,null,null,null,null,null,null,null,null,null,null,null,null,{"$f":"第1回!B3","v":0},{"$f":"第1回!C3","v":0}]
[2,{"$f":"IF(Q4=0,\"\",Q4)","v":""},{"$f":"IF(R4=0,\"\",R4)","v":""},null,null,null,null,null,null,null,null,null,null,null,null,null,{"$f":"第1回!B4","v":0},{"$f":"第1回!C4","v":0}]
[3,{"$f":"IF(Q5=0,\"\",Q5)","v":""},"",null,null,null,null,null,null,null,null,null,null,null,null,null,{"$f":"第1回!B5","v":0},{"$f":"第1回!C5","v":0}]
[4,"","",null,null,null,null,null,null,null,null,null,null,null,null,null,{"$f":"第1回!B6","v":0},{"$f":"第1回!C6","v":0}]
[5,"","",null,null,null,null,null,null,null,null,null,null,null,null,null,{"$f":"第1回!B7","v":0},{"$f":"第1回!C7","v":0}]
[6,"","",null,null,null,null,null,null,null,null,null,null,null,null,null,{"$f":"第1回!B8","v":0},{"$f":"第1回!C8","v":0}]
[7,"","",null,null,null,null,null,null,null,null,null,null,null,null,null,{"$f":"第1回!B9","v":0},{"$f":"第1回!C9","v":0}]
[8,"","",null,null,null,null,null,null,null,null,null,null,null,null,null,{"$f":"第1回!B10","v":0},{"$f":"第1回!C10","v":0}]
[9,"","",null,null,null,null,null,null,null,null,null,null,null,null,null,{"$f":"第1回!B11","v":0},{"$f":"第1回!C11","v":0}]
[10,"","",null,null,null,null,null,null,null,null,null,null,null,null,null,{"$f":"第1回!B12","v":0},{"$f":"第1回!C12","v":0}]
[11,"","",null,null,null,null,null,null,null,null,null,null,null,null,null,{"$f":"第1回!B13","v":0},{"$f":"第1回!C13","v":0}]
[12,"","",null,null,null,null,null,null,null,null,null,null,null,null,null,{"$f":"第1回!B14","v":0},{"$f":"第1回!C14","v":0}]
[13,"","",null,null,null,null,null,null,null,null,null,null,null,null,null,{"$f":"第1回!B15","v":0},{"$f":"第1回!C15","v":0}]
[14,"","",null,null,null,null,null,null,null,null,null,null,null,null,null,{"$f":"第1回!B16","v":0},{"$f":"第1回!C16","v":0}]
[15,"","",null,null,null,null,null,null,null,null,null,null,null,null,null,{"$f":"第1回!B17","v":0},{"$f":"第1回!C17","v":0}]
[16,"","",null,null,null,null,null,null,null,null,null,null,null,null,null,{"$f":"第1回!B18","v":0},{"$f":"第1回!C18","v":0}]
[17,"","",null,null,null,null,null,null,null,null,null,null,null,null,null,{"$f":"第1回!B19","v":0},{"$f":"第1回!C19","v":0}]
[18,"","",null,null,null,null,null,null,null,null,null,null,null,null,null,{"$f":"第1回!B20","v":0},{"$f":"第1回!C20","v":0}]
[19,"","",null,null,null,null,null,null,null,null,null,null,null,null,null,{"$f":"第1回!B21","v":0},{"$f":"第1回!C21","v":0}]
[20,"","",null,null,null,null,null,null,null,null,null,null,null,null,null,{"$f":"第1回!B22","v":0},{"$f":"第1回!C22","v":0}]
[21,"","",null,null,null,null,null,null,null,null,null,null,null,null,null,{"$f":"第1回!B23","v":0},{"$f":"第1回!C23","v":0}]
[22,"","",null,null,null,null,null,null,null,null,null,null,null,null,null,{"$f":"第1回!B24","v":0},{"$f":"第1回!C24","v":0}]
[23,"","",null,null,null,null,null,null,null,null,null,null,null,null,null,{"$f":"第1回!B25","v":0},{"$f":"第1回!C25","v":0}]
[24,"","",null,null,null,null,null,null,null,null,null,null,null,null,null,{"$f":"第1回!B26","v":0},{"$f":"第1回!C26","v":0}]
[25,"","",null,null,null,null,null,null,null,null,null,null,null,null,null,{"$f":"第1回!B27","v":0},{"$f":"第1回!C27","v":0}]
[26,"","",null,null,null,null,null,null,null,null,null,null,null,null,null,{"$f":"第1回!B28","v":0},{"$f":"第1回!C28","v":0}]
[27,"","",null,null,null,null,null,null,null,null,null,null,null,null,null,{"$f":"第1回!B29","v":0},{"$f":"第1回!C29","v":0}]
[28,"","",null,null,null,null,null,null,null,null,null,null,null,null,null,{"$f":"第1回!B30","v":0},{"$f":"第1回!C30","v":0}]
[29,"","",null,null,null,null,null,null,null,null,null,null,null,null,null,{"$f":"第1回!B31","v":0},{"$f":"第1回!C31","v":0}]
[30,"","",null,null,null,null,null,null,null,null,null,null,null,null,null,{"$f":"第1回!B32","v":0},{"$f":"第1回!C32","v":0}]
[31,"","",null,null,null,null,null,null,null,null,null,null,null,null,null,{"$f":"第1回!B33","v":0},{"$f":"第1回!C33","v":0}]
[32,"","",null,null,null,null,null,null,null,null,null,null,null,null,null,{"$f":"第1回!B34","v":0},{"$f":"第1回!C34","v":0}]
[33,"","",null,null,null,null,null,null,null,null,null,null,null,null,null,{"$f":"第1回!B35","v":0},{"$f":"第1回!C35","v":0}]
[34,"","",null,null,null,null,null,null,null,null,null,null,null,null,null,{"$f":"第1回!B36","v":0},{"$f":"第1回!C36","v":0}]
[35,"","",null,null,null,null,null,null,null,null,null,null,null,null,null,{"$f":"第1回!B37","v":0},{"$f":"第1回!C37","v":0}]
[36,"","",null,null,null,null,null,null,null,null,null,null,null,null,null,{"$f":"第1回!B38","v":0},{"$f":"第1回!C38","v":0}]
[37,"","",null,null,null,null,null,null,null,null,null,null,null,null,null,{"$f":"第1回!B39","v":0},{"$f":"第1回!C39","v":0}]
[38,"","",null,null,null,null,null,null,null,null,null,null,null,null,null,{"$f":"第1回!B40","v":0},{"$f":"第1回!C40","v":0}]
[39,"","",null,null,null,null,null,null,null,null,null,null,null,null,null,{"$f":"第1回!B41","v":0},{"$f":"第1回!C41","v":0}]
[40,"","",null,null,null,null,null,null,null,null,null,null,null,null,null,{"$f":"第1回!B42","v":0},{"$f":"第1回!C42","v":0}]

{"sheet":"第3回","index":3,"n_rows":42,"n_cols":30,"rows_kept":42,"cut":false,"hidden":false,"merged":[[7,7,7,14],[0,1,0,2],[0,3,0,4],[0,5,0,8],[0,9,0,10],[0,11,0,14],[1,7,1,14],[2,7,2,14],[3,7,3,14],[4,7,4,14],[5,7,5,14],[6,7,6,14],[19,7,19,14],[8,7,8,14],[9,7,9,14],[10,7,10,14],[11,7,11,14],[12,7,12,14],[13,7,13,14],[14,7,14,14],[15,7,15,14],[16,7,16,14],[17,7,17,14],[18,7,18,14],[31,7,31,14],[20,7,20,14],[21,7,21,14],[22,7,22,14],[23,7,23,14],[24,7,24,14],[25,7,25,14],[26,7,26,14],[27,7,27,14],[28,7,28,14],[29,7,29,14],[30,7,30,14],[38,7,38,14],[39,7,39,14],[40,7,40,14],[41,7,41,14],[32,7,32,14],[33,7,33,14],[34,7,34,14],[35,7,35,14],[36,7,36,14],[37,7,37,14]]}
[3,{"$f":"IF(Q2=0,\"\",Q2)","v":""},null,"主題名",null,{"$f":"IF(R2=0,\"\",R2)","v":""},null,null,null,"資料名",null,{"$f":"IF(S2=0,\"\",S2)","v":""},null,null,null,null,null,null,{"$f":"個票!B6","v":"意欲的に考えることができた"},{"$f":"個票!B7","v":"登場人物を自分に置き換えて考えようとしている"},{"$f":"個票!B8","v":"友達の意見を参考にしながら多面的・多角的に考えようとしている"},{"$f":"個票!B9","v":"今までの自分を振り返りこれからの自分の生き方について考えようとしている"},{"$f":"個票!A10","v":"備考"},{"$f":"第1回!I2","v":0},{"$f":"第1回!J2","v":0},{"$f":"第1回!K2","v":0},{"$f":"第1回!L2","v":0},{"$f":"第1回!M2","v":0},{"$f":"第1回!N2","v":0},{"$f":"第1回!O2","v":0}]
["No","氏　　名","性別",{"$f":"IF(S1=0,\"\",S1)","v":"意欲的に考えることができた"},{"$f":"IF(T1=0,\"\",T1)","v":"登場人物を自分に置き換えて考えようとしている"},"友達の意見を参考にしながら多面的・多角的に考えようとしている","今までの自分を振り返りこれからの自分の生き方について考えようとしている","備考",null,null,null,null,null,null,null,null,{"$f":"個票!E3","v":0},{"$f":"個票!E4","v":0},{"$f":"個票!E5","v":0}]
[1,{"$f":"IF(Q3=0,\"\",Q3)","v":""},{"$f":"IF(R3=0,\"\",R3)","v":""},null,null,null,null,null,null,null,null,null,null,null,null,null,{"$f":"第1回!B3","v":0},{"$f":"第1回!C3","v":0}]
[2,{"$f":"IF(Q4=0,\"\",Q4)","v":""},"",null,null,null,null,null,null,null,null,null,null,null,null,null,{"$f":"第1回!B4","v":0},{"$f":"第1回!C4","v":0}]
[3,{"$f":"IF(Q5=0,\"\",Q5)","v":""},"",null,null,null,null,null,null,null,null,null,null,null,null,null,{"$f":"第1回!B5","v":0},{"$f":"第1回!C5","v":0}]
[4,"","",null,null,null,null,null,null,null,null,null,null,null,null,null,{"$f":"第1回!B6","v":0},{"$f":"第1回!C6","v":0}]
[5,"","",null,null,null,null,null,null,null,null,null,null,null,null,null,{"$f":"第1回!B7","v":0},{"$f":"第1回!C7","v":0}]
[6,"","",null,null,null,null,null,null,null,null,null,null,null,null,null,{"$f":"第1回!B8","v":0},{"$f":"第1回!C8","v":0}]
[7,"","",null,null,null,null,null,null,null,null,null,null,null,null,null,{"$f":"第1回!B9","v":0},{"$f":"第1回!C9","v":0}]
[8,"","",null,null,null,null,null,null,null,null,null,null,null,null,null,{"$f":"第1回!B10","v":0},{"$f":"第1回!C10","v":0}]
[9,"","",null,null,null,null,null,null,null,null,null,null,null,null,null,{"$f":"第1回!B11","v":0},{"$f":"第1回!C11","v":0}]
[10,"","",null,null,null,null,null,null,null,null,null,null,null,null,null,{"$f":"第1回!B12","v":0},{"$f":"第1回!C12","v":0}]
[11,"","",null,null,null,null,null,null,null,null,null,null,null,null,null,{"$f":"第1回!B13","v":0},{"$f":"第1回!C13","v":0}]
[12,"","",null,null,null,null,null,null,null,null,null,null,null,null,null,{"$f":"第1回!B14","v":0},{"$f":"第1回!C14","v":0}]
[13,"","",null,null,null,null,null,null,null,null,null,null,null,null,null,{"$f":"第1回!B15","v":0},{"$f":"第1回!C15","v":0}]
[14,"","",null,null,null,null,null,null,null,null,null,null,null,null,null,{"$f":"第1回!B16","v":0},{"$f":"第1回!C16","v":0}]
[15,"","",null,null,null,null,null,null,null,null,null,null,null,null,null,{"$f":"第1回!B17","v":0},{"$f":"第1回!C17","v":0}]
[16,"","",null,null,null,null,null,null,null,null,null,null,null,null,null,{"$f":"第1回!B18","v":0},{"$f":"第1回!C18","v":0}]
[17,"","",null,null,null,null,null,null,null,null,null,null,null,null,null,{"$f":"第1回!B19","v":0},{"$f":"第1回!C19","v":0}]
[18,"","",null,null,null,null,null,null,null,null,null,null,null,null,null,{"$f":"第1回!B20","v":0},{"$f":"第1回!C20","v":0}]
[19,"","",null,null,null,null,null,null,null,null,null,null,null,null,null,{"$f":"第1回!B21","v":0},{"$f":"第1回!C21","v":0}]
[20,"","",null,null,null,null,null,null,null,null,null,null,null,null,null,{"$f":"第1回!B22","v":0},{"$f":"第1回!C22","v":0}]
[21,"","",null,null,null,null,null,null,null,null,null,null,null,null,null,{"$f":"第1回!B23","v":0},{"$f":"第1回!C23","v":0}]
[22,"","",null,null,null,null,null,null,null,null,null,null,null,null,null,{"$f":"第1回!B24","v":0},{"$f":"第1回!C24","v":0}]
[23,"","",null,null,null,null,null,null,null,null,null,null,null,null,null,{"$f":"第1回!B25","v":0},{"$f":"第1回!C25","v":0}]
[24,"","",null,null,null,null,null,null,null,null,null,null,null,null,null,{"$f":"第1回!B26","v":0},{"$f":"第1回!C26","v":0}]
[25,"","",null,null,null,null,null,null,null,null,null,null,null,null,null,{"$f":"第1回!B27","v":0},{"$f":"第1回!C27","v":0}]
[26,"","",null,null,null,null,null,null,null,null,null,null,null,null,null,{"$f":"第1回!B28","v":0},{"$f":"第1回!C28","v":0}]
[27,"","",null,null,null,null,null,null,null,null,null,null,null,null,null,{"$f":"第1回!B29","v":0},{"$f":"第1回!C29","v":0}]
[28,"","",null,null,null,null,null,null,null,null,null,null,null,null,null,{"$f":"第1回!B30","v":0},{"$f":"第1回!C30","v":0}]
[29,"","",null,null,null,null,null,null,null,null,null,null,null,null,null,{"$f":"第1回!B31","v":0},{"$f":"第1回!C31","v":0}]
[30,"","",null,null,null,null,null,null,null,null,null,null,null,null,null,{"$f":"第1回!B32","v":0},{"$f":"第1回!C32","v":0}]
[31,"","",null,null,null,null,null,null,null,null,null,null,null,null,null,{"$f":"第1回!B33","v":0},{"$f":"第1回!C33","v":0}]
[32,"","",null,null,null,null,null,null,null,null,null,null,null,null,null,{"$f":"第1回!B34","v":0},{"$f":"第1回!C34","v":0}]
[33,"","",null,null,null,null,null,null,null,null,null,null,null,null,null,{"$f":"第1回!B35","v":0},{"$f":"第1回!C35","v":0}]
[34,"","",null,null,null,null,null,null,null,null,null,null,null,null,null,{"$f":"第1回!B36","v":0},{"$f":"第1回!C36","v":0}]
[35,"","",null,null,null,null,null,null,null,null,null,null,null,null,null,{"$f":"第1回!B37","v":0},{"$f":"第1回!C37","v":0}]
[36,"","",null,null,null,null,null,null,null,null,null,null,null,null,null,{"$f":"第1回!B38","v":0},{"$f":"第1回!C38","v":0}]
[37,"","",null,null,null,null,null,null,null,null,null,null,null,null,null,{"$f":"第1回!B39","v":0},{"$f":"第1回!C39","v":0}]
[38,"","",null,null,null,null,null,null,null,null,null,null,null,null,null,{"$f":"第1回!B40","v":0},{"$f":"第1回!C40","v":0}]
[39,"","",null,null,null,null,null,null,null,null,null,null,null,null,null,{"$f":"第1回!B41","v":0},{"$f":"第1回!C41","v":0}]
[40,"","",null,null,null,null,null,null,null,null,null,null,null,null,null,{"$f":"第1回!B42","v":0},{"$f":"第1回!C42","v":0}]

{"sheet":"第4回","index":4,"n_rows":42,"n_cols":30,"rows_kept":42,"cut":false,"hidden":false,"merged":[[38,7,38,14],[39,7,39,14],[40,7,40,14],[41,7,41,14],[32,7,32,14],[33,7,33,14],[34,7,34,14],[35,7,35,14],[36,7,36,14],[37,7,37,14],[26,7,26,14],[27,7,27,14],[28,7,28,14],[29,7,29,14],[30,7,30,14],[31,7,31,14],[20,7,20,14],[21,7,21,14],[22,7,22,14],[23,7,23,14],[24,7,24,14],[25,7,25,14],[14,7,14,14],[15,7,15,14],[16,7,16,14],[17,7,17,14],[18,7,18,14],[19,7,19,14],[8,7,8,14],[9,7,9,14],[10,7,10,14],[11,7,11,14],[12,7,12,14],[13,7,13,14],[2,7,2,14],[3,7,3,14],[4,7,4,14],[5,7,5,14],[6,7,6,14],[7,7,7,14],[0,1,0,2],[0,3,0,4],[0,5,0,8],[0,9,0,10],[0,11,0,14],[1,7,1,14]]}
[4,{"$f":"IF(Q2=0,\"\",Q2)","v":""},null,"主題名",null,{"$f":"IF(R2=0,\"\",R2)","v":""},null,null,null,"資料名",null,{"$f":"IF(S2=0,\"\",S2)","v":""},null,null,null,null,null,null,{"$f":"個票!B6","v":"意欲的に考えることができた"},{"$f":"個票!B7","v":"登場人物を自分に置き換えて考えようとしている"},{"$f":"個票!B8","v":"友達の意見を参考にしながら多面的・多角的に考えようとしている"},{"$f":"個票!B9","v":"今までの自分を振り返りこれからの自分の生き方について考えようとしている"},{"$f":"個票!A10","v":"備考"},{"$f":"第1回!I2","v":0},{"$f":"第1回!J2","v":0},{"$f":"第1回!K2","v":0},{"$f":"第1回!L2","v":0},{"$f":"第1回!M2","v":0},{"$f":"第1回!N2","v":0},{"$f":"第1回!O2","v":0}]
["No","氏　　名","性別",{"$f":"IF(S1=0,\"\",S1)","v":"意欲的に考えることができた"},{"$f":"IF(T1=0,\"\",T1)","v":"登場人物を自分に置き換えて考えようとしている"},"友達の意見を参考にしながら多面的・多角的に考えようとしている","今までの自分を振り返りこれからの自分の生き方について考えようとしている","備考",null,null,null,null,null,null,null,null,{"$f":"個票!F3","v":0},{"$f":"個票!F4","v":0},{"$f":"個票!F5","v":0}]
[1,{"$f":"IF(Q3=0,\"\",Q3)","v":""},{"$f":"IF(R3=0,\"\",R3)","v":""},null,null,null,null,null,null,null,null,null,null,null,null,null,{"$f":"第1回!B3","v":0},{"$f":"第1回!C3","v":0}]
[2,{"$f":"IF(Q4=0,\"\",Q4)","v":""},"",null,null,null,null,null,null,null,null,null,null,null,null,null,{"$f":"第1回!B4","v":0},{"$f":"第1回!C4","v":0}]
[3,{"$f":"IF(Q5=0,\"\",Q5)","v":""},"",null,null,null,null,null,null,null,null,null,null,null,null,null,{"$f":"第1回!B5","v":0},{"$f":"第1回!C5","v":0}]
[4,"","",null,null,null,null,null,null,null,null,null,null,null,null,null,{"$f":"第1回!B6","v":0},{"$f":"第1回!C6","v":0}]
[5,"","",null,null,null,null,null,null,null,null,null,null,null,null,null,{"$f":"第1回!B7","v":0},{"$f":"第1回!C7","v":0}]
[6,"","",null,null,null,null,null,null,null,null,null,null,null,null,null,{"$f":"第1回!B8","v":0},{"$f":"第1回!C8","v":0}]
[7,"","",null,null,null,null,null,null,null,null,null,null,null,null,null,{"$f":"第1回!B9","v":0},{"$f":"第1回!C9","v":0}]
[8,"","",null,null,null,null,null,null,null,null,null,null,null,null,null,{"$f":"第1回!B10","v":0},{"$f":"第1回!C10","v":0}]
[9,"","",null,null,null,null,null,null,null,null,null,null,null,null,null,{"$f":"第1回!B11","v":0},{"$f":"第1回!C11","v":0}]
[10,"","",null,null,null,null,null,null,null,null,null,null,null,null,null,{"$f":"第1回!B12","v":0},{"$f":"第1回!C12","v":0}]
[11,"","",null,null,null,null,null,null,null,null,null,null,null,null,null,{"$f":"第1回!B13","v":0},{"$f":"第1回!C13","v":0}]
[12,"","",null,null,null,null,null,null,null,null,null,null,null,null,null,{"$f":"第1回!B14","v":0},{"$f":"第1回!C14","v":0}]
[13,"","",null,null,null,null,null,null,null,null,null,null,null,null,null,{"$f":"第1回!B15","v":0},{"$f":"第1回!C15","v":0}]
[14,"","",null,null,null,null,null,null,null,null,null,null,null,null,null,{"$f":"第1回!B16","v":0},{"$f":"第1回!C16","v":0}]
[15,"","",null,null,null,null,null,null,null,null,null,null,null,null,null,{"$f":"第1回!B17","v":0},{"$f":"第1回!C17","v":0}]
[16,"","",null,null,null,null,null,null,null,null,null,null,null,null,null,{"$f":"第1回!B18","v":0},{"$f":"第1回!C18","v":0}]
[17,"","",null,null,null,null,null,null,null,null,null,null,null,null,null,{"$f":"第1回!B19","v":0},{"$f":"第1回!C19","v":0}]
[18,"","",null,null,null,null,null,null,null,null,null,null,null,null,null,{"$f":"第1回!B20","v":0},{"$f":"第1回!C20","v":0}]
[19,"","",null,null,null,null,null,null,null,null,null,null,null,null,null,{"$f":"第1回!B21","v":0},{"$f":"第1回!C21","v":0}]
[20,"","",null,null,null,null,null,null,null,null,null,null,null,null,null,{"$f":"第1回!B22","v":0},{"$f":"第1回!C22","v":0}]
[21,"","",null,null,null,null,null,null,null,null,null,null,null,null,null,{"$f":"第1回!B23","v":0},{"$f":"第1回!C23","v":0}]
[22,"","",null,null,null,null,null,null,null,null,null,null,null,null,null,{"$f":"第1回!B24","v":0},{"$f":"第1回!C24","v":0}]
[23,"","",null,null,null,null,null,null,null,null,null,null,null,null,null,{"$f":"第1回!B25","v":0},{"$f":"第1回!C25","v":0}]
[24,"","",null,null,null,null,null,null,null,null,null,null,null,null,null,{"$f":"第1回!B26","v":0},{"$f":"第1回!C26","v":0}]
[25,"","",null,null,null,null,null,null,null,null,null,null,null,null,null,{"$f":"第1回!B27","v":0},{"$f":"第1回!C27","v":0}]
[26,"","",null,null,null,null,null,null,null,null,null,null,null,null,null,{"$f":"第1回!B28","v":0},{"$f":"第1回!C28","v":0}]
[27,"","",null,null,null,null,null,null,null,null,null,null,null,null,null,{"$f":"第1回!B29","v":0},{"$f":"第1回!C29","v":0}]
[28,"","",null,null,null,null,null,null,null,null,null,null,null,null,null,{"$f":"第1回!B30","v":0},{"$f":"第1回!C30","v":0}]
[29,"","",null,null,null,null,null,null,null,null,null,null,null,null,null,{"$f":"第1回!B31","v":0},{"$f":"第1回!C31","v":0}]
[30,"","",null,null,null,null,null,null,null,null,null,null,null,null,null,{"$f":"第1回!B32","v":0},{"$f":"第1回!C32","v":0}]
[31,"","",null,null,null,null,null,null,null,null,null,null,null,null,null,{"$f":"第1回!B33","v":0},{"$f":"第1回!C33","v":0}]
[32,"","",null,null,null,null,null,null,null,null,null,null,null,null,null,{"$f":"第1回!B34","v":0},{"$f":"第1回!C34","v":0}]
[33,"","",null,null,null,null,null,null,null,null,null,null,null,null,null,{"$f":"第1回!B35","v":0},{"$f":"第1回!C35","v":0}]
[34,"","",null,null,null,null,null,null,null,null,null,null,null,null,null,{"$f":"第1回!B36","v":0},{"$f":"第1回!C36","v":0}]
[35,"","",null,null,null,null,null,null,null,null,null,null,null,null,null,{"$f":"第1回!B37","v":0},{"$f":"第1回!C37","v":0}]
[36,"","",null,null,null,null,null,null,null,null,null,null,null,null,null,{"$f":"第1回!B38","v":0},{"$f":"第1回!C38","v":0}]
[37,"","",null,null,null,null,null,null,null,null,null,null,null,null,null,{"$f":"第1回!B39","v":0},{"$f":"第1回!C39","v":0}]
[38,"","",null,null,null,null,null,null,null,null,null,null,null,null,null,{"$f":"第1回!B40","v":0},{"$f":"第1回!C40","v":0}]
[39,"","",null,null,null,null,null,null,null,null,null,null,null,null,null,{"$f":"第1回!B41","v":0},{"$f":"第1回!C41","v":0}]
[40,"","",null,null,null,null,null,null,null,null,null,null,null,null,null,{"$f":"第1回!B42","v":0},{"$f":"第1回!C42","v":0}]

{"sheet":"第5回","index":5,"n_rows":42,"n_cols":30,"rows_kept":42,"cut":false,"hidden":false,"merged":[[38,7,38,14],[39,7,39,14],[40,7,40,14],[41,7,41,14],[32,7,32,14],[33,7,33,14],[34,7,34,14],[35,7,35,14],[36,7,36,14],[37,7,37,14],[26,7,26,14],[27,7,27,14],[28,7,28,14],[29,7,29,14],[30,7,30,14],[31,7,31,14],[20,7,20,14],[21,7,21,14],[22,7,22,14],[23,7,23,14],[24,7,24,14],[25,7,25,14],[14,7,14,14],[15,7,15,14],[16,7,16,14],[17,7,17,14],[18,7,18,14],[19,7,19,14],[8,7,8,14],[9,7,9,14],[10,7,10,14],[11,7,11,14],[12,7,12,14],[13,7,13,14],[2,7,2,14],[3,7,3,14],[4,7,4,14],[5,7,5,14],[6,7,6,14],[7,7,7,14],[0,1,0,2],[0,3,0,4],[0,5,0,8],[0,9,0,10],[0,11,0,14],[1,7,1,14]]}
[5,{"$f":"IF(Q2=0,\"\",Q2)","v":""},null,"主題名",null,{"$f":"IF(R2=0,\"\",R2)","v":""},null,null,null,"資料名",null,{"$f":"IF(S2=0,\"\",S2)","v":""},null,null,null,null,null,null,{"$f":"個票!B6","v":"意欲的に考えることができた"},{"$f":"個票!B7","v":"登場人物を自分に置き換えて考えようとしている"},{"$f":"個票!B8","v":"友達の意見を参考にしながら多面的・多角的に考えようとしている"},{"$f":"個票!B9","v":"今までの自分を振り返りこれからの自分の生き方について考えようとしている"},{"$f":"個票!A10","v":"備考"},{"$f":"第1回!I2","v":0},{"$f":"第1回!J2","v":0},{"$f":"第1回!K2","v":0},{"$f":"第1回!L2","v":0},{"$f":"第1回!M2","v":0},{"$f":"第1回!N2","v":0},{"$f":"第1回!O2","v":0}]
["No","氏　　名","性別",{"$f":"IF(S1=0,\"\",S1)","v":"意欲的に考えることができた"},{"$f":"IF(T1=0,\"\",T1)","v":"登場人物を自分に置き換えて考えようとしている"},"友達の意見を参考にしながら多面的・多角的に考えようとしている","今までの自分を振り返りこれからの自分の生き方について考えようとしている","備考",null,null,null,null,null,null,null,null,{"$f":"個票!G3","v":0},{"$f":"個票!G4","v":0},{"$f":"個票!G5","v":0}]
[1,{"$f":"IF(Q3=0,\"\",Q3)","v":""},{"$f":"IF(R3=0,\"\",R3)","v":""},null,null,null,null,null,null,null,null,null,null,null,null,null,{"$f":"第1回!B3","v":0},{"$f":"第1回!C3","v":0}]
[2,{"$f":"IF(Q4=0,\"\",Q4)","v":""},"",null,null,null,null,null,null,null,null,null,null,null,null,null,{"$f":"第1回!B4","v":0},{"$f":"第1回!C4","v":0}]
[3,{"$f":"IF(Q5=0,\"\",Q5)","v":""},"",null,null,null,null,null,null,null,null,null,null,null,null,null,{"$f":"第1回!B5","v":0},{"$f":"第1回!C5","v":0}]
[4,"","",null,null,null,null,null,null,null,null,null,null,null,null,null,{"$f":"第1回!B6","v":0},{"$f":"第1回!C6","v":0}]
[5,"","",null,null,null,null,null,null,null,null,null,null,null,null,null,{"$f":"第1回!B7","v":0},{"$f":"第1回!C7","v":0}]
[6,"","",null,null,null,null,null,null,null,null,null,null,null,null,null,{"$f":"第1回!B8","v":0},{"$f":"第1回!C8","v":0}]
[7,"","",null,null,null,null,null,null,null,null,null,null,null,null,null,{"$f":"第1回!B9","v":0},{"$f":"第1回!C9","v":0}]
[8,"","",null,null,null,null,null,null,null,null,null,null,null,null,null,{"$f":"第1回!B10","v":0},{"$f":"第1回!C10","v":0}]
[9,"","",null,null,null,null,null,null,null,null,null,null,null,null,null,{"$f":"第1回!B11","v":0},{"$f":"第1回!C11","v":0}]
[10,"","",null,null,null,null,null,null,null,null,null,null,null,null,null,{"$f":"第1回!B12","v":0},{"$f":"第1回!C12","v":0}]
[11,"","",null,null,null,null,null,null,null,null,null,null,null,null,null,{"$f":"第1回!B13","v":0},{"$f":"第1回!C13","v":0}]
[12,"","",null,null,null,null,null,null,null,null,null,null,null,null,null,{"$f":"第1回!B14","v":0},{"$f":"第1回!C14","v":0}]
[13,"","",null,null,null,null,null,null,null,null,null,null,null,null,null,{"$f":"第1回!B15","v":0},{"$f":"第1回!C15","v":0}]
[14,"","",null,null,null,null,null,null,null,null,null,null,null,null,null,{"$f":"第1回!B16","v":0},{"$f":"第1回!C16","v":0}]
[15,"","",null,null,null,null,null,null,null,null,null,null,null,null,null,{"$f":"第1回!B17","v":0},{"$f":"第1回!C17","v":0}]
[16,"","",null,null,null,null,null,null,null,null,null,null,null,null,null,{"$f":"第1回!B18","v":0},{"$f":"第1回!C18","v":0}]
[17,"","",null,null,null,null,null,null,null,null,null,null,null,null,null,{"$f":"第1回!B19","v":0},{"$f":"第1回!C19","v":0}]
[18,"","",null,null,null,null,null,null,null,null,null,null,null,null,null,{"$f":"第1回!B20","v":0},{"$f":"第1回!C20","v":0}]
[19,"","",null,null,null,null,null,null,null,null,null,null,null,null,null,{"$f":"第1回!B21","v":0},{"$f":"第1回!C21","v":0}]
[20,"","",null,null,null,null,null,null,null,null,null,null,null,null,null,{"$f":"第1回!B22","v":0},{"$f":"第1回!C22","v":0}]
[21,"","",null,null,null,null,null,null,null,null,null,null,null,null,null,{"$f":"第1回!B23","v":0},{"$f":"第1回!C23","v":0}]
[22,"","",null,null,null,null,null,null,null,null,null,null,null,null,null,{"$f":"第1回!B24","v":0},{"$f":"第1回!C24","v":0}]
[23,"","",null,null,null,null,null,null,null,null,null,null,null,null,null,{"$f":"第1回!B25","v":0},{"$f":"第1回!C25","v":0}]
[24,"","",null,null,null,null,null,null,null,null,null,null,null,null,null,{"$f":"第1回!B26","v":0},{"$f":"第1回!C26","v":0}]
[25,"","",null,null,null,null,null,null,null,null,null,null,null,null,null,{"$f":"第1回!B27","v":0},{"$f":"第1回!C27","v":0}]
[26,"","",null,null,null,null,null,null,null,null,null,null,null,null,null,{"$f":"第1回!B28","v":0},{"$f":"第1回!C28","v":0}]
[27,"","",null,null,null,null,null,null,null,null,null,null,null,null,null,{"$f":"第1回!B29","v":0},{"$f":"第1回!C29","v":0}]
[28,"","",null,null,null,null,null,null,null,null,null,null,null,null,null,{"$f":"第1回!B30","v":0},{"$f":"第1回!C30","v":0}]
[29,"","",null,null,null,null,null,null,null,null,null,null,null,null,null,{"$f":"第1回!B31","v":0},{"$f":"第1回!C31","v":0}]
[30,"","",null,null,null,null,null,null,null,null,null,null,null,null,null,{"$f":"第1回!B32","v":0},{"$f":"第1回!C32","v":0}]
[31,"","",null,null,null,null,null,null,null,null,null,null,null,null,null,{"$f":"第1回!B33","v":0},{"$f":"第1回!C33","v":0}]
[32,"","",null,null,null,null,null,null,null,null,null,null,null,null,null,{"$f":"第1回!B34","v":0},{"$f":"第1回!C34","v":0}]
[33,"","",null,null,null,null,null,null,null,null,null,null,null,null,null,{"$f":"第1回!B35","v":0},{"$f":"第1回!C35","v":0}]
[34,"","",null,null,null,null,null,null,null,null,null,null,null,null,null,{"$f":"第1回!B36","v":0},{"$f":"第1回!C36","v":0}]
[35,"","",null,null,null,null,null,null,null,null,null,null,null,null,null,{"$f":"第1回!B37","v":0},{"$f":"第1回!C37","v":0}]
[36,"","",null,null,null,null,null,null,null,null,null,null,null,null,null,{"$f":"第1回!B38","v":0},{"$f":"第1回!C38","v":0}]
[37,"","",null,null,null,null,null,null,null,null,null,null,null,null,null,{"$f":"第1回!B39","v":0},{"$f":"第1回!C39","v":0}]
[38,"","",null,null,null,null,null,null,null,null,null,null,null,null,null,{"$f":"第1回!B40","v":0},{"$f":"第1回!C40","v":0}]
[39,"","",null,null,null,null,null,null,null,null,null,null,null,null,null,{"$f":"第1回!B41","v":0},{"$f":"第1回!C41","v":0}]
[40,"","",null,null,null,null,null,null,null,null,null,null,null,null,null,{"$f":"第1回!B42","v":0},{"$f":"第1回!C42","v":0}]

{"sheet":"第6回","index":6,"n_rows":42,"n_cols":30,"rows_kept":42,"cut":false,"hidden":false,"merged":[[38,7,38,14],[39,7,39,14],[40,7,40,14],[41,7,41,14],[32,7,32,14],[33,7,33,14],[34,7,34,14],[35,7,35,14],[36,7,36,14],[37,7,37,14],[26,7,26,14],[27,7,27,14],[28,7,28,14],[29,7,29,14],[30,7,30,14],[31,7,31,14],[20,7,20,14],[21,7,21,14],[22,7,22,14],[23,7,23,14],[24,7,24,14],[25,7,25,14],[14,7,14,14],[15,7,15,14],[16,7,16,14],[17,7,17,14],[18,7,18,14],[19,7,19,14],[8,7,8,14],[9,7,9,14],[10,7,10,14],[11,7,11,14],[12,7,12,14],[13,7,13,14],[2,7,2,14],[3,7,3,14],[4,7,4,14],[5,7,5,14],[6,7,6,14],[7,7,7,14],[0,1,0,2],[0,3,0,4],[0,5,0,8],[0,9,0,10],[0,11,0,14],[1,7,1,14]]}
[6,{"$f":"IF(Q2=0,\"\",Q2)","v":""},null,"主題名",null,{"$f":"IF(R2=0,\"\",R2)","v":""},null,null,null,"資料名",null,{"$f":"IF(S2=0,\"\",S2)","v":""},null,null,null,null,null,null,{"$f":"個票!B6","v":"意欲的に考えることができた"},{"$f":"個票!B7","v":"登場人物を自分に置き換えて考えようとしている"},{"$f":"個票!B8","v":"友達の意見を参考にしながら多面的・多角的に考えようとしている"},{"$f":"個票!B9","v":"今までの自分を振り返りこれからの自分の生き方について考えようとしている"},{"$f":"個票!A10","v":"備考"},{"$f":"第1回!I2","v":0},{"$f":"第1回!J2","v":0},{"$f":"第1回!K2","v":0},{"$f":"第1回!L2","v":0},{"$f":"第1回!M2","v":0},{"$f":"第1回!N2","v":0},{"$f":"第1回!O2","v":0}]
["No","氏　　名","性別",{"$f":"IF(S1=0,\"\",S1)","v":"意欲的に考えることができた"},{"$f":"IF(T1=0,\"\",T1)","v":"登場人物を自分に置き換えて考えようとしている"},"友達の意見を参考にしながら多面的・多角的に考えようとしている","今までの自分を振り返りこれからの自分の生き方について考えようとしている","備考",null,null,null,null,null,null,null,null,{"$f":"個票!H3","v":0},{"$f":"個票!H4","v":0},{"$f":"個票!H5","v":0}]
[1,{"$f":"IF(Q3=0,\"\",Q3)","v":""},{"$f":"IF(R3=0,\"\",R3)","v":""},null,null,null,null,null,null,null,null,null,null,null,null,null,{"$f":"第1回!B3","v":0},{"$f":"第1回!C3","v":0}]
[2,{"$f":"IF(Q4=0,\"\",Q4)","v":""},"",null,null,null,null,null,null,null,null,null,null,null,null,null,{"$f":"第1回!B4","v":0},{"$f":"第1回!C4","v":0}]
[3,{"$f":"IF(Q5=0,\"\",Q5)","v":""},"",null,null,null,null,null,null,null,null,null,null,null,null,null,{"$f":"第1回!B5","v":0},{"$f":"第1回!C5","v":0}]
[4,"","",null,null,null,null,null,null,null,null,null,null,null,null,null,{"$f":"第1回!B6","v":0},{"$f":"第1回!C6","v":0}]
[5,"","",null,null,null,null,null,null,null,null,null,null,null,null,null,{"$f":"第1回!B7","v":0},{"$f":"第1回!C7","v":0}]
[6,"","",null,null,null,null,null,null,null,null,null,null,null,null,null,{"$f":"第1回!B8","v":0},{"$f":"第1回!C8","v":0}]
[7,"","",null,null,null,null,null,null,null,null,null,null,null,null,null,{"$f":"第1回!B9","v":0},{"$f":"第1回!C9","v":0}]
[8,"","",null,null,null,null,null,null,null,null,null,null,null,null,null,{"$f":"第1回!B10","v":0},{"$f":"第1回!C10","v":0}]
[9,"","",null,null,null,null,null,null,null,null,null,null,null,null,null,{"$f":"第1回!B11","v":0},{"$f":"第1回!C11","v":0}]
[10,"","",null,null,null,null,null,null,null,null,null,null,null,null,null,{"$f":"第1回!B12","v":0},{"$f":"第1回!C12","v":0}]
[11,"","",null,null,null,null,null,null,null,null,null,null,null,null,null,{"$f":"第1回!B13","v":0},{"$f":"第1回!C13","v":0}]
[12,"","",null,null,null,null,null,null,null,null,null,null,null,null,null,{"$f":"第1回!B14","v":0},{"$f":"第1回!C14","v":0}]
[13,"","",null,null,null,null,null,null,null,null,null,null,null,null,null,{"$f":"第1回!B15","v":0},{"$f":"第1回!C15","v":0}]
[14,"","",null,null,null,null,null,null,null,null,null,null,null,null,null,{"$f":"第1回!B16","v":0},{"$f":"第1回!C16","v":0}]
[15,"","",null,null,null,null,null,null,null,null,null,null,null,null,null,{"$f":"第1回!B17","v":0},{"$f":"第1回!C17","v":0}]
[16,"","",null,null,null,null,null,null,null,null,null,null,null,null,null,{"$f":"第1回!B18","v":0},{"$f":"第1回!C18","v":0}]
[17,"","",null,null,null,null,null,null,null,null,null,null,null,null,null,{"$f":"第1回!B19","v":0},{"$f":"第1回!C19","v":0}]
[18,"","",null,null,null,null,null,null,null,null,null,null,null,null,null,{"$f":"第1回!B20","v":0},{"$f":"第1回!C20","v":0}]
[19,"","",null,null,null,null,null,null,null,null,null,null,null,null,null,{"$f":"第1回!B21","v":0},{"$f":"第1回!C21","v":0}]
[20,"","",null,null,null,null,null,null,null,null,null,null,null,null,null,{"$f":"第1回!B22","v":0},{"$f":"第1回!C22","v":0}]
[21,"","",null,null,null,null,null,null,null,null,null,null,null,null,null,{"$f":"第1回!B23","v":0},{"$f":"第1回!C23","v":0}]
[22,"","",null,null,null,null,null,null,null,null,null,null,null,null,null,{"$f":"第1回!B24","v":0},{"$f":"第1回!C24","v":0}]
[23,"","",null,null,null,null,null,null,null,null,null,null,null,null,null,{"$f":"第1回!B25","v":0},{"$f":"第1回!C25","v":0}]
[24,"","",null,null,null,null,null,null,null,null,null,null,null,null,null,{"$f":"第1回!B26","v":0},{"$f":"第1回!C26","v":0}]
[25,"","",null,null,null,null,null,null,null,null,null,null,null,null,null,{"$f":"第1回!B27","v":0},{"$f":"第1回!C27","v":0}]
[26,"","",null,null,null,null,null,null,null,null,null,null,null,null,null,{"$f":"第1回!B28","v":0},{"$f":"第1回!C28","v":0}]
[27,"","",null,null,null,null,null,null,null,null,null,null,null,null,null,{"$f":"第1回!B29","v":0},{"$f":"第1回!C29","v":0}]
[28,"","",null,null,null,null,null,null,null,null,null,null,null,null,null,{"$f":"第1回!B30","v":0},{"$f":"第1回!C30","v":0}]
[29,"","",null,null,null,null,null,null,null,null,null,null,null,null,null,{"$f":"第1回!B31","v":0},{"$f":"第1回!C31","v":0}]
[30,"","",null,null,null,null,null,null,null,null,null,null,null,null,null,{"$f":"第1回!B32","v":0},{"$f":"第1回!C32","v":0}]
[31,"","",null,null,null,null,null,null,null,null,null,null,null,null,null,{"$f":"第1回!B33","v":0},{"$f":"第1回!C33","v":0}]
[32,"","",null,null,null,null,null,null,null,null,null,null,null,null,null,{"$f":"第1回!B34","v":0},{"$f":"第1回!C34","v":0}]
[33,"","",null,null,null,null,null,null,null,null,null,null,null,null,null,{"$f":"第1回!B35","v":0},{"$f":"第1回!C35","v":0}]
[34,"","",null,null,null,null,null,null,null,null,null,null,null,null,null,{"$f":"第1回!B36","v":0},{"$f":"第1回!C36","v":0}]
[35,"","",null,null,null,null,null,null,null,null,null,null,null,null,null,{"$f":"第1回!B37","v":0},{"$f":"第1回!C37","v":0}]
[36,"","",null,null,null,null,null,null,null,null,null,null,null,null,null,{"$f":"第1回!B38","v":0},{"$f":"第1回!C38","v":0}]
[37,"","",null,null,null,null,null,null,null,null,null,null,null,null,null,{"$f":"第1回!B39","v":0},{"$f":"第1回!C39","v":0}]
[38,"","",null,null,null,null,null,null,null,null,null,null,null,null,null,{"$f":"第1回!B40","v":0},{"$f":"第1回!C40","v":0}]
[39,"","",null,null,null,null,null,null,null,null,null,null,null,null,null,{"$f":"第1回!B41","v":0},{"$f":"第1回!C41","v":0}]
[40,"","",null,null,null,null,null,null,null,null,null,null,null,null,null,{"$f":"第1回!B42","v":0},{"$f":"第1回!C42","v":0}]

{"sheet":"第7回","index":7,"n_rows":42,"n_cols":30,"rows_kept":42,"cut":false,"hidden":false,"merged":[[38,7,38,14],[39,7,39,14],[40,7,40,14],[41,7,41,14],[32,7,32,14],[33,7,33,14],[34,7,34,14],[35,7,35,14],[36,7,36,14],[37,7,37,14],[26,7,26,14],[27,7,27,14],[28,7,28,14],[29,7,29,14],[30,7,30,14],[31,7,31,14],[20,7,20,14],[21,7,21,14],[22,7,22,14],[23,7,23,14],[24,7,24,14],[25,7,25,14],[14,7,14,14],[15,7,15,14],[16,7,16,14],[17,7,17,14],[18,7,18,14],[19,7,19,14],[8,7,8,14],[9,7,9,14],[10,7,10,14],[11,7,11,14],[12,7,12,14],[13,7,13,14],[2,7,2,14],[3,7,3,14],[4,7,4,14],[5,7,5,14],[6,7,6,14],[7,7,7,14],[0,1,0,2],[0,3,0,4],[0,5,0,8],[0,9,0,10],[0,11,0,14],[1,7,1,14]]}
[7,{"$f":"IF(Q2=0,\"\",Q2)","v":""},null,"主題名",null,{"$f":"IF(R2=0,\"\",R2)","v":""},null,null,null,"資料名",null,{"$f":"IF(S2=0,\"\",S2)","v":""},null,null,null,null,null,null,{"$f":"個票!B6","v":"意欲的に考えることができた"},{"$f":"個票!B7","v":"登場人物を自分に置き換えて考えようとしている"},{"$f":"個票!B8","v":"友達の意見を参考にしながら多面的・多角的に考えようとしている"},{"$f":"個票!B9","v":"今までの自分を振り返りこれからの自分の生き方について考えようとしている"},{"$f":"個票!A10","v":"備考"},{"$f":"第1回!I2","v":0},{"$f":"第1回!J2","v":0},{"$f":"第1回!K2","v":0},{"$f":"第1回!L2","v":0},{"$f":"第1回!M2","v":0},{"$f":"第1回!N2","v":0},{"$f":"第1回!O2","v":0}]
["No","氏　　名","性別",{"$f":"IF(S1=0,\"\",S1)","v":"意欲的に考えることができた"},{"$f":"IF(T1=0,\"\",T1)","v":"登場人物を自分に置き換えて考えようとしている"},"友達の意見を参考にしながら多面的・多角的に考えようとしている","今までの自分を振り返りこれからの自分の生き方について考えようとしている","備考",null,null,null,null,null,null,null,null,{"$f":"個票!I3","v":0},{"$f":"個票!I4","v":0},{"$f":"個票!I5","v":0}]
[1,{"$f":"IF(Q3=0,\"\",Q3)","v":""},{"$f":"IF(R3=0,\"\",R3)","v":""},null,null,null,null,null,null,null,null,null,null,null,null,null,{"$f":"第1回!B3","v":0},{"$f":"第1回!C3","v":0}]
[2,{"$f":"IF(Q4=0,\"\",Q4)","v":""},"",null,null,null,null,null,null,null,null,null,null,null,null,null,{"$f":"第1回!B4","v":0},{"$f":"第1回!C4","v":0}]
[3,{"$f":"IF(Q5=0,\"\",Q5)","v":""},"",null,null,null,null,null,null,null,null,null,null,null,null,null,{"$f":"第1回!B5","v":0},{"$f":"第1回!C5","v":0}]
[4,"","",null,null,null,null,null,null,null,null,null,null,null,null,null,{"$f":"第1回!B6","v":0},{"$f":"第1回!C6","v":0}]
[5,"","",null,null,null,null,null,null,null,null,null,null,null,null,null,{"$f":"第1回!B7","v":0},{"$f":"第1回!C7","v":0}]
[6,"","",null,null,null,null,null,null,null,null,null,null,null,null,null,{"$f":"第1回!B8","v":0},{"$f":"第1回!C8","v":0}]
[7,"","",null,null,null,null,null,null,null,null,null,null,null,null,null,{"$f":"第1回!B9","v":0},{"$f":"第1回!C9","v":0}]
[8,"","",null,null,null,null,null,null,null,null,null,null,null,null,null,{"$f":"第1回!B10","v":0},{"$f":"第1回!C10","v":0}]
[9,"","",null,null,null,null,null,null,null,null,null,null,null,null,null,{"$f":"第1回!B11","v":0},{"$f":"第1回!C11","v":0}]
[10,"","",null,null,null,null,null,null,null,null,null,null,null,null,null,{"$f":"第1回!B12","v":0},{"$f":"第1回!C12","v":0}]
[11,"","",null,null,null,null,null,null,null,null,null,null,null,null,null,{"$f":"第1回!B13","v":0},{"$f":"第1回!C13","v":0}]
[12,"","",null,null,null,null,null,null,null,null,null,null,null,null,null,{"$f":"第1回!B14","v":0},{"$f":"第1回!C14","v":0}]
[13,"","",null,null,null,null,null,null,null,null,null,null,null,null,null,{"$f":"第1回!B15","v":0},{"$f":"第1回!C15","v":0}]
[14,"","",null,null,null,null,null,null,null,null,null,null,null,null,null,{"$f":"第1回!B16","v":0},{"$f":"第1回!C16","v":0}]
[15,"","",null,null,null,null,null,null,null,null,null,null,null,null,null,{"$f":"第1回!B17","v":0},{"$f":"第1回!C17","v":0}]
[16,"","",null,null,null,null,null,null,null,null,null,null,null,null,null,{"$f":"第1回!B18","v":0},{"$f":"第1回!C18","v":0}]
[17,"","",null,null,null,null,null,null,null,null,null,null,null,null,null,{"$f":"第1回!B19","v":0},{"$f":"第1回!C19","v":0}]
[18,"","",null,null,null,null,null,null,null,null,null,null,null,null,null,{"$f":"第1回!B20","v":0},{"$f":"第1回!C20","v":0}]
[19,"","",null,null,null,null,null,null,null,null,null,null,null,null,null,{"$f":"第1回!B21","v":0},{"$f":"第1回!C21","v":0}]
[20,"","",null,null,null,null,null,null,null,null,null,null,null,null,null,{"$f":"第1回!B22","v":0},{"$f":"第1回!C22","v":0}]
[21,"","",null,null,null,null,null,null,null,null,null,null,null,null,null,{"$f":"第1回!B23","v":0},{"$f":"第1回!C23","v":0}]
[22,"","",null,null,null,null,null,null,null,null,null,null,null,null,null,{"$f":"第1回!B24","v":0},{"$f":"第1回!C24","v":0}]
[23,"","",null,null,null,null,null,null,null,null,null,null,null,null,null,{"$f":"第1回!B25","v":0},{"$f":"第1回!C25","v":0}]
[24,"","",null,null,null,null,null,null,null,null,null,null,null,null,null,{"$f":"第1回!B26","v":0},{"$f":"第1回!C26","v":0}]
[25,"","",null,null,null,null,null,null,null,null,null,null,null,null,null,{"$f":"第1回!B27","v":0},{"$f":"第1回!C27","v":0}]
[26,"","",null,null,null,null,null,null,null,null,null,null,null,null,null,{"$f":"第1回!B28","v":0},{"$f":"第1回!C28","v":0}]
[27,"","",null,null,null,null,null,null,null,null,null,null,null,null,null,{"$f":"第1回!B29","v":0},{"$f":"第1回!C29","v":0}]
[28,"","",null,null,null,null,null,null,null,null,null,null,null,null,null,{"$f":"第1回!B30","v":0},{"$f":"第1回!C30","v":0}]
[29,"","",null,null,null,null,null,null,null,null,null,null,null,null,null,{"$f":"第1回!B31","v":0},{"$f":"第1回!C31","v":0}]
[30,"","",null,null,null,null,null,null,null,null,null,null,null,null,null,{"$f":"第1回!B32","v":0},{"$f":"第1回!C32","v":0}]
[31,"","",null,null,null,null,null,null,null,null,null,null,null,null,null,{"$f":"第1回!B33","v":0},{"$f":"第1回!C33","v":0}]
[32,"","",null,null,null,null,null,null,null,null,null,null,null,null,null,{"$f":"第1回!B34","v":0},{"$f":"第1回!C34","v":0}]
[33,"","",null,null,null,null,null,null,null,null,null,null,null,null,null,{"$f":"第1回!B35","v":0},{"$f":"第1回!C35","v":0}]
[34,"","",null,null,null,null,null,null,null,null,null,null,null,null,null,{"$f":"第1回!B36","v":0},{"$f":"第1回!C36","v":0}]
[35,"","",null,null,null,null,null,null,null,null,null,null,null,null,null,{"$f":"第1回!B37","v":0},{"$f":"第1回!C37","v":0}]
[36,"","",null,null,null,null,null,null,null,null,null,null,null,null,null,{"$f":"第1回!B38","v":0},{"$f":"第1回!C38","v":0}]
[37,"","",null,null,null,null,null,null,null,null,null,null,null,null,null,{"$f":"第1回!B39","v":0},{"$f":"第1回!C39","v":0}]
[38,"","",null,null,null,null,null,null,null,null,null,null,null,null,null,{"$f":"第1回!B40","v":0},{"$f":"第1回!C40","v":0}]
[39,"","",null,null,null,null,null,null,null,null,null,null,null,null,null,{"$f":"第1回!B41","v":0},{"$f":"第1回!C41","v":0}]
[40,"","",null,null,null,null,null,null,null,null,null,null,null,null,null,{"$f":"第1回!B42","v":0},{"$f":"第1回!C42","v":0}]

{"sheet":"第8回","index":8,"n_rows":42,"n_cols":30,"rows_kept":42,"cut":false,"hidden":false,"merged":[[38,7,38,14],[39,7,39,14],[40,7,40,14],[41,7,41,14],[32,7,32,14],[33,7,33,14],[34,7,34,14],[35,7,35,14],[36,7,36,14],[37,7,37,14],[26,7,26,14],[27,7,27,14],[28,7,28,14],[29,7,29,14],[30,7,30,14],[31,7,31,14],[20,7,20,14],[21,7,21,14],[22,7,22,14],[23,7,23,14],[24,7,24,14],[25,7,25,14],[14,7,14,14],[15,7,15,14],[16,7,16,14],[17,7,17,14],[18,7,18,14],[19,7,19,14],[8,7,8,14],[9,7,9,14],[10,7,10,14],[11,7,11,14],[12,7,12,14],[13,7,13,14],[2,7,2,14],[3,7,3,14],[4,7,4,14],[5,7,5,14],[6,7,6,14],[7,7,7,14],[0,1,0,2],[0,3,0,4],[0,5,0,8],[0,9,0,10],[0,11,0,14],[1,7,1,14]]}
[8,{"$f":"IF(Q2=0,\"\",Q2)","v":""},null,"主題名",null,{"$f":"IF(R2=0,\"\",R2)","v":""},null,null,null,"資料名",null,{"$f":"IF(S2=0,\"\",S2)","v":""},null,null,null,null,null,null,{"$f":"個票!B6","v":"意欲的に考えることができた"},{"$f":"個票!B7","v":"登場人物を自分に置き換えて考えようとしている"},{"$f":"個票!B8","v":"友達の意見を参考にしながら多面的・多角的に考えようとしている"},{"$f":"個票!B9","v":"今までの自分を振り返りこれからの自分の生き方について考えようとしている"},{"$f":"個票!A10","v":"備考"},{"$f":"第1回!I2","v":0},{"$f":"第1回!J2","v":0},{"$f":"第1回!K2","v":0},{"$f":"第1回!L2","v":0},{"$f":"第1回!M2","v":0},{"$f":"第1回!N2","v":0},{"$f":"第1回!O2","v":0}]
["No","氏　　名","性別",{"$f":"IF(S1=0,\"\",S1)","v":"意欲的に考えることができた"},{"$f":"IF(T1=0,\"\",T1)","v":"登場人物を自分に置き換えて考えようとしている"},"友達の意見を参考にしながら多面的・多角的に考えようとしている","今までの自分を振り返りこれからの自分の生き方について考えようとしている","備考",null,null,null,null,null,null,null,null,{"$f":"個票!J3","v":0},{"$f":"個票!J4","v":0},{"$f":"個票!J5","v":0}]
[1,{"$f":"IF(Q3=0,\"\",Q3)","v":""},{"$f":"IF(R3=0,\"\",R3)","v":""},null,null,null,null,null,null,null,null,null,null,null,null,null,{"$f":"第1回!B3","v":0},{"$f":"第1回!C3","v":0}]
[2,{"$f":"IF(Q4=0,\"\",Q4)","v":""},"",null,null,null,null,null,null,null,null,null,null,null,null,null,{"$f":"第1回!B4","v":0},{"$f":"第1回!C4","v":0}]
[3,{"$f":"IF(Q5=0,\"\",Q5)","v":""},"",null,null,null,null,null,null,null,null,null,null,null,null,null,{"$f":"第1回!B5","v":0},{"$f":"第1回!C5","v":0}]
[4,"","",null,null,null,null,null,null,null,null,null,null,null,null,null,{"$f":"第1回!B6","v":0},{"$f":"第1回!C6","v":0}]
[5,"","",null,null,null,null,null,null,null,null,null,null,null,null,null,{"$f":"第1回!B7","v":0},{"$f":"第1回!C7","v":0}]
[6,"","",null,null,null,null,null,null,null,null,null,null,null,null,null,{"$f":"第1回!B8","v":0},{"$f":"第1回!C8","v":0}]
[7,"","",null,null,null,null,null,null,null,null,null,null,null,null,null,{"$f":"第1回!B9","v":0},{"$f":"第1回!C9","v":0}]
[8,"","",null,null,null,null,null,null,null,null,null,null,null,null,null,{"$f":"第1回!B10","v":0},{"$f":"第1回!C10","v":0}]
[9,"","",null,null,null,null,null,null,null,null,null,null,null,null,null,{"$f":"第1回!B11","v":0},{"$f":"第1回!C11","v":0}]
[10,"","",null,null,null,null,null,null,null,null,null,null,null,null,null,{"$f":"第1回!B12","v":0},{"$f":"第1回!C12","v":0}]
[11,"","",null,null,null,null,null,null,null,null,null,null,null,null,null,{"$f":"第1回!B13","v":0},{"$f":"第1回!C13","v":0}]
[12,"","",null,null,null,null,null,null,null,null,null,null,null,null,null,{"$f":"第1回!B14","v":0},{"$f":"第1回!C14","v":0}]
[13,"","",null,null,null,null,null,null,null,null,null,null,null,null,null,{"$f":"第1回!B15","v":0},{"$f":"第1回!C15","v":0}]
[14,"","",null,null,null,null,null,null,null,null,null,null,null,null,null,{"$f":"第1回!B16","v":0},{"$f":"第1回!C16","v":0}]
[15,"","",null,null,null,null,null,null,null,null,null,null,null,null,null,{"$f":"第1回!B17","v":0},{"$f":"第1回!C17","v":0}]
[16,"","",null,null,null,null,null,null,null,null,null,null,null,null,null,{"$f":"第1回!B18","v":0},{"$f":"第1回!C18","v":0}]
[17,"","",null,null,null,null,null,null,null,null,null,null,null,null,null,{"$f":"第1回!B19","v":0},{"$f":"第1回!C19","v":0}]
[18,"","",null,null,null,null,null,null,null,null,null,null,null,null,null,{"$f":"第1回!B20","v":0},{"$f":"第1回!C20","v":0}]
[19,"","",null,null,null,null,null,null,null,null,null,null,null,null,null,{"$f":"第1回!B21","v":0},{"$f":"第1回!C21","v":0}]
[20,"","",null,null,null,null,null,null,null,null,null,null,null,null,null,{"$f":"第1回!B22","v":0},{"$f":"第1回!C22","v":0}]
[21,"","",null,null,null,null,null,null,null,null,null,null,null,null,null,{"$f":"第1回!B23","v":0},{"$f":"第1回!C23","v":0}]
[22,"","",null,null,null,null,null,null,null,null,null,null,null,null,null,{"$f":"第1回!B24","v":0},{"$f":"第1回!C24","v":0}]
[23,"","",null,null,null,null,null,null,null,null,null,null,null,null,null,{"$f":"第1回!B25","v":0},{"$f":"第1回!C25","v":0}]
[24,"","",null,null,null,null,null,null,null,null,null,null,null,null,null,{"$f":"第1回!B26","v":0},{"$f":"第1回!C26","v":0}]
[25,"","",null,null,null,null,null,null,null,null,null,null,null,null,null,{"$f":"第1回!B27","v":0},{"$f":"第1回!C27","v":0}]
[26,"","",null,null,null,null,null,null,null,null,null,null,null,null,null,{"$f":"第1回!B28","v":0},{"$f":"第1回!C28","v":0}]
[27,"","",null,null,null,null,null,null,null,null,null,null,null,null,null,{"$f":"第1回!B29","v":0},{"$f":"第1回!C29","v":0}]
[28,"","",null,null,null,null,null,null,null,null,null,null,null,null,null,{"$f":"第1回!B30","v":0},{"$f":"第1回!C30","v":0}]
[29,"","",null,null,null,null,null,null,null,null,null,null,null,null,null,{"$f":"第1回!B31","v":0},{"$f":"第1回!C31","v":0}]
[30,"","",null,null,null,null,null,null,null,null,null,null,null,null,null,{"$f":"第1回!B32","v":0},{"$f":"第1回!C32","v":0}]
[31,"","",null,null,null,null,null,null,null,null,null,null,null,null,null,{"$f":"第1回!B33","v":0},{"$f":"第1回!C33","v":0}]
[32,"","",null,null,null,null,null,null,null,null,null,null,null,null,null,{"$f":"第1回!B34","v":0},{"$f":"第1回!C34","v":0}]
[33,"","",null,null,null,null,null,null,null,null,null,null,null,null,null,{"$f":"第1回!B35","v":0},{"$f":"第1回!C35","v":0}]
[34,"","",null,null,null,null,null,null,null,null,null,null,null,null,null,{"$f":"第1回!B36","v":0},{"$f":"第1回!C36","v":0}]
[35,"","",null,null,null,null,null,null,null,null,null,null,null,null,null,{"$f":"第1回!B37","v":0},{"$f":"第1回!C37","v":0}]
[36,"","",null,null,null,null,null,null,null,null,null,null,null,null,null,{"$f":"第1回!B38","v":0},{"$f":"第1回!C38","v":0}]
[37,"","",null,null,null,null,null,null,null,null,null,null,null,null,null,{"$f":"第1回!B39","v":0},{"$f":"第1回!C39","v":0}]
[38,"","",null,null,null,null,null,null,null,null,null,null,null,null,null,{"$f":"第1回!B40","v":0},{"$f":"第1回!C40","v":0}]
[39,"","",null,null,null,null,null,null,null,null,null,null,null,null,null,{"$f":"第1回!B41","v":0},{"$f":"第1回!C41","v":0}]
[40,"","",null,null,null,null,null,null,null,null,null,null,null,null,null,{"$f":"第1回!B42","v":0},{"$f":"第1回!C42","v":0}]

{"sheet":"第9回","index":9,"n_rows":42,"n_cols":30,"rows_kept":42,"cut":false,"hidden":false,"merged":[[38,7,38,14],[39,7,39,14],[40,7,40,14],[41,7,41,14],[32,7,32,14],[33,7,33,14],[34,7,34,14],[35,7,35,14],[36,7,36,14],[37,7,37,14],[26,7,26,14],[27,7,27,14],[28,7,28,14],[29,7,29,14],[30,7,30,14],[31,7,31,14],[20,7,20,14],[21,7,21,14],[22,7,22,14],[23,7,23,14],[24,7,24,14],[25,7,25,14],[14,7,14,14],[15,7,15,14],[16,7,16,14],[17,7,17,14],[18,7,18,14],[19,7,19,14],[8,7,8,14],[9,7,9,14],[10,7,10,14],[11,7,11,14],[12,7,12,14],[13,7,13,14],[2,7,2,14],[3,7,3,14],[4,7,4,14],[5,7,5,14],[6,7,6,14],[7,7,7,14],[0,1,0,2],[0,3,0,4],[0,5,0,8],[0,9,0,10],[0,11,0,14],[1,7,1,14]]}
[9,{"$f":"IF(Q2=0,\"\",Q2)","v":""},null,"主題名",null,{"$f":"IF(R2=0,\"\",R2)","v":""},null,null,null,"資料名",null,{"$f":"IF(S2=0,\"\",S2)","v":""},null,null,null,null,null,null,{"$f":"個票!B6","v":"意欲的に考えることができた"},{"$f":"個票!B7","v":"登場人物を自分に置き換えて考えようとしている"},{"$f":"個票!B8","v":"友達の意見を参考にしながら多面的・多角的に考えようとしている"},{"$f":"個票!B9","v":"今までの自分を振り返りこれからの自分の生き方について考えようとしている"},{"$f":"個票!A10","v":"備考"},{"$f":"第1回!I2","v":0},{"$f":"第1回!J2","v":0},{"$f":"第1回!K2","v":0},{"$f":"第1回!L2","v":0},{"$f":"第1回!M2","v":0},{"$f":"第1回!N2","v":0},{"$f":"第1回!O2","v":0}]
["No","氏　　名","性別",{"$f":"IF(S1=0,\"\",S1)","v":"意欲的に考えることができた"},{"$f":"IF(T1=0,\"\",T1)","v":"登場人物を自分に置き換えて考えようとしている"},"友達の意見を参考にしながら多面的・多角的に考えようとしている","今までの自分を振り返りこれからの自分の生き方について考えようとしている","備考",null,null,null,null,null,null,null,null,{"$f":"個票!K3","v":0},{"$f":"個票!K4","v":0},{"$f":"個票!K5","v":0}]
[1,{"$f":"IF(Q3=0,\"\",Q3)","v":""},{"$f":"IF(R3=0,\"\",R3)","v":""},null,null,null,null,null,null,null,null,null,null,null,null,null,{"$f":"第1回!B3","v":0},{"$f":"第1回!C3","v":0}]
[2,{"$f":"IF(Q4=0,\"\",Q4)","v":""},"",null,null,null,null,null,null,null,null,null,null,null,null,null,{"$f":"第1回!B4","v":0},{"$f":"第1回!C4","v":0}]
[3,{"$f":"IF(Q5=0,\"\",Q5)","v":""},"",null,null,null,null,null,null,null,null,null,null,null,null,null,{"$f":"第1回!B5","v":0},{"$f":"第1回!C5","v":0}]
[4,"","",null,null,null,null,null,null,null,null,null,null,null,null,null,{"$f":"第1回!B6","v":0},{"$f":"第1回!C6","v":0}]
[5,"","",null,null,null,null,null,null,null,null,null,null,null,null,null,{"$f":"第1回!B7","v":0},{"$f":"第1回!C7","v":0}]
[6,"","",null,null,null,null,null,null,null,null,null,null,null,null,null,{"$f":"第1回!B8","v":0},{"$f":"第1回!C8","v":0}]
[7,"","",null,null,null,null,null,null,null,null,null,null,null,null,null,{"$f":"第1回!B9","v":0},{"$f":"第1回!C9","v":0}]
[8,"","",null,null,null,null,null,null,null,null,null,null,null,null,null,{"$f":"第1回!B10","v":0},{"$f":"第1回!C10","v":0}]
[9,"","",null,null,null,null,null,null,null,null,null,null,null,null,null,{"$f":"第1回!B11","v":0},{"$f":"第1回!C11","v":0}]
[10,"","",null,null,null,null,null,null,null,null,null,null,null,null,null,{"$f":"第1回!B12","v":0},{"$f":"第1回!C12","v":0}]
[11,"","",null,null,null,null,null,null,null,null,null,null,null,null,null,{"$f":"第1回!B13","v":0},{"$f":"第1回!C13","v":0}]
[12,"","",null,null,null,null,null,null,null,null,null,null,null,null,null,{"$f":"第1回!B14","v":0},{"$f":"第1回!C14","v":0}]
[13,"","",null,null,null,null,null,null,null,null,null,null,null,null,null,{"$f":"第1回!B15","v":0},{"$f":"第1回!C15","v":0}]
[14,"","",null,null,null,null,null,null,null,null,null,null,null,null,null,{"$f":"第1回!B16","v":0},{"$f":"第1回!C16","v":0}]
[15,"","",null,null,null,null,null,null,null,null,null,null,null,null,null,{"$f":"第1回!B17","v":0},{"$f":"第1回!C17","v":0}]
[16,"","",null,null,null,null,null,null,null,null,null,null,null,null,null,{"$f":"第1回!B18","v":0},{"$f":"第1回!C18","v":0}]
[17,"","",null,null,null,null,null,null,null,null,null,null,null,null,null,{"$f":"第1回!B19","v":0},{"$f":"第1回!C19","v":0}]
[18,"","",null,null,null,null,null,null,null,null,null,null,null,null,null,{"$f":"第1回!B20","v":0},{"$f":"第1回!C20","v":0}]
[19,"","",null,null,null,null,null,null,null,null,null,null,null,null,null,{"$f":"第1回!B21","v":0},{"$f":"第1回!C21","v":0}]
[20,"","",null,null,null,null,null,null,null,null,null,null,null,null,null,{"$f":"第1回!B22","v":0},{"$f":"第1回!C22","v":0}]
[21,"","",null,null,null,null,null,null,null,null,null,null,null,null,null,{"$f":"第1回!B23","v":0},{"$f":"第1回!C23","v":0}]
[22,"","",null,null,null,null,null,null,null,null,null,null,null,null,null,{"$f":"第1回!B24","v":0},{"$f":"第1回!C24","v":0}]
[23,"","",null,null,null,null,null,null,null,null,null,null,null,null,null,{"$f":"第1回!B25","v":0},{"$f":"第1回!C25","v":0}]
[24,"","",null,null,null,null,null,null,null,null,null,null,null,null,null,{"$f":"第1回!B26","v":0},{"$f":"第1回!C26","v":0}]
[25,"","",null,null,null,null,null,null,null,null,null,null,null,null,null,{"$f":"第1回!B27","v":0},{"$f":"第1回!C27","v":0}]
[26,"","",null,null,null,null,null,null,null,null,null,null,null,null,null,{"$f":"第1回!B28","v":0},{"$f":"第1回!C28","v":0}]
[27,"","",null,null,null,null,null,null,null,null,null,null,null,null,null,{"$f":"第1回!B29","v":0},{"$f":"第1回!C29","v":0}]
[28,"","",null,null,null,null,null,null,null,null,null,null,null,null,null,{"$f":"第1回!B30","v":0},{"$f":"第1回!C30","v":0}]
[29,"","",null,null,null,null,null,null,null,null,null,null,null,null,null,{"$f":"第1回!B31","v":0},{"$f":"第1回!C31","v":0}]
[30,"","",null,null,null,null,null,null,null,null,null,null,null,null,null,{"$f":"第1回!B32","v":0},{"$f":"第1回!C32","v":0}]
[31,"","",null,null,null,null,null,null,null,null,null,null,null,null,null,{"$f":"第1回!B33","v":0},{"$f":"第1回!C33","v":0}]
[32,"","",null,null,null,null,null,null,null,null,null,null,null,null,null,{"$f":"第1回!B34","v":0},{"$f":"第1回!C34","v":0}]
[33,"","",null,null,null,null,null,null,null,null,null,null,null,null,null,{"$f":"第1回!B35","v":0},{"$f":"第1回!C35","v":0}]
[34,"","",null,null,null,null,null,null,null,null,null,null,null,null,null,{"$f":"第1回!B36","v":0},{"$f":"第1回!C36","v":0}]
[35,"","",null,null,null,null,null,null,null,null,null,null,null,null,null,{"$f":"第1回!B37","v":0},{"$f":"第1回!C37","v":0}]
[36,"","",null,null,null,null,null,null,null,null,null,null,null,null,null,{"$f":"第1回!B38","v":0},{"$f":"第1回!C38","v":0}]
[37,"","",null,null,null,null,null,null,null,null,null,null,null,null,null,{"$f":"第1回!B39","v":0},{"$f":"第1回!C39","v":0}]
[38,"","",null,null,null,null,null,null,null,null,null,null,null,null,null,{"$f":"第1回!B40","v":0},{"$f":"第1回!C40","v":0}]
[39,"","",null,null,null,null,null,null,null,null,null,null,null,null,null,{"$f":"第1回!B41","v":0},{"$f":"第1回!C41","v":0}]
[40,"","",null,null,null,null,null,null,null,null,null,null,null,null,null,{"$f":"第1回!B42","v":0},{"$f":"第1回!C42","v":0}]

{"sheet":"第10回","index":10,"n_rows":42,"n_cols":30,"rows_kept":42,"cut":false,"hidden":false,"merged":[[38,7,38,14],[39,7,39,14],[40,7,40,14],[41,7,41,14],[32,7,32,14],[33,7,33,14],[34,7,34,14],[35,7,35,14],[36,7,36,14],[37,7,37,14],[26,7,26,14],[27,7,27,14],[28,7,28,14],[29,7,29,14],[30,7,30,14],[31,7,31,14],[20,7,20,14],[21,7,21,14],[22,7,22,14],[23,7,23,14],[24,7,24,14],[25,7,25,14],[14,7,14,14],[15,7,15,14],[16,7,16,14],[17,7,17,14],[18,7,18,14],[19,7,19,14],[8,7,8,14],[9,7,9,14],[10,7,10,14],[11,7,11,14],[12,7,12,14],[13,7,13,14],[2,7,2,14],[3,7,3,14],[4,7,4,14],[5,7,5,14],[6,7,6,14],[7,7,7,14],[0,1,0,2],[0,3,0,4],[0,5,0,8],[0,9,0,10],[0,11,0,14],[1,7,1,14]]}
[10,{"$f":"IF(Q2=0,\"\",Q2)","v":""},null,"主題名",null,{"$f":"IF(R2=0,\"\",R2)","v":""},null,null,null,"資料名",null,{"$f":"IF(S2=0,\"\",S2)","v":""},null,null,null,null,null,null,{"$f":"個票!B6","v":"意欲的に考えることができた"},{"$f":"個票!B7","v":"登場人物を自分に置き換えて考えようとしている"},{"$f":"個票!B8","v":"友達の意見を参考にしながら多面的・多角的に考えようとしている"},{"$f":"個票!B9","v":"今までの自分を振り返りこれからの自分の生き方について考えようとしている"},{"$f":"個票!A10","v":"備考"},{"$f":"第1回!I2","v":0},{"$f":"第1回!J2","v":0},{"$f":"第1回!K2","v":0},{"$f":"第1回!L2","v":0},{"$f":"第1回!M2","v":0},{"$f":"第1回!N2","v":0},{"$f":"第1回!O2","v":0}]
["No","氏　　名","性別",{"$f":"IF(S1=0,\"\",S1)","v":"意欲的に考えることができた"},{"$f":"IF(T1=0,\"\",T1)","v":"登場人物を自分に置き換えて考えようとしている"},"友達の意見を参考にしながら多面的・多角的に考えようとしている","今までの自分を振り返りこれからの自分の生き方について考えようとしている","備考",null,null,null,null,null,null,null,null,{"$f":"個票!L3","v":0},{"$f":"個票!L4","v":0},{"$f":"個票!L5","v":0}]
[1,{"$f":"IF(Q3=0,\"\",Q3)","v":""},{"$f":"IF(R3=0,\"\",R3)","v":""},null,null,null,null,null,null,null,null,null,null,null,null,null,{"$f":"第1回!B3","v":0},{"$f":"第1回!C3","v":0}]
[2,{"$f":"IF(Q4=0,\"\",Q4)","v":""},"",null,null,null,null,null,null,null,null,null,null,null,null,null,{"$f":"第1回!B4","v":0},{"$f":"第1回!C4","v":0}]
[3,{"$f":"IF(Q5=0,\"\",Q5)","v":""},"",null,null,null,null,null,null,null,null,null,null,null,null,null,{"$f":"第1回!B5","v":0},{"$f":"第1回!C5","v":0}]
[4,"","",null,null,null,null,null,null,null,null,null,null,null,null,null,{"$f":"第1回!B6","v":0},{"$f":"第1回!C6","v":0}]
[5,"","",null,null,null,null,null,null,null,null,null,null,null,null,null,{"$f":"第1回!B7","v":0},{"$f":"第1回!C7","v":0}]
[6,"","",null,null,null,null,null,null,null,null,null,null,null,null,null,{"$f":"第1回!B8","v":0},{"$f":"第1回!C8","v":0}]
[7,"","",null,null,null,null,null,null,null,null,null,null,null,null,null,{"$f":"第1回!B9","v":0},{"$f":"第1回!C9","v":0}]
[8,"","",null,null,null,null,null,null,null,null,null,null,null,null,null,{"$f":"第1回!B10","v":0},{"$f":"第1回!C10","v":0}]
[9,"","",null,null,null,null,null,null,null,null,null,null,null,null,null,{"$f":"第1回!B11","v":0},{"$f":"第1回!C11","v":0}]
[10,"","",null,null,null,null,null,null,null,null,null,null,null,null,null,{"$f":"第1回!B12","v":0},{"$f":"第1回!C12","v":0}]
[11,"","",null,null,null,null,null,null,null,null,null,null,null,null,null,{"$f":"第1回!B13","v":0},{"$f":"第1回!C13","v":0}]
[12,"","",null,null,null,null,null,null,null,null,null,null,null,null,null,{"$f":"第1回!B14","v":0},{"$f":"第1回!C14","v":0}]
[13,"","",null,null,null,null,null,null,null,null,null,null,null,null,null,{"$f":"第1回!B15","v":0},{"$f":"第1回!C15","v":0}]
[14,"","",null,null,null,null,null,null,null,null,null,null,null,null,null,{"$f":"第1回!B16","v":0},{"$f":"第1回!C16","v":0}]
[15,"","",null,null,null,null,null,null,null,null,null,null,null,null,null,{"$f":"第1回!B17","v":0},{"$f":"第1回!C17","v":0}]
[16,"","",null,null,null,null,null,null,null,null,null,null,null,null,null,{"$f":"第1回!B18","v":0},{"$f":"第1回!C18","v":0}]
[17,"","",null,null,null,null,null,null,null,null,null,null,null,null,null,{"$f":"第1回!B19","v":0},{"$f":"第1回!C19","v":0}]
[18,"","",null,null,null,null,null,null,null,null,null,null,null,null,null,{"$f":"第1回!B20","v":0},{"$f":"第1回!C20","v":0}]
[19,"","",null,null,null,null,null,null,null,null,null,null,null,null,null,{"$f":"第1回!B21","v":0},{"$f":"第1回!C21","v":0}]
[20,"","",null,null,null,null,null,null,null,null,null,null,null,null,null,{"$f":"第1回!B22","v":0},{"$f":"第1回!C22","v":0}]
[21,"","",null,null,null,null,null,null,null,null,null,null,null,null,null,{"$f":"第1回!B23","v":0},{"$f":"第1回!C23","v":0}]
[22,"","",null,null,null,null,null,null,null,null,null,null,null,null,null,{"$f":"第1回!B24","v":0},{"$f":"第1回!C24","v":0}]
[23,"","",null,null,null,null,null,null,null,null,null,null,null,null,null,{"$f":"第1回!B25","v":0},{"$f":"第1回!C25","v":0}]
[24,"","",null,null,null,null,null,null,null,null,null,null,null,null,null,{"$f":"第1回!B26","v":0},{"$f":"第1回!C26","v":0}]
[25,"","",null,null,null,null,null,null,null,null,null,null,null,null,null,{"$f":"第1回!B27","v":0},{"$f":"第1回!C27","v":0}]
[26,"","",null,null,null,null,null,null,null,null,null,null,null,null,null,{"$f":"第1回!B28","v":0},{"$f":"第1回!C28","v":0}]
[27,"","",null,null,null,null,null,null,null,null,null,null,null,null,null,{"$f":"第1回!B29","v":0},{"$f":"第1回!C29","v":0}]
[28,"","",null,null,null,null,null,null,null,null,null,null,null,null,null,{"$f":"第1回!B30","v":0},{"$f":"第1回!C30","v":0}]
[29,"","",null,null,null,null,null,null,null,null,null,null,null,null,null,{"$f":"第1回!B31","v":0},{"$f":"第1回!C31","v":0}]
[30,"","",null,null,null,null,null,null,null,null,null,null,null,null,null,{"$f":"第1回!B32","v":0},{"$f":"第1回!C32","v":0}]
[31,"","",null,null,null,null,null,null,null,null,null,null,null,null,null,{"$f":"第1回!B33","v":0},{"$f":"第1回!C33","v":0}]
[32,"","",null,null,null,null,null,null,null,null,null,null,null,null,null,{"$f":"第1回!B34","v":0},{"$f":"第1回!C34","v":0}]
[33,"","",null,null,null,null,null,null,null,null,null,null,null,null,null,{"$f":"第1回!B35","v":0},{"$f":"第1回!C35","v":0}]
[34,"","",null,null,null,null,null,null,null,null,null,null,null,null,null,{"$f":"第1回!B36","v":0},{"$f":"第1回!C36","v":0}]
[35,"","",null,null,null,null,null,null,null,null,null,null,null,null,null,{"$f":"第1回!B37","v":0},{"$f":"第1回!C37","v":0}]
[36,"","",null,null,null,null,null,null,null,null,null,null,null,null,null,{"$f":"第1回!B38","v":0},{"$f":"第1回!C38","v":0}]
[37,"","",null,null,null,null,null,null,null,null,null,null,null,null,null,{"$f":"第1回!B39","v":0},{"$f":"第1回!C39","v":0}]
[38,"","",null,null,null,null,null,null,null,null,null,null,null,null,null,{"$f":"第1回!B40","v":0},{"$f":"第1回!C40","v":0}]
[39,"","",null,null,null,null,null,null,null,null,null,null,null,null,null,{"$f":"第1回!B41","v":0},{"$f":"第1回!C41","v":0}]
[40,"","",null,null,null,null,null,null,null,null,null,null,null,null,null,{"$f":"第1回!B42","v":0},{"$f":"第1回!C42","v":0}]

{"sheet":"第11回","index":11,"n_rows":42,"n_cols":30,"rows_kept":42,"cut":false,"hidden":false,"merged":[[38,7,38,14],[39,7,39,14],[40,7,40,14],[41,7,41,14],[32,7,32,14],[33,7,33,14],[34,7,34,14],[35,7,35,14],[36,7,36,14],[37,7,37,14],[26,7,26,14],[27,7,27,14],[28,7,28,14],[29,7,29,14],[30,7,30,14],[31,7,31,14],[20,7,20,14],[21,7,21,14],[22,7,22,14],[23,7,23,14],[24,7,24,14],[25,7,25,14],[14,7,14,14],[15,7,15,14],[16,7,16,14],[17,7,17,14],[18,7,18,14],[19,7,19,14],[8,7,8,14],[9,7,9,14],[10,7,10,14],[11,7,11,14],[12,7,12,14],[13,7,13,14],[2,7,2,14],[3,7,3,14],[4,7,4,14],[5,7,5,14],[6,7,6,14],[7,7,7,14],[0,1,0,2],[0,3,0,4],[0,5,0,8],[0,9,0,10],[0,11,0,14],[1,7,1,14]]}
[11,{"$f":"IF(Q2=0,\"\",Q2)","v":""},null,"主題名",null,{"$f":"IF(R2=0,\"\",R2)","v":""},null,null,null,"資料名",null,{"$f":"IF(S2=0,\"\",S2)","v":""},null,null,null,null,null,null,{"$f":"個票!B6","v":"意欲的に考えることができた"},{"$f":"個票!B7","v":"登場人物を自分に置き換えて考えようとしている"},{"$f":"個票!B8","v":"友達の意見を参考にしながら多面的・多角的に考えようとしている"},{"$f":"個票!B9","v":"今までの自分を振り返りこれからの自分の生き方について考えようとしている"},{"$f":"個票!A10","v":"備考"},{"$f":"第1回!I2","v":0},{"$f":"第1回!J2","v":0},{"$f":"第1回!K2","v":0},{"$f":"第1回!L2","v":0},{"$f":"第1回!M2","v":0},{"$f":"第1回!N2","v":0},{"$f":"第1回!O2","v":0}]
["No","氏　　名","性別",{"$f":"IF(S1=0,\"\",S1)","v":"意欲的に考えることができた"},{"$f":"IF(T1=0,\"\",T1)","v":"登場人物を自分に置き換えて考えようとしている"},"友達の意見を参考にしながら多面的・多角的に考えようとしている","今までの自分を振り返りこれからの自分の生き方について考えようとしている","備考",null,null,null,null,null,null,null,null,{"$f":"個票!M3","v":0},{"$f":"個票!M4","v":0},{"$f":"個票!M5","v":0}]
[1,{"$f":"IF(Q3=0,\"\",Q3)","v":""},{"$f":"IF(R3=0,\"\",R3)","v":""},null,null,null,null,null,null,null,null,null,null,null,null,null,{"$f":"第1回!B3","v":0},{"$f":"第1回!C3","v":0}]
[2,{"$f":"IF(Q4=0,\"\",Q4)","v":""},"",null,null,null,null,null,null,null,null,null,null,null,null,null,{"$f":"第1回!B4","v":0},{"$f":"第1回!C4","v":0}]
[3,{"$f":"IF(Q5=0,\"\",Q5)","v":""},"",null,null,null,null,null,null,null,null,null,null,null,null,null,{"$f":"第1回!B5","v":0},{"$f":"第1回!C5","v":0}]
[4,"","",null,null,null,null,null,null,null,null,null,null,null,null,null,{"$f":"第1回!B6","v":0},{"$f":"第1回!C6","v":0}]
[5,"","",null,null,null,null,null,null,null,null,null,null,null,null,null,{"$f":"第1回!B7","v":0},{"$f":"第1回!C7","v":0}]
[6,"","",null,null,null,null,null,null,null,null,null,null,null,null,null,{"$f":"第1回!B8","v":0},{"$f":"第1回!C8","v":0}]
[7,"","",null,null,null,null,null,null,null,null,null,null,null,null,null,{"$f":"第1回!B9","v":0},{"$f":"第1回!C9","v":0}]
[8,"","",null,null,null,null,null,null,null,null,null,null,null,null,null,{"$f":"第1回!B10","v":0},{"$f":"第1回!C10","v":0}]
[9,"","",null,null,null,null,null,null,null,null,null,null,null,null,null,{"$f":"第1回!B11","v":0},{"$f":"第1回!C11","v":0}]
[10,"","",null,null,null,null,null,null,null,null,null,null,null,null,null,{"$f":"第1回!B12","v":0},{"$f":"第1回!C12","v":0}]
[11,"","",null,null,null,null,null,null,null,null,null,null,null,null,null,{"$f":"第1回!B13","v":0},{"$f":"第1回!C13","v":0}]
[12,"","",null,null,null,null,null,null,null,null,null,null,null,null,null,{"$f":"第1回!B14","v":0},{"$f":"第1回!C14","v":0}]
[13,"","",null,null,null,null,null,null,null,null,null,null,null,null,null,{"$f":"第1回!B15","v":0},{"$f":"第1回!C15","v":0}]
[14,"","",null,null,null,null,null,null,null,null,null,null,null,null,null,{"$f":"第1回!B16","v":0},{"$f":"第1回!C16","v":0}]
[15,"","",null,null,null,null,null,null,null,null,null,null,null,null,null,{"$f":"第1回!B17","v":0},{"$f":"第1回!C17","v":0}]
[16,"","",null,null,null,null,null,null,null,null,null,null,null,null,null,{"$f":"第1回!B18","v":0},{"$f":"第1回!C18","v":0}]
[17,"","",null,null,null,null,null,null,null,null,null,null,null,null,null,{"$f":"第1回!B19","v":0},{"$f":"第1回!C19","v":0}]
[18,"","",null,null,null,null,null,null,null,null,null,null,null,null,null,{"$f":"第1回!B20","v":0},{"$f":"第1回!C20","v":0}]
[19,"","",null,null,null,null,null,null,null,null,null,null,null,null,null,{"$f":"第1回!B21","v":0},{"$f":"第1回!C21","v":0}]
[20,"","",null,null,null,null,null,null,null,null,null,null,null,null,null,{"$f":"第1回!B22","v":0},{"$f":"第1回!C22","v":0}]
[21,"","",null,null,null,null,null,null,null,null,null,null,null,null,null,{"$f":"第1回!B23","v":0},{"$f":"第1回!C23","v":0}]
[22,"","",null,null,null,null,null,null,null,null,null,null,null,null,null,{"$f":"第1回!B24","v":0},{"$f":"第1回!C24","v":0}]
[23,"","",null,null,null,null,null,null,null,null,null,null,null,null,null,{"$f":"第1回!B25","v":0},{"$f":"第1回!C25","v":0}]
[24,"","",null,null,null,null,null,null,null,null,null,null,null,null,null,{"$f":"第1回!B26","v":0},{"$f":"第1回!C26","v":0}]
[25,"","",null,null,null,null,null,null,null,null,null,null,null,null,null,{"$f":"第1回!B27","v":0},{"$f":"第1回!C27","v":0}]
[26,"","",null,null,null,null,null,null,null,null,null,null,null,null,null,{"$f":"第1回!B28","v":0},{"$f":"第1回!C28","v":0}]
[27,"","",null,null,null,null,null,null,null,null,null,null,null,null,null,{"$f":"第1回!B29","v":0},{"$f":"第1回!C29","v":0}]
[28,"","",null,null,null,null,null,null,null,null,null,null,null,null,null,{"$f":"第1回!B30","v":0},{"$f":"第1回!C30","v":0}]
[29,"","",null,null,null,null,null,null,null,null,null,null,null,null,null,{"$f":"第1回!B31","v":0},{"$f":"第1回!C31","v":0}]
[30,"","",null,null,null,null,null,null,null,null,null,null,null,null,null,{"$f":"第1回!B32","v":0},{"$f":"第1回!C32","v":0}]
[31,"","",null,null,null,null,null,null,null,null,null,null,null,null,null,{"$f":"第1回!B33","v":0},{"$f":"第1回!C33","v":0}]
[32,"","",null,null,null,null,null,null,null,null,null,null,null,null,null,{"$f":"第1回!B34","v":0},{"$f":"第1回!C34","v":0}]
[33,"","",null,null,null,null,null,null,null,null,null,null,null,null,null,{"$f":"第1回!B35","v":0},{"$f":"第1回!C35","v":0}]
[34,"","",null,null,null,null,null,null,null,null,null,null,null,null,null,{"$f":"第1回!B36","v":0},{"$f":"第1回!C36","v":0}]
[35,"","",null,null,null,null,null,null,null,null,null,null,null,null,null,{"$f":"第1回!B37","v":0},{"$f":"第1回!C37","v":0}]
[36,"","",null,null,null,null,null,null,null,null,null,null,null,null,null,{"$f":"第1回!B38","v":0},{"$f":"第1回!C38","v":0}]
[37,"","",null,null,null,null,null,null,null,null,null,null,null,null,null,{"$f":"第1回!B39","v":0},{"$f":"第1回!C39","v":0}]
[38,"","",null,null,null,null,null,null,null,null,null,null,null,null,null,{"$f":"第1回!B40","v":0},{"$f":"第1回!C40","v":0}]
[39,"","",null,null,null,null,null,null,null,null,null,null,null,null,null,{"$f":"第1回!B41","v":0},{"$f":"第1回!C41","v":0}]
[40,"","",null,null,null,null,null,null,null,null,null,null,null,null,null,{"$f":"第1回!B42","v":0},{"$f":"第1回!C42","v":0}]

{"sheet":"第12回","index":12,"n_rows":42,"n_cols":30,"rows_kept":42,"cut":false,"hidden":false,"merged":[[38,7,38,14],[39,7,39,14],[40,7,40,14],[41,7,41,14],[32,7,32,14],[33,7,33,14],[34,7,34,14],[35,7,35,14],[36,7,36,14],[37,7,37,14],[26,7,26,14],[27,7,27,14],[28,7,28,14],[29,7,29,14],[30,7,30,14],[31,7,31,14],[20,7,20,14],[21,7,21,14],[22,7,22,14],[23,7,23,14],[24,7,24,14],[25,7,25,14],[14,7,14,14],[15,7,15,14],[16,7,16,14],[17,7,17,14],[18,7,18,14],[19,7,19,14],[8,7,8,14],[9,7,9,14],[10,7,10,14],[11,7,11,14],[12,7,12,14],[13,7,13,14],[2,7,2,14],[3,7,3,14],[4,7,4,14],[5,7,5,14],[6,7,6,14],[7,7,7,14],[0,1,0,2],[0,3,0,4],[0,5,0,8],[0,9,0,10],[0,11,0,14],[1,7,1,14]]}
[12,{"$f":"IF(Q2=0,\"\",Q2)","v":""},null,"主題名",null,{"$f":"IF(R2=0,\"\",R2)","v":""},null,null,null,"資料名",null,{"$f":"IF(S2=0,\"\",S2)","v":""},null,null,null,null,null,null,{"$f":"個票!B6","v":"意欲的に考えることができた"},{"$f":"個票!B7","v":"登場人物を自分に置き換えて考えようとしている"},{"$f":"個票!B8","v":"友達の意見を参考にしながら多面的・多角的に考えようとしている"},{"$f":"個票!B9","v":"今までの自分を振り返りこれからの自分の生き方について考えようとしている"},{"$f":"個票!A10","v":"備考"},{"$f":"第1回!I2","v":0},{"$f":"第1回!J2","v":0},{"$f":"第1回!K2","v":0},{"$f":"第1回!L2","v":0},{"$f":"第1回!M2","v":0},{"$f":"第1回!N2","v":0},{"$f":"第1回!O2","v":0}]
["No","氏　　名","性別",{"$f":"IF(S1=0,\"\",S1)","v":"意欲的に考えることができた"},{"$f":"IF(T1=0,\"\",T1)","v":"登場人物を自分に置き換えて考えようとしている"},"友達の意見を参考にしながら多面的・多角的に考えようとしている","今までの自分を振り返りこれからの自分の生き方について考えようとしている","備考",null,null,null,null,null,null,null,null,{"$f":"個票!N3","v":0},{"$f":"個票!N4","v":0},{"$f":"個票!N5","v":0}]
[1,{"$f":"IF(Q3=0,\"\",Q3)","v":""},{"$f":"IF(R3=0,\"\",R3)","v":""},null,null,null,null,null,null,null,null,null,null,null,null,null,{"$f":"第1回!B3","v":0},{"$f":"第1回!C3","v":0}]
[2,{"$f":"IF(Q4=0,\"\",Q4)","v":""},"",null,null,null,null,null,null,null,null,null,null,null,null,null,{"$f":"第1回!B4","v":0},{"$f":"第1回!C4","v":0}]
[3,{"$f":"IF(Q5=0,\"\",Q5)","v":""},"",null,null,null,null,null,null,null,null,null,null,null,null,null,{"$f":"第1回!B5","v":0},{"$f":"第1回!C5","v":0}]
[4,"","",null,null,null,null,null,null,null,null,null,null,null,null,null,{"$f":"第1回!B6","v":0},{"$f":"第1回!C6","v":0}]
[5,"","",null,null,null,null,null,null,null,null,null,null,null,null,null,{"$f":"第1回!B7","v":0},{"$f":"第1回!C7","v":0}]
[6,"","",null,null,null,null,null,null,null,null,null,null,null,null,null,{"$f":"第1回!B8","v":0},{"$f":"第1回!C8","v":0}]
[7,"","",null,null,null,null,null,null,null,null,null,null,null,null,null,{"$f":"第1回!B9","v":0},{"$f":"第1回!C9","v":0}]
[8,"","",null,null,null,null,null,null,null,null,null,null,null,null,null,{"$f":"第1回!B10","v":0},{"$f":"第1回!C10","v":0}]
[9,"","",null,null,null,null,null,null,null,null,null,null,null,null,null,{"$f":"第1回!B11","v":0},{"$f":"第1回!C11","v":0}]
[10,"","",null,null,null,null,null,null,null,null,null,null,null,null,null,{"$f":"第1回!B12","v":0},{"$f":"第1回!C12","v":0}]
[11,"","",null,null,null,null,null,null,null,null,null,null,null,null,null,{"$f":"第1回!B13","v":0},{"$f":"第1回!C13","v":0}]
[12,"","",null,null,null,null,null,null,null,null,null,null,null,null,null,{"$f":"第1回!B14","v":0},{"$f":"第1回!C14","v":0}]
[13,"","",null,null,null,null,null,null,null,null,null,null,null,null,null,{"$f":"第1回!B15","v":0},{"$f":"第1回!C15","v":0}]
[14,"","",null,null,null,null,null,null,null,null,null,null,null,null,null,{"$f":"第1回!B16","v":0},{"$f":"第1回!C16","v":0}]
[15,"","",null,null,null,null,null,null,null,null,null,null,null,null,null,{"$f":"第1回!B17","v":0},{"$f":"第1回!C17","v":0}]
[16,"","",null,null,null,null,null,null,null,null,null,null,null,null,null,{"$f":"第1回!B18","v":0},{"$f":"第1回!C18","v":0}]
[17,"","",null,null,null,null,null,null,null,null,null,null,null,null,null,{"$f":"第1回!B19","v":0},{"$f":"第1回!C19","v":0}]
[18,"","",null,null,null,null,null,null,null,null,null,null,null,null,null,{"$f":"第1回!B20","v":0},{"$f":"第1回!C20","v":0}]
[19,"","",null,null,null,null,null,null,null,null,null,null,null,null,null,{"$f":"第1回!B21","v":0},{"$f":"第1回!C21","v":0}]
[20,"","",null,null,null,null,null,null,null,null,null,null,null,null,null,{"$f":"第1回!B22","v":0},{"$f":"第1回!C22","v":0}]
[21,"","",null,null,null,null,null,null,null,null,null,null,null,null,null,{"$f":"第1回!B23","v":0},{"$f":"第1回!C23","v":0}]
[22,"","",null,null,null,null,null,null,null,null,null,null,null,null,null,{"$f":"第1回!B24","v":0},{"$f":"第1回!C24","v":0}]
[23,"","",null,null,null,null,null,null,null,null,null,null,null,null,null,{"$f":"第1回!B25","v":0},{"$f":"第1回!C25","v":0}]
[24,"","",null,null,null,null,null,null,null,null,null,null,null,null,null,{"$f":"第1回!B26","v":0},{"$f":"第1回!C26","v":0}]
[25,"","",null,null,null,null,null,null,null,null,null,null,null,null,null,{"$f":"第1回!B27","v":0},{"$f":"第1回!C27","v":0}]
[26,"","",null,null,null,null,null,null,null,null,null,null,null,null,null,{"$f":"第1回!B28","v":0},{"$f":"第1回!C28","v":0}]
[27,"","",null,null,null,null,null,null,null,null,null,null,null,null,null,{"$f":"第1回!B29","v":0},{"$f":"第1回!C29","v":0}]
[28,"","",null,null,null,null,null,null,null,null,null,null,null,null,null,{"$f":"第1回!B30","v":0},{"$f":"第1回!C30","v":0}]
[29,"","",null,null,null,null,null,null,null,null,null,null,null,null,null,{"$f":"第1回!B31","v":0},{"$f":"第1回!C31","v":0}]
[30,"","",null,null,null,null,null,null,null,null,null,null,null,null,null,{"$f":"第1回!B32","v":0},{"$f":"第1回!C32","v":0}]
[31,"","",null,null,null,null,null,null,null,null,null,null,null,null,null,{"$f":"第1回!B33","v":0},{"$f":"第1回!C33","v":0}]
[32,"","",null,null,null,null,null,null,null,null,null,null,null,null,null,{"$f":"第1回!B34","v":0},{"$f":"第1回!C34","v":0}]
[33,"","",null,null,null,null,null,null,null,null,null,null,null,null,null,{"$f":"第1回!B35","v":0},{"$f":"第1回!C35","v":0}]
[34,"","",null,null,null,null,null,null,null,null,null,null,null,null,null,{"$f":"第1回!B36","v":0},{"$f":"第1回!C36","v":0}]
[35,"","",null,null,null,null,null,null,null,null,null,null,null,null,null,{"$f":"第1回!B37","v":0},{"$f":"第1回!C37","v":0}]
[36,"","",null,null,null,null,null,null,null,null,null,null,null,null,null,{"$f":"第1回!B38","v":0},{"$f":"第1回!C38","v":0}]
[37,"","",null,null,null,null,null,null,null,null,null,null,null,null,null,{"$f":"第1回!B39","v":0},{"$f":"第1回!C39","v":0}]
[38,"","",null,null,null,null,null,null,null,null,null,null,null,null,null,{"$f":"第1回!B40","v":0},{"$f":"第1回!C40","v":0}]
[39,"","",null,null,null,null,null,null,null,null,null,null,null,null,null,{"$f":"第1回!B41","v":0},{"$f":"第1回!C41","v":0}]
[40,"","",null,null,null,null,null,null,null,null,null,null,null,null,null,{"$f":"第1回!B42","v":0},{"$f":"第1回!C42","v":0}]

{"sheet":"第13回","index":13,"n_rows":42,"n_cols":30,"rows_kept":42,"cut":false,"hidden":false,"merged":[[38,7,38,14],[39,7,39,14],[40,7,40,14],[41,7,41,14],[32,7,32,14],[33,7,33,14],[34,7,34,14],[35,7,35,14],[36,7,36,14],[37,7,37,14],[26,7,26,14],[27,7,27,14],[28,7,28,14],[29,7,29,14],[30,7,30,14],[31,7,31,14],[20,7,20,14],[21,7,21,14],[22,7,22,14],[23,7,23,14],[24,7,24,14],[25,7,25,14],[14,7,14,14],[15,7,15,14],[16,7,16,14],[17,7,17,14],[18,7,18,14],[19,7,19,14],[8,7,8,14],[9,7,9,14],[10,7,10,14],[11,7,11,14],[12,7,12,14],[13,7,13,14],[2,7,2,14],[3,7,3,14],[4,7,4,14],[5,7,5,14],[6,7,6,14],[7,7,7,14],[0,1,0,2],[0,3,0,4],[0,5,0,8],[0,9,0,10],[0,11,0,14],[1,7,1,14]]}
[13,{"$f":"IF(Q2=0,\"\",Q2)","v":""},null,"主題名",null,{"$f":"IF(R2=0,\"\",R2)","v":""},null,null,null,"資料名",null,{"$f":"IF(S2=0,\"\",S2)","v":""},null,null,null,null,null,null,{"$f":"個票!B6","v":"意欲的に考えることができた"},{"$f":"個票!B7","v":"登場人物を自分に置き換えて考えようとしている"},{"$f":"個票!B8","v":"友達の意見を参考にしながら多面的・多角的に考えようとしている"},{"$f":"個票!B9","v":"今までの自分を振り返りこれからの自分の生き方について考えようとしている"},{"$f":"個票!A10","v":"備考"},{"$f":"第1回!I2","v":0},{"$f":"第1回!J2","v":0},{"$f":"第1回!K2","v":0},{"$f":"第1回!L2","v":0},{"$f":"第1回!M2","v":0},{"$f":"第1回!N2","v":0},{"$f":"第1回!O2","v":0}]
["No","氏　　名","性別",{"$f":"IF(S1=0,\"\",S1)","v":"意欲的に考えることができた"},{"$f":"IF(T1=0,\"\",T1)","v":"登場人物を自分に置き換えて考えようとしている"},"友達の意見を参考にしながら多面的・多角的に考えようとしている","今までの自分を振り返りこれからの自分の生き方について考えようとしている","備考",null,null,null,null,null,null,null,null,{"$f":"個票!O3","v":0},{"$f":"個票!O4","v":0},{"$f":"個票!O5","v":0}]
[1,{"$f":"IF(Q3=0,\"\",Q3)","v":""},{"$f":"IF(R3=0,\"\",R3)","v":""},null,null,null,null,null,null,null,null,null,null,null,null,null,{"$f":"第1回!B3","v":0},{"$f":"第1回!C3","v":0}]
[2,{"$f":"IF(Q4=0,\"\",Q4)","v":""},"",null,null,null,null,null,null,null,null,null,null,null,null,null,{"$f":"第1回!B4","v":0},{"$f":"第1回!C4","v":0}]
[3,{"$f":"IF(Q5=0,\"\",Q5)","v":""},"",null,null,null,null,null,null,null,null,null,null,null,null,null,{"$f":"第1回!B5","v":0},{"$f":"第1回!C5","v":0}]
[4,"","",null,null,null,null,null,null,null,null,null,null,null,null,null,{"$f":"第1回!B6","v":0},{"$f":"第1回!C6","v":0}]
[5,"","",null,null,null,null,null,null,null,null,null,null,null,null,null,{"$f":"第1回!B7","v":0},{"$f":"第1回!C7","v":0}]
[6,"","",null,null,null,null,null,null,null,null,null,null,null,null,null,{"$f":"第1回!B8","v":0},{"$f":"第1回!C8","v":0}]
[7,"","",null,null,null,null,null,null,null,null,null,null,null,null,null,{"$f":"第1回!B9","v":0},{"$f":"第1回!C9","v":0}]
[8,"","",null,null,null,null,null,null,null,null,null,null,null,null,null,{"$f":"第1回!B10","v":0},{"$f":"第1回!C10","v":0}]
[9,"","",null,null,null,null,null,null,null,null,null,null,null,null,null,{"$f":"第1回!B11","v":0},{"$f":"第1回!C11","v":0}]
[10,"","",null,null,null,null,null,null,null,null,null,null,null,null,null,{"$f":"第1回!B12","v":0},{"$f":"第1回!C12","v":0}]
[11,"","",null,null,null,null,null,null,null,null,null,null,null,null,null,{"$f":"第1回!B13","v":0},{"$f":"第1回!C13","v":0}]
[12,"","",null,null,null,null,null,null,null,null,null,null,null,null,null,{"$f":"第1回!B14","v":0},{"$f":"第1回!C14","v":0}]
[13,"","",null,null,null,null,null,null,null,null,null,null,null,null,null,{"$f":"第1回!B15","v":0},{"$f":"第1回!C15","v":0}]
[14,"","",null,null,null,null,null,null,null,null,null,null,null,null,null,{"$f":"第1回!B16","v":0},{"$f":"第1回!C16","v":0}]
[15,"","",null,null,null,null,null,null,null,null,null,null,null,null,null,{"$f":"第1回!B17","v":0},{"$f":"第1回!C17","v":0}]
[16,"","",null,null,null,null,null,null,null,null,null,null,null,null,null,{"$f":"第1回!B18","v":0},{"$f":"第1回!C18","v":0}]
[17,"","",null,null,null,null,null,null,null,null,null,null,null,null,null,{"$f":"第1回!B19","v":0},{"$f":"第1回!C19","v":0}]
[18,"","",null,null,null,null,null,null,null,null,null,null,null,null,null,{"$f":"第1回!B20","v":0},{"$f":"第1回!C20","v":0}]
[19,"","",null,null,null,null,null,null,null,null,null,null,null,null,null,{"$f":"第1回!B21","v":0},{"$f":"第1回!C21","v":0}]
[20,"","",null,null,null,null,null,null,null,null,null,null,null,null,null,{"$f":"第1回!B22","v":0},{"$f":"第1回!C22","v":0}]
[21,"","",null,null,null,null,null,null,null,null,null,null,null,null,null,{"$f":"第1回!B23","v":0},{"$f":"第1回!C23","v":0}]
[22,"","",null,null,null,null,null,null,null,null,null,null,null,null,null,{"$f":"第1回!B24","v":0},{"$f":"第1回!C24","v":0}]
[23,"","",null,null,null,null,null,null,null,null,null,null,null,null,null,{"$f":"第1回!B25","v":0},{"$f":"第1回!C25","v":0}]
[24,"","",null,null,null,null,null,null,null,null,null,null,null,null,null,{"$f":"第1回!B26","v":0},{"$f":"第1回!C26","v":0}]
[25,"","",null,null,null,null,null,null,null,null,null,null,null,null,null,{"$f":"第1回!B27","v":0},{"$f":"第1回!C27","v":0}]
[26,"","",null,null,null,null,null,null,null,null,null,null,null,null,null,{"$f":"第1回!B28","v":0},{"$f":"第1回!C28","v":0}]
[27,"","",null,null,null,null,null,null,null,null,null,null,null,null,null,{"$f":"第1回!B29","v":0},{"$f":"第1回!C29","v":0}]
[28,"","",null,null,null,null,null,null,null,null,null,null,null,null,null,{"$f":"第1回!B30","v":0},{"$f":"第1回!C30","v":0}]
[29,"","",null,null,null,null,null,null,null,null,null,null,null,null,null,{"$f":"第1回!B31","v":0},{"$f":"第1回!C31","v":0}]
[30,"","",null,null,null,null,null,null,null,null,null,null,null,null,null,{"$f":"第1回!B32","v":0},{"$f":"第1回!C32","v":0}]
[31,"","",null,null,null,null,null,null,null,null,null,null,null,null,null,{"$f":"第1回!B33","v":0},{"$f":"第1回!C33","v":0}]
[32,"","",null,null,null,null,null,null,null,null,null,null,null,null,null,{"$f":"第1回!B34","v":0},{"$f":"第1回!C34","v":0}]
[33,"","",null,null,null,null,null,null,null,null,null,null,null,null,null,{"$f":"第1回!B35","v":0},{"$f":"第1回!C35","v":0}]
[34,"","",null,null,null,null,null,null,null,null,null,null,null,null,null,{"$f":"第1回!B36","v":0},{"$f":"第1回!C36","v":0}]
[35,"","",null,null,null,null,null,null,null,null,null,null,null,null,null,{"$f":"第1回!B37","v":0},{"$f":"第1回!C37","v":0}]
[36,"","",null,null,null,null,null,null,null,null,null,null,null,null,null,{"$f":"第1回!B38","v":0},{"$f":"第1回!C38","v":0}]
[37,"","",null,null,null,null,null,null,null,null,null,null,null,null,null,{"$f":"第1回!B39","v":0},{"$f":"第1回!C39","v":0}]
[38,"","",null,null,null,null,null,null,null,null,null,null,null,null,null,{"$f":"第1回!B40","v":0},{"$f":"第1回!C40","v":0}]
[39,"","",null,null,null,null,null,null,null,null,null,null,null,null,null,{"$f":"第1回!B41","v":0},{"$f":"第1回!C41","v":0}]
[40,"","",null,null,null,null,null,null,null,null,null,null,null,null,null,{"$f":"第1回!B42","v":0},{"$f":"第1回!C42","v":0}]

{"sheet":"第14回","index":14,"n_rows":42,"n_cols":30,"rows_kept":42,"cut":false,"hidden":false,"merged":[[38,7,38,14],[39,7,39,14],[40,7,40,14],[41,7,41,14],[32,7,32,14],[33,7,33,14],[34,7,34,14],[35,7,35,14],[36,7,36,14],[37,7,37,14],[26,7,26,14],[27,7,27,14],[28,7,28,14],[29,7,29,14],[30,7,30,14],[31,7,31,14],[20,7,20,14],[21,7,21,14],[22,7,22,14],[23,7,23,14],[24,7,24,14],[25,7,25,14],[14,7,14,14],[15,7,15,14],[16,7,16,14],[17,7,17,14],[18,7,18,14],[19,7,19,14],[8,7,8,14],[9,7,9,14],[10,7,10,14],[11,7,11,14],[12,7,12,14],[13,7,13,14],[2,7,2,14],[3,7,3,14],[4,7,4,14],[5,7,5,14],[6,7,6,14],[7,7,7,14],[0,1,0,2],[0,3,0,4],[0,5,0,8],[0,9,0,10],[0,11,0,14],[1,7,1,14]]}
[14,{"$f":"IF(Q2=0,\"\",Q2)","v":""},null,"主題名",null,{"$f":"IF(R2=0,\"\",R2)","v":""},null,null,null,"資料名",null,{"$f":"IF(S2=0,\"\",S2)","v":""},null,null,null,null,null,null,{"$f":"個票!B6","v":"意欲的に考えることができた"},{"$f":"個票!B7","v":"登場人物を自分に置き換えて考えようとしている"},{"$f":"個票!B8","v":"友達の意見を参考にしながら多面的・多角的に考えようとしている"},{"$f":"個票!B9","v":"今までの自分を振り返りこれからの自分の生き方について考えようとしている"},{"$f":"個票!A10","v":"備考"},{"$f":"第1回!I2","v":0},{"$f":"第1回!J2","v":0},{"$f":"第1回!K2","v":0},{"$f":"第1回!L2","v":0},{"$f":"第1回!M2","v":0},{"$f":"第1回!N2","v":0},{"$f":"第1回!O2","v":0}]
["No","氏　　名","性別",{"$f":"IF(S1=0,\"\",S1)","v":"意欲的に考えることができた"},{"$f":"IF(T1=0,\"\",T1)","v":"登場人物を自分に置き換えて考えようとしている"},"友達の意見を参考にしながら多面的・多角的に考えようとしている","今までの自分を振り返りこれからの自分の生き方について考えようとしている","備考",null,null,null,null,null,null,null,null,{"$f":"個票!P3","v":0},{"$f":"個票!P4","v":0},{"$f":"個票!P5","v":0}]
[1,{"$f":"IF(Q3=0,\"\",Q3)","v":""},{"$f":"IF(R3=0,\"\",R3)","v":""},null,null,null,null,null,null,null,null,null,null,null,null,null,{"$f":"第1回!B3","v":0},{"$f":"第1回!C3","v":0}]
[2,{"$f":"IF(Q4=0,\"\",Q4)","v":""},"",null,null,null,null,null,null,null,null,null,null,null,null,null,{"$f":"第1回!B4","v":0},{"$f":"第1回!C4","v":0}]
[3,{"$f":"IF(Q5=0,\"\",Q5)","v":""},"",null,null,null,null,null,null,null,null,null,null,null,null,null,{"$f":"第1回!B5","v":0},{"$f":"第1回!C5","v":0}]
[4,"","",null,null,null,null,null,null,null,null,null,null,null,null,null,{"$f":"第1回!B6","v":0},{"$f":"第1回!C6","v":0}]
[5,"","",null,null,null,null,null,null,null,null,null,null,null,null,null,{"$f":"第1回!B7","v":0},{"$f":"第1回!C7","v":0}]
[6,"","",null,null,null,null,null,null,null,null,null,null,null,null,null,{"$f":"第1回!B8","v":0},{"$f":"第1回!C8","v":0}]
[7,"","",null,null,null,null,null,null,null,null,null,null,null,null,null,{"$f":"第1回!B9","v":0},{"$f":"第1回!C9","v":0}]
[8,"","",null,null,null,null,null,null,null,null,null,null,null,null,null,{"$f":"第1回!B10","v":0},{"$f":"第1回!C10","v":0}]
[9,"","",null,null,null,null,null,null,null,null,null,null,null,null,null,{"$f":"第1回!B11","v":0},{"$f":"第1回!C11","v":0}]
[10,"","",null,null,null,null,null,null,null,null,null,null,null,null,null,{"$f":"第1回!B12","v":0},{"$f":"第1回!C12","v":0}]
[11,"","",null,null,null,null,null,null,null,null,null,null,null,null,null,{"$f":"第1回!B13","v":0},{"$f":"第1回!C13","v":0}]
[12,"","",null,null,null,null,null,null,null,null,null,null,null,null,null,{"$f":"第1回!B14","v":0},{"$f":"第1回!C14","v":0}]
[13,"","",null,null,null,null,null,null,null,null,null,null,null,null,null,{"$f":"第1回!B15","v":0},{"$f":"第1回!C15","v":0}]
[14,"","",null,null,null,null,null,null,null,null,null,null,null,null,null,{"$f":"第1回!B16","v":0},{"$f":"第1回!C16","v":0}]
[15,"","",null,null,null,null,null,null,null,null,null,null,null,null,null,{"$f":"第1回!B17","v":0},{"$f":"第1回!C17","v":0}]
[16,"","",null,null,null,null,null,null,null,null,null,null,null,null,null,{"$f":"第1回!B18","v":0},{"$f":"第1回!C18","v":0}]
[17,"","",null,null,null,null,null,null,null,null,null,null,null,null,null,{"$f":"第1回!B19","v":0},{"$f":"第1回!C19","v":0}]
[18,"","",null,null,null,null,null,null,null,null,null,null,null,null,null,{"$f":"第1回!B20","v":0},{"$f":"第1回!C20","v":0}]
[19,"","",null,null,null,null,null,null,null,null,null,null,null,null,null,{"$f":"第1回!B21","v":0},{"$f":"第1回!C21","v":0}]
[20,"","",null,null,null,null,null,null,null,null,null,null,null,null,null,{"$f":"第1回!B22","v":0},{"$f":"第1回!C22","v":0}]
[21,"","",null,null,null,null,null,null,null,null,null,null,null,null,null,{"$f":"第1回!B23","v":0},{"$f":"第1回!C23","v":0}]
[22,"","",null,null,null,null,null,null,null,null,null,null,null,null,null,{"$f":"第1回!B24","v":0},{"$f":"第1回!C24","v":0}]
[23,"","",null,null,null,null,null,null,null,null,null,null,null,null,null,{"$f":"第1回!B25","v":0},{"$f":"第1回!C25","v":0}]
[24,"","",null,null,null,null,null,null,null,null,null,null,null,null,null,{"$f":"第1回!B26","v":0},{"$f":"第1回!C26","v":0}]
[25,"","",null,null,null,null,null,null,null,null,null,null,null,null,null,{"$f":"第1回!B27","v":0},{"$f":"第1回!C27","v":0}]
[26,"","",null,null,null,null,null,null,null,null,null,null,null,null,null,{"$f":"第1回!B28","v":0},{"$f":"第1回!C28","v":0}]
[27,"","",null,null,null,null,null,null,null,null,null,null,null,null,null,{"$f":"第1回!B29","v":0},{"$f":"第1回!C29","v":0}]
[28,"","",null,null,null,null,null,null,null,null,null,null,null,null,null,{"$f":"第1回!B30","v":0},{"$f":"第1回!C30","v":0}]
[29,"","",null,null,null,null,null,null,null,null,null,null,null,null,null,{"$f":"第1回!B31","v":0},{"$f":"第1回!C31","v":0}]
[30,"","",null,null,null,null,null,null,null,null,null,null,null,null,null,{"$f":"第1回!B32","v":0},{"$f":"第1回!C32","v":0}]
[31,"","",null,null,null,null,null,null,null,null,null,null,null,null,null,{"$f":"第1回!B33","v":0},{"$f":"第1回!C33","v":0}]
[32,"","",null,null,null,null,null,null,null,null,null,null,null,null,null,{"$f":"第1回!B34","v":0},{"$f":"第1回!C34","v":0}]
[33,"","",null,null,null,null,null,null,null,null,null,null,null,null,null,{"$f":"第1回!B35","v":0},{"$f":"第1回!C35","v":0}]
[34,"","",null,null,null,null,null,null,null,null,null,null,null,null,null,{"$f":"第1回!B36","v":0},{"$f":"第1回!C36","v":0}]
[35,"","",null,null,null,null,null,null,null,null,null,null,null,null,null,{"$f":"第1回!B37","v":0},{"$f":"第1回!C37","v":0}]
[36,"","",null,null,null,null,null,null,null,null,null,null,null,null,null,{"$f":"第1回!B38","v":0},{"$f":"第1回!C38","v":0}]
[37,"","",null,null,null,null,null,null,null,null,null,null,null,null,null,{"$f":"第1回!B39","v":0},{"$f":"第1回!C39","v":0}]
[38,"","",null,null,null,null,null,null,null,null,null,null,null,null,null,{"$f":"第1回!B40","v":0},{"$f":"第1回!C40","v":0}]
[39,"","",null,null,null,null,null,null,null,null,null,null,null,null,null,{"$f":"第1回!B41","v":0},{"$f":"第1回!C41","v":0}]
[40,"","",null,null,null,null,null,null,null,null,null,null,null,null,null,{"$f":"第1回!B42","v":0},{"$f":"第1回!C42","v":0}]

{"sheet":"第15回","index":15,"n_rows":42,"n_cols":30,"rows_kept":42,"cut":false,"hidden":false,"merged":[[38,7,38,14],[39,7,39,14],[40,7,40,14],[41,7,41,14],[32,7,32,14],[33,7,33,14],[34,7,34,14],[35,7,35,14],[36,7,36,14],[37,7,37,14],[26,7,26,14],[27,7,27,14],[28,7,28,14],[29,7,29,14],[30,7,30,14],[31,7,31,14],[20,7,20,14],[21,7,21,14],[22,7,22,14],[23,7,23,14],[24,7,24,14],[25,7,25,14],[14,7,14,14],[15,7,15,14],[16,7,16,14],[17,7,17,14],[18,7,18,14],[19,7,19,14],[8,7,8,14],[9,7,9,14],[10,7,10,14],[11,7,11,14],[12,7,12,14],[13,7,13,14],[2,7,2,14],[3,7,3,14],[4,7,4,14],[5,7,5,14],[6,7,6,14],[7,7,7,14],[0,1,0,2],[0,3,0,4],[0,5,0,8],[0,9,0,10],[0,11,0,14],[1,7,1,14]]}
[15,{"$f":"IF(Q2=0,\"\",Q2)","v":""},null,"主題名",null,{"$f":"IF(R2=0,\"\",R2)","v":""},null,null,null,"資料名",null,{"$f":"IF(S2=0,\"\",S2)","v":""},null,null,null,null,null,null,{"$f":"個票!B6","v":"意欲的に考えることができた"},{"$f":"個票!B7","v":"登場人物を自分に置き換えて考えようとしている"},{"$f":"個票!B8","v":"友達の意見を参考にしながら多面的・多角的に考えようとしている"},{"$f":"個票!B9","v":"今までの自分を振り返りこれからの自分の生き方について考えようとしている"},{"$f":"個票!A10","v":"備考"},{"$f":"第1回!I2","v":0},{"$f":"第1回!J2","v":0},{"$f":"第1回!K2","v":0},{"$f":"第1回!L2","v":0},{"$f":"第1回!M2","v":0},{"$f":"第1回!N2","v":0},{"$f":"第1回!O2","v":0}]
["No","氏　　名","性別",{"$f":"IF(S1=0,\"\",S1)","v":"意欲的に考えることができた"},{"$f":"IF(T1=0,\"\",T1)","v":"登場人物を自分に置き換えて考えようとしている"},"友達の意見を参考にしながら多面的・多角的に考えようとしている","今までの自分を振り返りこれからの自分の生き方について考えようとしている","備考",null,null,null,null,null,null,null,null,{"$f":"個票!Q3","v":0},{"$f":"個票!Q4","v":0},{"$f":"個票!Q5","v":0}]
[1,{"$f":"IF(Q3=0,\"\",Q3)","v":""},{"$f":"IF(R3=0,\"\",R3)","v":""},null,null,null,null,null,null,null,null,null,null,null,null,null,{"$f":"第1回!B3","v":0},{"$f":"第1回!C3","v":0}]
[2,{"$f":"IF(Q4=0,\"\",Q4)","v":""},"",null,null,null,null,null,null,null,null,null,null,null,null,null,{"$f":"第1回!B4","v":0},{"$f":"第1回!C4","v":0}]
[3,{"$f":"IF(Q5=0,\"\",Q5)","v":""},"",null,null,null,null,null,null,null,null,null,null,null,null,null,{"$f":"第1回!B5","v":0},{"$f":"第1回!C5","v":0}]
[4,"","",null,null,null,null,null,null,null,null,null,null,null,null,null,{"$f":"第1回!B6","v":0},{"$f":"第1回!C6","v":0}]
[5,"","",null,null,null,null,null,null,null,null,null,null,null,null,null,{"$f":"第1回!B7","v":0},{"$f":"第1回!C7","v":0}]
[6,"","",null,null,null,null,null,null,null,null,null,null,null,null,null,{"$f":"第1回!B8","v":0},{"$f":"第1回!C8","v":0}]
[7,"","",null,null,null,null,null,null,null,null,null,null,null,null,null,{"$f":"第1回!B9","v":0},{"$f":"第1回!C9","v":0}]
[8,"","",null,null,null,null,null,null,null,null,null,null,null,null,null,{"$f":"第1回!B10","v":0},{"$f":"第1回!C10","v":0}]
[9,"","",null,null,null,null,null,null,null,null,null,null,null,null,null,{"$f":"第1回!B11","v":0},{"$f":"第1回!C11","v":0}]
[10,"","",null,null,null,null,null,null,null,null,null,null,null,null,null,{"$f":"第1回!B12","v":0},{"$f":"第1回!C12","v":0}]
[11,"","",null,null,null,null,null,null,null,null,null,null,null,null,null,{"$f":"第1回!B13","v":0},{"$f":"第1回!C13","v":0}]
[12,"","",null,null,null,null,null,null,null,null,null,null,null,null,null,{"$f":"第1回!B14","v":0},{"$f":"第1回!C14","v":0}]
[13,"","",null,null,null,null,null,null,null,null,null,null,null,null,null,{"$f":"第1回!B15","v":0},{"$f":"第1回!C15","v":0}]
[14,"","",null,null,null,null,null,null,null,null,null,null,null,null,null,{"$f":"第1回!B16","v":0},{"$f":"第1回!C16","v":0}]
[15,"","",null,null,null,null,null,null,null,null,null,null,null,null,null,{"$f":"第1回!B17","v":0},{"$f":"第1回!C17","v":0}]
[16,"","",null,null,null,null,null,null,null,null,null,null,null,null,null,{"$f":"第1回!B18","v":0},{"$f":"第1回!C18","v":0}]
[17,"","",null,null,null,null,null,null,null,null,null,null,null,null,null,{"$f":"第1回!B19","v":0},{"$f":"第1回!C19","v":0}]
[18,"","",null,null,null,null,null,null,null,null,null,null,null,null,null,{"$f":"第1回!B20","v":0},{"$f":"第1回!C20","v":0}]
[19,"","",null,null,null,null,null,null,null,null,null,null,null,null,null,{"$f":"第1回!B21","v":0},{"$f":"第1回!C21","v":0}]
[20,"","",null,null,null,null,null,null,null,null,null,null,null,null,null,{"$f":"第1回!B22","v":0},{"$f":"第1回!C22","v":0}]
[21,"","",null,null,null,null,null,null,null,null,null,null,null,null,null,{"$f":"第1回!B23","v":0},{"$f":"第1回!C23","v":0}]
[22,"","",null,null,null,null,null,null,null,null,null,null,null,null,null,{"$f":"第1回!B24","v":0},{"$f":"第1回!C24","v":0}]
[23,"","",null,null,null,null,null,null,null,null,null,null,null,null,null,{"$f":"第1回!B25","v":0},{"$f":"第1回!C25","v":0}]
[24,"","",null,null,null,null,null,null,null,null,null,null,null,null,null,{"$f":"第1回!B26","v":0},{"$f":"第1回!C26","v":0}]
[25,"","",null,null,null,null,null,null,null,null,null,null,null,null,null,{"$f":"第1回!B27","v":0},{"$f":"第1回!C27","v":0}]
[26,"","",null,null,null,null,null,null,null,null,null,null,null,null,null,{"$f":"第1回!B28","v":0},{"$f":"第1回!C28","v":0}]
[27,"","",null,null,null,null,null,null,null,null,null,null,null,null,null,{"$f":"第1回!B29","v":0},{"$f":"第1回!C29","v":0}]
[28,"","",null,null,null,null,null,null,null,null,null,null,null,null,null,{"$f":"第1回!B30","v":0},{"$f":"第1回!C30","v":0}]
[29,"","",null,null,null,null,null,null,null,null,null,null,null,null,null,{"$f":"第1回!B31","v":0},{"$f":"第1回!C31","v":0}]
[30,"","",null,null,null,null,null,null,null,null,null,null,null,null,null,{"$f":"第1回!B32","v":0},{"$f":"第1回!C32","v":0}]
[31,"","",null,null,null,null,null,null,null,null,null,null,null,null,null,{"$f":"第1回!B33","v":0},{"$f":"第1回!C33","v":0}]
[32,"","",null,null,null,null,null,null,null,null,null,null,null,null,null,{"$f":"第1回!B34","v":0},{"$f":"第1回!C34","v":0}]
[33,"","",null,null,null,null,null,null,null,null,null,null,null,null,null,{"$f":"第1回!B35","v":0},{"$f":"第1回!C35","v":0}]
[34,"","",null,null,null,null,null,null,null,null,null,null,null,null,null,{"$f":"第1回!B36","v":0},{"$f":"第1回!C36","v":0}]
[35,"","",null,null,null,null,null,null,null,null,null,null,null,null,null,{"$f":"第1回!B37","v":0},{"$f":"第1回!C37","v":0}]
[36,"","",null,null,null,null,null,null,null,null,null,null,null,null,null,{"$f":"第1回!B38","v":0},{"$f":"第1回!C38","v":0}]
[37,"","",null,null,null,null,null,null,null,null,null,null,null,null,null,{"$f":"第1回!B39","v":0},{"$f":"第1回!C39","v":0}]
[38,"","",null,null,null,null,null,null,null,null,null,null,null,null,null,{"$f":"第1回!B40","v":0},{"$f":"第1回!C40","v":0}]
[39,"","",null,null,null,null,null,null,null,null,null,null,null,null,null,{"$f":"第1回!B41","v":0},{"$f":"第1回!C41","v":0}]
[40,"","",null,null,null,null,null,null,null,null,null,null,null,null,null,{"$f":"第1回!B42","v":0},{"$f":"第1回!C42","v":0}]

{"sheet":"第16回","index":16,"n_rows":42,"n_cols":30,"rows_kept":42,"cut":false,"hidden":false,"merged":[[38,7,38,14],[39,7,39,14],[40,7,40,14],[41,7,41,14],[32,7,32,14],[33,7,33,14],[34,7,34,14],[35,7,35,14],[36,7,36,14],[37,7,37,14],[26,7,26,14],[27,7,27,14],[28,7,28,14],[29,7,29,14],[30,7,30,14],[31,7,31,14],[20,7,20,14],[21,7,21,14],[22,7,22,14],[23,7,23,14],[24,7,24,14],[25,7,25,14],[14,7,14,14],[15,7,15,14],[16,7,16,14],[17,7,17,14],[18,7,18,14],[19,7,19,14],[8,7,8,14],[9,7,9,14],[10,7,10,14],[11,7,11,14],[12,7,12,14],[13,7,13,14],[2,7,2,14],[3,7,3,14],[4,7,4,14],[5,7,5,14],[6,7,6,14],[7,7,7,14],[0,1,0,2],[0,3,0,4],[0,5,0,8],[0,9,0,10],[0,11,0,14],[1,7,1,14]]}
[16,{"$f":"IF(Q2=0,\"\",Q2)","v":""},null,"主題名",null,{"$f":"IF(R2=0,\"\",R2)","v":""},null,null,null,"資料名",null,{"$f":"IF(S2=0,\"\",S2)","v":""},null,null,null,null,null,null,{"$f":"個票!B6","v":"意欲的に考えることができた"},{"$f":"個票!B7","v":"登場人物を自分に置き換えて考えようとしている"},{"$f":"個票!B8","v":"友達の意見を参考にしながら多面的・多角的に考えようとしている"},{"$f":"個票!B9","v":"今までの自分を振り返りこれからの自分の生き方について考えようとしている"},{"$f":"個票!A10","v":"備考"},{"$f":"第1回!I2","v":0},{"$f":"第1回!J2","v":0},{"$f":"第1回!K2","v":0},{"$f":"第1回!L2","v":0},{"$f":"第1回!M2","v":0},{"$f":"第1回!N2","v":0},{"$f":"第1回!O2","v":0}]
["No","氏　　名","性別",{"$f":"IF(S1=0,\"\",S1)","v":"意欲的に考えることができた"},{"$f":"IF(T1=0,\"\",T1)","v":"登場人物を自分に置き換えて考えようとしている"},"友達の意見を参考にしながら多面的・多角的に考えようとしている","今までの自分を振り返りこれからの自分の生き方について考えようとしている","備考",null,null,null,null,null,null,null,null,{"$f":"個票!R3","v":0},{"$f":"個票!R4","v":0},{"$f":"個票!R5","v":0}]
[1,{"$f":"IF(Q3=0,\"\",Q3)","v":""},{"$f":"IF(R3=0,\"\",R3)","v":""},null,null,null,null,null,null,null,null,null,null,null,null,null,{"$f":"第1回!B3","v":0},{"$f":"第1回!C3","v":0}]
[2,{"$f":"IF(Q4=0,\"\",Q4)","v":""},"",null,null,null,null,null,null,null,null,null,null,null,null,null,{"$f":"第1回!B4","v":0},{"$f":"第1回!C4","v":0}]
[3,{"$f":"IF(Q5=0,\"\",Q5)","v":""},"",null,null,null,null,null,null,null,null,null,null,null,null,null,{"$f":"第1回!B5","v":0},{"$f":"第1回!C5","v":0}]
[4,"","",null,null,null,null,null,null,null,null,null,null,null,null,null,{"$f":"第1回!B6","v":0},{"$f":"第1回!C6","v":0}]
[5,"","",null,null,null,null,null,null,null,null,null,null,null,null,null,{"$f":"第1回!B7","v":0},{"$f":"第1回!C7","v":0}]
[6,"","",null,null,null,null,null,null,null,null,null,null,null,null,null,{"$f":"第1回!B8","v":0},{"$f":"第1回!C8","v":0}]
[7,"","",null,null,null,null,null,null,null,null,null,null,null,null,null,{"$f":"第1回!B9","v":0},{"$f":"第1回!C9","v":0}]
[8,"","",null,null,null,null,null,null,null,null,null,null,null,null,null,{"$f":"第1回!B10","v":0},{"$f":"第1回!C10","v":0}]
[9,"","",null,null,null,null,null,null,null,null,null,null,null,null,null,{"$f":"第1回!B11","v":0},{"$f":"第1回!C11","v":0}]
[10,"","",null,null,null,null,null,null,null,null,null,null,null,null,null,{"$f":"第1回!B12","v":0},{"$f":"第1回!C12","v":0}]
[11,"","",null,null,null,null,null,null,null,null,null,null,null,null,null,{"$f":"第1回!B13","v":0},{"$f":"第1回!C13","v":0}]
[12,"","",null,null,null,null,null,null,null,null,null,null,null,null,null,{"$f":"第1回!B14","v":0},{"$f":"第1回!C14","v":0}]
[13,"","",null,null,null,null,null,null,null,null,null,null,null,null,null,{"$f":"第1回!B15","v":0},{"$f":"第1回!C15","v":0}]
[14,"","",null,null,null,null,null,null,null,null,null,null,null,null,null,{"$f":"第1回!B16","v":0},{"$f":"第1回!C16","v":0}]
[15,"","",null,null,null,null,null,null,null,null,null,null,null,null,null,{"$f":"第1回!B17","v":0},{"$f":"第1回!C17","v":0}]
[16,"","",null,null,null,null,null,null,null,null,null,null,null,null,null,{"$f":"第1回!B18","v":0},{"$f":"第1回!C18","v":0}]
[17,"","",null,null,null,null,null,null,null,null,null,null,null,null,null,{"$f":"第1回!B19","v":0},{"$f":"第1回!C19","v":0}]
[18,"","",null,null,null,null,null,null,null,null,null,null,null,null,null,{"$f":"第1回!B20","v":0},{"$f":"第1回!C20","v":0}]
[19,"","",null,null,null,null,null,null,null,null,null,null,null,null,null,{"$f":"第1回!B21","v":0},{"$f":"第1回!C21","v":0}]
[20,"","",null,null,null,null,null,null,null,null,null,null,null,null,null,{"$f":"第1回!B22","v":0},{"$f":"第1回!C22","v":0}]
[21,"","",null,null,null,null,null,null,null,null,null,null,null,null,null,{"$f":"第1回!B23","v":0},{"$f":"第1回!C23","v":0}]
[22,"","",null,null,null,null,null,null,null,null,null,null,null,null,null,{"$f":"第1回!B24","v":0},{"$f":"第1回!C24","v":0}]
[23,"","",null,null,null,null,null,null,null,null,null,null,null,null,null,{"$f":"第1回!B25","v":0},{"$f":"第1回!C25","v":0}]
[24,"","",null,null,null,null,null,null,null,null,null,null,null,null,null,{"$f":"第1回!B26","v":0},{"$f":"第1回!C26","v":0}]
[25,"","",null,null,null,null,null,null,null,null,null,null,null,null,null,{"$f":"第1回!B27","v":0},{"$f":"第1回!C27","v":0}]
[26,"","",null,null,null,null,null,null,null,null,null,null,null,null,null,{"$f":"第1回!B28","v":0},{"$f":"第1回!C28","v":0}]
[27,"","",null,null,null,null,null,null,null,null,null,null,null,null,null,{"$f":"第1回!B29","v":0},{"$f":"第1回!C29","v":0}]
[28,"","",null,null,null,null,null,null,null,null,null,null,null,null,null,{"$f":"第1回!B30","v":0},{"$f":"第1回!C30","v":0}]
[29,"","",null,null,null,null,null,null,null,null,null,null,null,null,null,{"$f":"第1回!B31","v":0},{"$f":"第1回!C31","v":0}]
[30,"","",null,null,null,null,null,null,null,null,null,null,null,null,null,{"$f":"第1回!B32","v":0},{"$f":"第1回!C32","v":0}]
[31,"","",null,null,null,null,null,null,null,null,null,null,null,null,null,{"$f":"第1回!B33","v":0},{"$f":"第1回!C33","v":0}]
[32,"","",null,null,null,null,null,null,null,null,null,null,null,null,null,{"$f":"第1回!B34","v":0},{"$f":"第1回!C34","v":0}]
[33,"","",null,null,null,null,null,null,null,null,null,null,null,null,null,{"$f":"第1回!B35","v":0},{"$f":"第1回!C35","v":0}]
[34,"","",null,null,null,null,null,null,null,null,null,null,null,null,null,{"$f":"第1回!B36","v":0},{"$f":"第1回!C36","v":0}]
[35,"","",null,null,null,null,null,null,null,null,null,null,null,null,null,{"$f":"第1回!B37","v":0},{"$f":"第1回!C37","v":0}]
[36,"","",null,null,null,null,null,null,null,null,null,null,null,null,null,{"$f":"第1回!B38","v":0},{"$f":"第1回!C38","v":0}]
[37,"","",null,null,null,null,null,null,null,null,null,null,null,null,null,{"$f":"第1回!B39","v":0},{"$f":"第1回!C39","v":0}]
[38,"","",null,null,null,null,null,null,null,null,null,null,null,null,null,{"$f":"第1回!B40","v":0},{"$f":"第1回!C40","v":0}]
[39,"","",null,null,null,null,null,null,null,null,null,null,null,null,null,{"$f":"第1回!B41","v":0},{"$f":"第1回!C41","v":0}]
[40,"","",null,null,null,null,null,null,null,null,null,null,null,null,null,{"$f":"第1回!B42","v":0},{"$f":"第1回!C42","v":0}]

{"sheet":"第17回","index":17,"n_rows":42,"n_cols":30,"rows_kept":42,"cut":false,"hidden":false,"merged":[[38,7,38,14],[39,7,39,14],[40,7,40,14],[41,7,41,14],[32,7,32,14],[33,7,33,14],[34,7,34,14],[35,7,35,14],[36,7,36,14],[37,7,37,14],[26,7,26,14],[27,7,27,14],[28,7,28,14],[29,7,29,14],[30,7,30,14],[31,7,31,14],[20,7,20,14],[21,7,21,14],[22,7,22,14],[23,7,23,14],[24,7,24,14],[25,7,25,14],[14,7,14,14],[15,7,15,14],[16,7,16,14],[17,7,17,14],[18,7,18,14],[19,7,19,14],[8,7,8,14],[9,7,9,14],[10,7,10,14],[11,7,11,14],[12,7,12,14],[13,7,13,14],[2,7,2,14],[3,7,3,14],[4,7,4,14],[5,7,5,14],[6,7,6,14],[7,7,7,14],[0,1,0,2],[0,3,0,4],[0,5,0,8],[0,9,0,10],[0,11,0,14],[1,7,1,14]]}
[17,{"$f":"IF(Q2=0,\"\",Q2)","v":""},null,"主題名",null,{"$f":"IF(R2=0,\"\",R2)","v":""},null,null,null,"資料名",null,{"$f":"IF(S2=0,\"\",S2)","v":""},null,null,null,null,null,null,{"$f":"個票!B6","v":"意欲的に考えることができた"},{"$f":"個票!B7","v":"登場人物を自分に置き換えて考えようとしている"},{"$f":"個票!B8","v":"友達の意見を参考にしながら多面的・多角的に考えようとしている"},{"$f":"個票!B9","v":"今までの自分を振り返りこれからの自分の生き方について考えようとしている"},{"$f":"個票!A10","v":"備考"},{"$f":"第1回!I2","v":0},{"$f":"第1回!J2","v":0},{"$f":"第1回!K2","v":0},{"$f":"第1回!L2","v":0},{"$f":"第1回!M2","v":0},{"$f":"第1回!N2","v":0},{"$f":"第1回!O2","v":0}]
["No","氏　　名","性別",{"$f":"IF(S1=0,\"\",S1)","v":"意欲的に考えることができた"},{"$f":"IF(T1=0,\"\",T1)","v":"登場人物を自分に置き換えて考えようとしている"},"友達の意見を参考にしながら多面的・多角的に考えようとしている","今までの自分を振り返りこれからの自分の生き方について考えようとしている","備考",null,null,null,null,null,null,null,null,{"$f":"個票!S3","v":0},{"$f":"個票!S4","v":0},{"$f":"個票!S5","v":0}]
[1,{"$f":"IF(Q3=0,\"\",Q3)","v":""},{"$f":"IF(R3=0,\"\",R3)","v":""},null,null,null,null,null,null,null,null,null,null,null,null,null,{"$f":"第1回!B3","v":0},{"$f":"第1回!C3","v":0}]
[2,{"$f":"IF(Q4=0,\"\",Q4)","v":""},"",null,null,null,null,null,null,null,null,null,null,null,null,null,{"$f":"第1回!B4","v":0},{"$f":"第1回!C4","v":0}]
[3,{"$f":"IF(Q5=0,\"\",Q5)","v":""},"",null,null,null,null,null,null,null,null,null,null,null,null,null,{"$f":"第1回!B5","v":0},{"$f":"第1回!C5","v":0}]
[4,"","",null,null,null,null,null,null,null,null,null,null,null,null,null,{"$f":"第1回!B6","v":0},{"$f":"第1回!C6","v":0}]
[5,"","",null,null,null,null,null,null,null,null,null,null,null,null,null,{"$f":"第1回!B7","v":0},{"$f":"第1回!C7","v":0}]
[6,"","",null,null,null,null,null,null,null,null,null,null,null,null,null,{"$f":"第1回!B8","v":0},{"$f":"第1回!C8","v":0}]
[7,"","",null,null,null,null,null,null,null,null,null,null,null,null,null,{"$f":"第1回!B9","v":0},{"$f":"第1回!C9","v":0}]
[8,"","",null,null,null,null,null,null,null,null,null,null,null,null,null,{"$f":"第1回!B10","v":0},{"$f":"第1回!C10","v":0}]
[9,"","",null,null,null,null,null,null,null,null,null,null,null,null,null,{"$f":"第1回!B11","v":0},{"$f":"第1回!C11","v":0}]
[10,"","",null,null,null,null,null,null,null,null,null,null,null,null,null,{"$f":"第1回!B12","v":0},{"$f":"第1回!C12","v":0}]
[11,"","",null,null,null,null,null,null,null,null,null,null,null,null,null,{"$f":"第1回!B13","v":0},{"$f":"第1回!C13","v":0}]
[12,"","",null,null,null,null,null,null,null,null,null,null,null,null,null,{"$f":"第1回!B14","v":0},{"$f":"第1回!C14","v":0}]
[13,"","",null,null,null,null,null,null,null,null,null,null,null,null,null,{"$f":"第1回!B15","v":0},{"$f":"第1回!C15","v":0}]
[14,"","",null,null,null,null,null,null,null,null,null,null,null,null,null,{"$f":"第1回!B16","v":0},{"$f":"第1回!C16","v":0}]
[15,"","",null,null,null,null,null,null,null,null,null,null,null,null,null,{"$f":"第1回!B17","v":0},{"$f":"第1回!C17","v":0}]
[16,"","",null,null,null,null,null,null,null,null,null,null,null,null,null,{"$f":"第1回!B18","v":0},{"$f":"第1回!C18","v":0}]
[17,"","",null,null,null,null,null,null,null,null,null,null,null,null,null,{"$f":"第1回!B19","v":0},{"$f":"第1回!C19","v":0}]
[18,"","",null,null,null,null,null,null,null,null,null,null,null,null,null,{"$f":"第1回!B20","v":0},{"$f":"第1回!C20","v":0}]
[19,"","",null,null,null,null,null,null,null,null,null,null,null,null,null,{"$f":"第1回!B21","v":0},{"$f":"第1回!C21","v":0}]
[20,"","",null,null,null,null,null,null,null,null,null,null,null,null,null,{"$f":"第1回!B22","v":0},{"$f":"第1回!C22","v":0}]
[21,"","",null,null,null,null,null,null,null,null,null,null,null,null,null,{"$f":"第1回!B23","v":0},{"$f":"第1回!C23","v":0}]
[22,"","",null,null,null,null,null,null,null,null,null,null,null,null,null,{"$f":"第1回!B24","v":0},{"$f":"第1回!C24","v":0}]
[23,"","",null,null,null,null,null,null,null,null,null,null,null,null,null,{"$f":"第1回!B25","v":0},{"$f":"第1回!C25","v":0}]
[24,"","",null,null,null,null,null,null,null,null,null,null,null,null,null,{"$f":"第1回!B26","v":0},{"$f":"第1回!C26","v":0}]
[25,"","",null,null,null,null,null,null,null,null,null,null,null,null,null,{"$f":"第1回!B27","v":0},{"$f":"第1回!C27","v":0}]
[26,"","",null,null,null,null,null,null,null,null,null,null,null,null,null,{"$f":"第1回!B28","v":0},{"$f":"第1回!C28","v":0}]
[27,"","",null,null,null,null,null,null,null,null,null,null,null,null,null,{"$f":"第1回!B29","v":0},{"$f":"第1回!C29","v":0}]
[28,"","",null,null,null,null,null,null,null,null,null,null,null,null,null,{"$f":"第1回!B30","v":0},{"$f":"第1回!C30","v":0}]
[29,"","",null,null,null,null,null,null,null,null,null,null,null,null,null,{"$f":"第1回!B31","v":0},{"$f":"第1回!C31","v":0}]
[30,"","",null,null,null,null,null,null,null,null,null,null,null,null,null,{"$f":"第1回!B32","v":0},{"$f":"第1回!C32","v":0}]
[31,"","",null,null,null,null,null,null,null,null,null,null,null,null,null,{"$f":"第1回!B33","v":0},{"$f":"第1回!C33","v":0}]
[32,"","",null,null,null,null,null,null,null,null,null,null,null,null,null,{"$f":"第1回!B34","v":0},{"$f":"第1回!C34","v":0}]
[33,"","",null,null,null,null,null,null,null,null,null,null,null,null,null,{"$f":"第1回!B35","v":0},{"$f":"第1回!C35","v":0}]
[34,"","",null,null,null,null,null,null,null,null,null,null,null,null,null,{"$f":"第1回!B36","v":0},{"$f":"第1回!C36","v":0}]
[35,"","",null,null,null,null,null,null,null,null,null,null,null,null,null,{"$f":"第1回!B37","v":0},{"$f":"第1回!C37","v":0}]
[36,"","",null,null,null,null,null,null,null,null,null,null,null,null,null,{"$f":"第1回!B38","v":0},{"$f":"第1回!C38","v":0}]
[37,"","",null,null,null,null,null,null,null,null,null,null,null,null,null,{"$f":"第1回!B39","v":0},{"$f":"第1回!C39","v":0}]
[38,"","",null,null,null,null,null,null,null,null,null,null,null,null,null,{"$f":"第1回!B40","v":0},{"$f":"第1回!C40","v":0}]
[39,"","",null,null,null,null,null,null,null,null,null,null,null,null,null,{"$f":"第1回!B41","v":0},{"$f":"第1回!C41","v":0}]
[40,"","",null,null,null,null,null,null,null,null,null,null,null,null,null,{"$f":"第1回!B42","v":0},{"$f":"第1回!C42","v":0}]

{"sheet":"第18回","index":18,"n_rows":42,"n_cols":30,"rows_kept":42,"cut":false,"hidden":false,"merged":[[38,7,38,14],[39,7,39,14],[40,7,40,14],[41,7,41,14],[32,7,32,14],[33,7,33,14],[34,7,34,14],[35,7,35,14],[36,7,36,14],[37,7,37,14],[26,7,26,14],[27,7,27,14],[28,7,28,14],[29,7,29,14],[30,7,30,14],[31,7,31,14],[20,7,20,14],[21,7,21,14],[22,7,22,14],[23,7,23,14],[24,7,24,14],[25,7,25,14],[14,7,14,14],[15,7,15,14],[16,7,16,14],[17,7,17,14],[18,7,18,14],[19,7,19,14],[8,7,8,14],[9,7,9,14],[10,7,10,14],[11,7,11,14],[12,7,12,14],[13,7,13,14],[2,7,2,14],[3,7,3,14],[4,7,4,14],[5,7,5,14],[6,7,6,14],[7,7,7,14],[0,1,0,2],[0,3,0,4],[0,5,0,8],[0,9,0,10],[0,11,0,14],[1,7,1,14]]}
[18,{"$f":"IF(Q2=0,\"\",Q2)","v":""},null,"主題名",null,{"$f":"IF(R2=0,\"\",R2)","v":""},null,null,null,"資料名",null,{"$f":"IF(S2=0,\"\",S2)","v":""},null,null,null,null,null,null,{"$f":"個票!B6","v":"意欲的に考えることができた"},{"$f":"個票!B7","v":"登場人物を自分に置き換えて考えようとしている"},{"$f":"個票!B8","v":"友達の意見を参考にしながら多面的・多角的に考えようとしている"},{"$f":"個票!B9","v":"今までの自分を振り返りこれからの自分の生き方について考えようとしている"},{"$f":"個票!A10","v":"備考"},{"$f":"第1回!I2","v":0},{"$f":"第1回!J2","v":0},{"$f":"第1回!K2","v":0},{"$f":"第1回!L2","v":0},{"$f":"第1回!M2","v":0},{"$f":"第1回!N2","v":0},{"$f":"第1回!O2","v":0}]
["No","氏　　名","性別",{"$f":"IF(S1=0,\"\",S1)","v":"意欲的に考えることができた"},{"$f":"IF(T1=0,\"\",T1)","v":"登場人物を自分に置き換えて考えようとしている"},"友達の意見を参考にしながら多面的・多角的に考えようとしている","今までの自分を振り返りこれからの自分の生き方について考えようとしている","備考",null,null,null,null,null,null,null,null,{"$f":"個票!T3","v":0},{"$f":"個票!T4","v":0},{"$f":"個票!T5","v":0}]
[1,{"$f":"IF(Q3=0,\"\",Q3)","v":""},{"$f":"IF(R3=0,\"\",R3)","v":""},null,null,null,null,null,null,null,null,null,null,null,null,null,{"$f":"第1回!B3","v":0},{"$f":"第1回!C3","v":0}]
[2,{"$f":"IF(Q4=0,\"\",Q4)","v":""},"",null,null,null,null,null,null,null,null,null,null,null,null,null,{"$f":"第1回!B4","v":0},{"$f":"第1回!C4","v":0}]
[3,{"$f":"IF(Q5=0,\"\",Q5)","v":""},"",null,null,null,null,null,null,null,null,null,null,null,null,null,{"$f":"第1回!B5","v":0},{"$f":"第1回!C5","v":0}]
[4,"","",null,null,null,null,null,null,null,null,null,null,null,null,null,{"$f":"第1回!B6","v":0},{"$f":"第1回!C6","v":0}]
[5,"","",null,null,null,null,null,null,null,null,null,null,null,null,null,{"$f":"第1回!B7","v":0},{"$f":"第1回!C7","v":0}]
[6,"","",null,null,null,null,null,null,null,null,null,null,null,null,null,{"$f":"第1回!B8","v":0},{"$f":"第1回!C8","v":0}]
[7,"","",null,null,null,null,null,null,null,null,null,null,null,null,null,{"$f":"第1回!B9","v":0},{"$f":"第1回!C9","v":0}]
[8,"","",null,null,null,null,null,null,null,null,null,null,null,null,null,{"$f":"第1回!B10","v":0},{"$f":"第1回!C10","v":0}]
[9,"","",null,null,null,null,null,null,null,null,null,null,null,null,null,{"$f":"第1回!B11","v":0},{"$f":"第1回!C11","v":0}]
[10,"","",null,null,null,null,null,null,null,null,null,null,null,null,null,{"$f":"第1回!B12","v":0},{"$f":"第1回!C12","v":0}]
[11,"","",null,null,null,null,null,null,null,null,null,null,null,null,null,{"$f":"第1回!B13","v":0},{"$f":"第1回!C13","v":0}]
[12,"","",null,null,null,null,null,null,null,null,null,null,null,null,null,{"$f":"第1回!B14","v":0},{"$f":"第1回!C14","v":0}]
[13,"","",null,null,null,null,null,null,null,null,null,null,null,null,null,{"$f":"第1回!B15","v":0},{"$f":"第1回!C15","v":0}]
[14,"","",null,null,null,null,null,null,null,null,null,null,null,null,null,{"$f":"第1回!B16","v":0},{"$f":"第1回!C16","v":0}]
[15,"","",null,null,null,null,null,null,null,null,null,null,null,null,null,{"$f":"第1回!B17","v":0},{"$f":"第1回!C17","v":0}]
[16,"","",null,null,null,null,null,null,null,null,null,null,null,null,null,{"$f":"第1回!B18","v":0},{"$f":"第1回!C18","v":0}]
[17,"","",null,null,null,null,null,null,null,null,null,null,null,null,null,{"$f":"第1回!B19","v":0},{"$f":"第1回!C19","v":0}]
[18,"","",null,null,null,null,null,null,null,null,null,null,null,null,null,{"$f":"第1回!B20","v":0},{"$f":"第1回!C20","v":0}]
[19,"","",null,null,null,null,null,null,null,null,null,null,null,null,null,{"$f":"第1回!B21","v":0},{"$f":"第1回!C21","v":0}]
[20,"","",null,null,null,null,null,null,null,null,null,null,null,null,null,{"$f":"第1回!B22","v":0},{"$f":"第1回!C22","v":0}]
[21,"","",null,null,null,null,null,null,null,null,null,null,null,null,null,{"$f":"第1回!B23","v":0},{"$f":"第1回!C23","v":0}]
[22,"","",null,null,null,null,null,null,null,null,null,null,null,null,null,{"$f":"第1回!B24","v":0},{"$f":"第1回!C24","v":0}]
[23,"","",null,null,null,null,null,null,null,null,null,null,null,null,null,{"$f":"第1回!B25","v":0},{"$f":"第1回!C25","v":0}]
[24,"","",null,null,null,null,null,null,null,null,null,null,null,null,null,{"$f":"第1回!B26","v":0},{"$f":"第1回!C26","v":0}]
[25,"","",null,null,null,null,null,null,null,null,null,null,null,null,null,{"$f":"第1回!B27","v":0},{"$f":"第1回!C27","v":0}]
[26,"","",null,null,null,null,null,null,null,null,null,null,null,null,null,{"$f":"第1回!B28","v":0},{"$f":"第1回!C28","v":0}]
[27,"","",null,null,null,null,null,null,null,null,null,null,null,null,null,{"$f":"第1回!B29","v":0},{"$f":"第1回!C29","v":0}]
[28,"","",null,null,null,null,null,null,null,null,null,null,null,null,null,{"$f":"第1回!B30","v":0},{"$f":"第1回!C30","v":0}]
[29,"","",null,null,null,null,null,null,null,null,null,null,null,null,null,{"$f":"第1回!B31","v":0},{"$f":"第1回!C31","v":0}]
[30,"","",null,null,null,null,null,null,null,null,null,null,null,null,null,{"$f":"第1回!B32","v":0},{"$f":"第1回!C32","v":0}]
[31,"","",null,null,null,null,null,null,null,null,null,null,null,null,null,{"$f":"第1回!B33","v":0},{"$f":"第1回!C33","v":0}]
[32,"","",null,null,null,null,null,null,null,null,null,null,null,null,null,{"$f":"第1回!B34","v":0},{"$f":"第1回!C34","v":0}]
[33,"","",null,null,null,null,null,null,null,null,null,null,null,null,null,{"$f":"第1回!B35","v":0},{"$f":"第1回!C35","v":0}]
[34,"","",null,null,null,null,null,null,null,null,null,null,null,null,null,{"$f":"第1回!B36","v":0},{"$f":"第1回!C36","v":0}]
[35,"","",null,null,null,null,null,null,null,null,null,null,null,null,null,{"$f":"第1回!B37","v":0},{"$f":"第1回!C37","v":0}]
[36,"","",null,null,null,null,null,null,null,null,null,null,null,null,null,{"$f":"第1回!B38","v":0},{"$f":"第1回!C38","v":0}]
[37,"","",null,null,null,null,null,null,null,null,null,null,null,null,null,{"$f":"第1回!B39","v":0},{"$f":"第1回!C39","v":0}]
[38,"","",null,null,null,null,null,null,null,null,null,null,null,null,null,{"$f":"第1回!B40","v":0},{"$f":"第1回!C40","v":0}]
[39,"","",null,null,null,null,null,null,null,null,null,null,null,null,null,{"$f":"第1回!B41","v":0},{"$f":"第1回!C41","v":0}]
[40,"","",null,null,null,null,null,null,null,null,null,null,null,null,null,{"$f":"第1回!B42","v":0},{"$f":"第1回!C42","v":0}]

{"sheet":"第19回","index":19,"n_rows":42,"n_cols":30,"rows_kept":42,"cut":false,"hidden":false,"merged":[[38,7,38,14],[39,7,39,14],[40,7,40,14],[41,7,41,14],[32,7,32,14],[33,7,33,14],[34,7,34,14],[35,7,35,14],[36,7,36,14],[37,7,37,14],[26,7,26,14],[27,7,27,14],[28,7,28,14],[29,7,29,14],[30,7,30,14],[31,7,31,14],[20,7,20,14],[21,7,21,14],[22,7,22,14],[23,7,23,14],[24,7,24,14],[25,7,25,14],[14,7,14,14],[15,7,15,14],[16,7,16,14],[17,7,17,14],[18,7,18,14],[19,7,19,14],[8,7,8,14],[9,7,9,14],[10,7,10,14],[11,7,11,14],[12,7,12,14],[13,7,13,14],[2,7,2,14],[3,7,3,14],[4,7,4,14],[5,7,5,14],[6,7,6,14],[7,7,7,14],[0,1,0,2],[0,3,0,4],[0,5,0,8],[0,9,0,10],[0,11,0,14],[1,7,1,14]]}
[19,{"$f":"IF(Q2=0,\"\",Q2)","v":""},null,"主題名",null,{"$f":"IF(R2=0,\"\",R2)","v":""},null,null,null,"資料名",null,{"$f":"IF(S2=0,\"\",S2)","v":""},null,null,null,null,null,null,{"$f":"個票!B6","v":"意欲的に考えることができた"},{"$f":"個票!B7","v":"登場人物を自分に置き換えて考えようとしている"},{"$f":"個票!B8","v":"友達の意見を参考にしながら多面的・多角的に考えようとしている"},{"$f":"個票!B9","v":"今までの自分を振り返りこれからの自分の生き方について考えようとしている"},{"$f":"個票!A10","v":"備考"},{"$f":"第1回!I2","v":0},{"$f":"第1回!J2","v":0},{"$f":"第1回!K2","v":0},{"$f":"第1回!L2","v":0},{"$f":"第1回!M2","v":0},{"$f":"第1回!N2","v":0},{"$f":"第1回!O2","v":0}]
["No","氏　　名","性別",{"$f":"IF(S1=0,\"\",S1)","v":"意欲的に考えることができた"},{"$f":"IF(T1=0,\"\",T1)","v":"登場人物を自分に置き換えて考えようとしている"},"友達の意見を参考にしながら多面的・多角的に考えようとしている","今までの自分を振り返りこれからの自分の生き方について考えようとしている","備考",null,null,null,null,null,null,null,null,{"$f":"個票!U3","v":0},{"$f":"個票!U4","v":0},{"$f":"個票!U5","v":0}]
[1,{"$f":"IF(Q3=0,\"\",Q3)","v":""},{"$f":"IF(R3=0,\"\",R3)","v":""},null,null,null,null,null,null,null,null,null,null,null,null,null,{"$f":"第1回!B3","v":0},{"$f":"第1回!C3","v":0}]
[2,{"$f":"IF(Q4=0,\"\",Q4)","v":""},"",null,null,null,null,null,null,null,null,null,null,null,null,null,{"$f":"第1回!B4","v":0},{"$f":"第1回!C4","v":0}]
[3,{"$f":"IF(Q5=0,\"\",Q5)","v":""},"",null,null,null,null,null,null,null,null,null,null,null,null,null,{"$f":"第1回!B5","v":0},{"$f":"第1回!C5","v":0}]
[4,"","",null,null,null,null,null,null,null,null,null,null,null,null,null,{"$f":"第1回!B6","v":0},{"$f":"第1回!C6","v":0}]
[5,"","",null,null,null,null,null,null,null,null,null,null,null,null,null,{"$f":"第1回!B7","v":0},{"$f":"第1回!C7","v":0}]
[6,"","",null,null,null,null,null,null,null,null,null,null,null,null,null,{"$f":"第1回!B8","v":0},{"$f":"第1回!C8","v":0}]
[7,"","",null,null,null,null,null,null,null,null,null,null,null,null,null,{"$f":"第1回!B9","v":0},{"$f":"第1回!C9","v":0}]
[8,"","",null,null,null,null,null,null,null,null,null,null,null,null,null,{"$f":"第1回!B10","v":0},{"$f":"第1回!C10","v":0}]
[9,"","",null,null,null,null,null,null,null,null,null,null,null,null,null,{"$f":"第1回!B11","v":0},{"$f":"第1回!C11","v":0}]
[10,"","",null,null,null,null,null,null,null,null,null,null,null,null,null,{"$f":"第1回!B12","v":0},{"$f":"第1回!C12","v":0}]
[11,"","",null,null,null,null,null,null,null,null,null,null,null,null,null,{"$f":"第1回!B13","v":0},{"$f":"第1回!C13","v":0}]
[12,"","",null,null,null,null,null,null,null,null,null,null,null,null,null,{"$f":"第1回!B14","v":0},{"$f":"第1回!C14","v":0}]
[13,"","",null,null,null,null,null,null,null,null,null,null,null,null,null,{"$f":"第1回!B15","v":0},{"$f":"第1回!C15","v":0}]
[14,"","",null,null,null,null,null,null,null,null,null,null,null,null,null,{"$f":"第1回!B16","v":0},{"$f":"第1回!C16","v":0}]
[15,"","",null,null,null,null,null,null,null,null,null,null,null,null,null,{"$f":"第1回!B17","v":0},{"$f":"第1回!C17","v":0}]
[16,"","",null,null,null,null,null,null,null,null,null,null,null,null,null,{"$f":"第1回!B18","v":0},{"$f":"第1回!C18","v":0}]
[17,"","",null,null,null,null,null,null,null,null,null,null,null,null,null,{"$f":"第1回!B19","v":0},{"$f":"第1回!C19","v":0}]
[18,"","",null,null,null,null,null,null,null,null,null,null,null,null,null,{"$f":"第1回!B20","v":0},{"$f":"第1回!C20","v":0}]
[19,"","",null,null,null,null,null,null,null,null,null,null,null,null,null,{"$f":"第1回!B21","v":0},{"$f":"第1回!C21","v":0}]
[20,"","",null,null,null,null,null,null,null,null,null,null,null,null,null,{"$f":"第1回!B22","v":0},{"$f":"第1回!C22","v":0}]
[21,"","",null,null,null,null,null,null,null,null,null,null,null,null,null,{"$f":"第1回!B23","v":0},{"$f":"第1回!C23","v":0}]
[22,"","",null,null,null,null,null,null,null,null,null,null,null,null,null,{"$f":"第1回!B24","v":0},{"$f":"第1回!C24","v":0}]
[23,"","",null,null,null,null,null,null,null,null,null,null,null,null,null,{"$f":"第1回!B25","v":0},{"$f":"第1回!C25","v":0}]
[24,"","",null,null,null,null,null,null,null,null,null,null,null,null,null,{"$f":"第1回!B26","v":0},{"$f":"第1回!C26","v":0}]
[25,"","",null,null,null,null,null,null,null,null,null,null,null,null,null,{"$f":"第1回!B27","v":0},{"$f":"第1回!C27","v":0}]
[26,"","",null,null,null,null,null,null,null,null,null,null,null,null,null,{"$f":"第1回!B28","v":0},{"$f":"第1回!C28","v":0}]
[27,"","",null,null,null,null,null,null,null,null,null,null,null,null,null,{"$f":"第1回!B29","v":0},{"$f":"第1回!C29","v":0}]
[28,"","",null,null,null,null,null,null,null,null,null,null,null,null,null,{"$f":"第1回!B30","v":0},{"$f":"第1回!C30","v":0}]
[29,"","",null,null,null,null,null,null,null,null,null,null,null,null,null,{"$f":"第1回!B31","v":0},{"$f":"第1回!C31","v":0}]
[30,"","",null,null,null,null,null,null,null,null,null,null,null,null,null,{"$f":"第1回!B32","v":0},{"$f":"第1回!C32","v":0}]
[31,"","",null,null,null,null,null,null,null,null,null,null,null,null,null,{"$f":"第1回!B33","v":0},{"$f":"第1回!C33","v":0}]
[32,"","",null,null,null,null,null,null,null,null,null,null,null,null,null,{"$f":"第1回!B34","v":0},{"$f":"第1回!C34","v":0}]
[33,"","",null,null,null,null,null,null,null,null,null,null,null,null,null,{"$f":"第1回!B35","v":0},{"$f":"第1回!C35","v":0}]
[34,"","",null,null,null,null,null,null,null,null,null,null,null,null,null,{"$f":"第1回!B36","v":0},{"$f":"第1回!C36","v":0}]
[35,"","",null,null,null,null,null,null,null,null,null,null,null,null,null,{"$f":"第1回!B37","v":0},{"$f":"第1回!C37","v":0}]
[36,"","",null,null,null,null,null,null,null,null,null,null,null,null,null,{"$f":"第1回!B38","v":0},{"$f":"第1回!C38","v":0}]
[37,"","",null,null,null,null,null,null,null,null,null,null,null,null,null,{"$f":"第1回!B39","v":0},{"$f":"第1回!C39","v":0}]
[38,"","",null,null,null,null,null,null,null,null,null,null,null,null,null,{"$f":"第1回!B40","v":0},{"$f":"第1回!C40","v":0}]
[39,"","",null,null,null,null,null,null,null,null,null,null,null,null,null,{"$f":"第1回!B41","v":0},{"$f":"第1回!C41","v":0}]
[40,"","",null,null,null,null,null,null,null,null,null,null,null,null,null,{"$f":"第1回!B42","v":0},{"$f":"第1回!C42","v":0}]

{"sheet":"第20回","index":20,"n_rows":42,"n_cols":30,"rows_kept":42,"cut":false,"hidden":false,"merged":[[38,7,38,14],[39,7,39,14],[40,7,40,14],[41,7,41,14],[32,7,32,14],[33,7,33,14],[34,7,34,14],[35,7,35,14],[36,7,36,14],[37,7,37,14],[26,7,26,14],[27,7,27,14],[28,7,28,14],[29,7,29,14],[30,7,30,14],[31,7,31,14],[20,7,20,14],[21,7,21,14],[22,7,22,14],[23,7,23,14],[24,7,24,14],[25,7,25,14],[14,7,14,14],[15,7,15,14],[16,7,16,14],[17,7,17,14],[18,7,18,14],[19,7,19,14],[8,7,8,14],[9,7,9,14],[10,7,10,14],[11,7,11,14],[12,7,12,14],[13,7,13,14],[2,7,2,14],[3,7,3,14],[4,7,4,14],[5,7,5,14],[6,7,6,14],[7,7,7,14],[0,1,0,2],[0,3,0,4],[0,5,0,8],[0,9,0,10],[0,11,0,14],[1,7,1,14]]}
[20,{"$f":"IF(Q2=0,\"\",Q2)","v":""},null,"主題名",null,{"$f":"IF(R2=0,\"\",R2)","v":""},null,null,null,"資料名",null,{"$f":"IF(S2=0,\"\",S2)","v":""},null,null,null,null,null,null,{"$f":"個票!B6","v":"意欲的に考えることができた"},{"$f":"個票!B7","v":"登場人物を自分に置き換えて考えようとしている"},{"$f":"個票!B8","v":"友達の意見を参考にしながら多面的・多角的に考えようとしている"},{"$f":"個票!B9","v":"今までの自分を振り返りこれからの自分の生き方について考えようとしている"},{"$f":"個票!A10","v":"備考"},{"$f":"第1回!I2","v":0},{"$f":"第1回!J2","v":0},{"$f":"第1回!K2","v":0},{"$f":"第1回!L2","v":0},{"$f":"第1回!M2","v":0},{"$f":"第1回!N2","v":0},{"$f":"第1回!O2","v":0}]
["No","氏　　名","性別",{"$f":"IF(S1=0,\"\",S1)","v":"意欲的に考えることができた"},{"$f":"IF(T1=0,\"\",T1)","v":"登場人物を自分に置き換えて考えようとしている"},"友達の意見を参考にしながら多面的・多角的に考えようとしている","今までの自分を振り返りこれからの自分の生き方について考えようとしている","備考",null,null,null,null,null,null,null,null,{"$f":"個票!V3","v":0},{"$f":"個票!V4","v":0},{"$f":"個票!V5","v":0}]
[1,{"$f":"IF(Q3=0,\"\",Q3)","v":""},{"$f":"IF(R3=0,\"\",R3)","v":""},null,null,null,null,null,null,null,null,null,null,null,null,null,{"$f":"第1回!B3","v":0},{"$f":"第1回!C3","v":0}]
[2,{"$f":"IF(Q4=0,\"\",Q4)","v":""},"",null,null,null,null,null,null,null,null,null,null,null,null,null,{"$f":"第1回!B4","v":0},{"$f":"第1回!C4","v":0}]
[3,{"$f":"IF(Q5=0,\"\",Q5)","v":""},"",null,null,null,null,null,null,null,null,null,null,null,null,null,{"$f":"第1回!B5","v":0},{"$f":"第1回!C5","v":0}]
[4,"","",null,null,null,null,null,null,null,null,null,null,null,null,null,{"$f":"第1回!B6","v":0},{"$f":"第1回!C6","v":0}]
[5,"","",null,null,null,null,null,null,null,null,null,null,null,null,null,{"$f":"第1回!B7","v":0},{"$f":"第1回!C7","v":0}]
[6,"","",null,null,null,null,null,null,null,null,null,null,null,null,null,{"$f":"第1回!B8","v":0},{"$f":"第1回!C8","v":0}]
[7,"","",null,null,null,null,null,null,null,null,null,null,null,null,null,{"$f":"第1回!B9","v":0},{"$f":"第1回!C9","v":0}]
[8,"","",null,null,null,null,null,null,null,null,null,null,null,null,null,{"$f":"第1回!B10","v":0},{"$f":"第1回!C10","v":0}]
[9,"","",null,null,null,null,null,null,null,null,null,null,null,null,null,{"$f":"第1回!B11","v":0},{"$f":"第1回!C11","v":0}]
[10,"","",null,null,null,null,null,null,null,null,null,null,null,null,null,{"$f":"第1回!B12","v":0},{"$f":"第1回!C12","v":0}]
[11,"","",null,null,null,null,null,null,null,null,null,null,null,null,null,{"$f":"第1回!B13","v":0},{"$f":"第1回!C13","v":0}]
[12,"","",null,null,null,null,null,null,null,null,null,null,null,null,null,{"$f":"第1回!B14","v":0},{"$f":"第1回!C14","v":0}]
[13,"","",null,null,null,null,null,null,null,null,null,null,null,null,null,{"$f":"第1回!B15","v":0},{"$f":"第1回!C15","v":0}]
[14,"","",null,null,null,null,null,null,null,null,null,null,null,null,null,{"$f":"第1回!B16","v":0},{"$f":"第1回!C16","v":0}]
[15,"","",null,null,null,null,null,null,null,null,null,null,null,null,null,{"$f":"第1回!B17","v":0},{"$f":"第1回!C17","v":0}]
[16,"","",null,null,null,null,null,null,null,null,null,null,null,null,null,{"$f":"第1回!B18","v":0},{"$f":"第1回!C18","v":0}]
[17,"","",null,null,null,null,null,null,null,null,null,null,null,null,null,{"$f":"第1回!B19","v":0},{"$f":"第1回!C19","v":0}]
[18,"","",null,null,null,null,null,null,null,null,null,null,null,null,null,{"$f":"第1回!B20","v":0},{"$f":"第1回!C20","v":0}]
[19,"","",null,null,null,null,null,null,null,null,null,null,null,null,null,{"$f":"第1回!B21","v":0},{"$f":"第1回!C21","v":0}]
[20,"","",null,null,null,null,null,null,null,null,null,null,null,null,null,{"$f":"第1回!B22","v":0},{"$f":"第1回!C22","v":0}]
[21,"","",null,null,null,null,null,null,null,null,null,null,null,null,null,{"$f":"第1回!B23","v":0},{"$f":"第1回!C23","v":0}]
[22,"","",null,null,null,null,null,null,null,null,null,null,null,null,null,{"$f":"第1回!B24","v":0},{"$f":"第1回!C24","v":0}]
[23,"","",null,null,null,null,null,null,null,null,null,null,null,null,null,{"$f":"第1回!B25","v":0},{"$f":"第1回!C25","v":0}]
[24,"","",null,null,null,null,null,null,null,null,null,null,null,null,null,{"$f":"第1回!B26","v":0},{"$f":"第1回!C26","v":0}]
[25,"","",null,null,null,null,null,null,null,null,null,null,null,null,null,{"$f":"第1回!B27","v":0},{"$f":"第1回!C27","v":0}]
[26,"","",null,null,null,null,null,null,null,null,null,null,null,null,null,{"$f":"第1回!B28","v":0},{"$f":"第1回!C28","v":0}]
[27,"","",null,null,null,null,null,null,null,null,null,null,null,null,null,{"$f":"第1回!B29","v":0},{"$f":"第1回!C29","v":0}]
[28,"","",null,null,null,null,null,null,null,null,null,null,null,null,null,{"$f":"第1回!B30","v":0},{"$f":"第1回!C30","v":0}]
[29,"","",null,null,null,null,null,null,null,null,null,null,null,null,null,{"$f":"第1回!B31","v":0},{"$f":"第1回!C31","v":0}]
[30,"","",null,null,null,null,null,null,null,null,null,null,null,null,null,{"$f":"第1回!B32","v":0},{"$f":"第1回!C32","v":0}]
[31,"","",null,null,null,null,null,null,null,null,null,null,null,null,null,{"$f":"第1回!B33","v":0},{"$f":"第1回!C33","v":0}]
[32,"","",null,null,null,null,null,null,null,null,null,null,null,null,null,{"$f":"第1回!B34","v":0},{"$f":"第1回!C34","v":0}]
[33,"","",null,null,null,null,null,null,null,null,null,null,null,null,null,{"$f":"第1回!B35","v":0},{"$f":"第1回!C35","v":0}]
[34,"","",null,null,null,null,null,null,null,null,null,null,null,null,null,{"$f":"第1回!B36","v":0},{"$f":"第1回!C36","v":0}]
[35,"","",null,null,null,null,null,null,null,null,null,null,null,null,null,{"$f":"第1回!B37","v":0},{"$f":"第1回!C37","v":0}]
[36,"","",null,null,null,null,null,null,null,null,null,null,null,null,null,{"$f":"第1回!B38","v":0},{"$f":"第1回!C38","v":0}]
[37,"","",null,null,null,null,null,null,null,null,null,null,null,null,null,{"$f":"第1回!B39","v":0},{"$f":"第1回!C39","v":0}]
[38,"","",null,null,null,null,null,null,null,null,null,null,null,null,null,{"$f":"第1回!B40","v":0},{"$f":"第1回!C40","v":0}]
[39,"","",null,null,null,null,null,null,null,null,null,null,null,null,null,{"$f":"第1回!B41","v":0},{"$f":"第1回!C41","v":0}]
[40,"","",null,null,null,null,null,null,null,null,null,null,null,null,null,{"$f":"第1回!B42","v":0},{"$f":"第1回!C42","v":0}]

{"sheet":"第21回","index":21,"n_rows":42,"n_cols":30,"rows_kept":42,"cut":false,"hidden":false,"merged":[[38,7,38,14],[39,7,39,14],[40,7,40,14],[41,7,41,14],[32,7,32,14],[33,7,33,14],[34,7,34,14],[35,7,35,14],[36,7,36,14],[37,7,37,14],[26,7,26,14],[27,7,27,14],[28,7,28,14],[29,7,29,14],[30,7,30,14],[31,7,31,14],[20,7,20,14],[21,7,21,14],[22,7,22,14],[23,7,23,14],[24,7,24,14],[25,7,25,14],[14,7,14,14],[15,7,15,14],[16,7,16,14],[17,7,17,14],[18,7,18,14],[19,7,19,14],[8,7,8,14],[9,7,9,14],[10,7,10,14],[11,7,11,14],[12,7,12,14],[13,7,13,14],[2,7,2,14],[3,7,3,14],[4,7,4,14],[5,7,5,14],[6,7,6,14],[7,7,7,14],[0,1,0,2],[0,3,0,4],[0,5,0,8],[0,9,0,10],[0,11,0,14],[1,7,1,14]]}
[21,{"$f":"IF(Q2=0,\"\",Q2)","v":""},null,"主題名",null,{"$f":"IF(R2=0,\"\",R2)","v":""},null,null,null,"資料名",null,{"$f":"IF(S2=0,\"\",S2)","v":""},null,null,null,null,null,null,{"$f":"個票!B6","v":"意欲的に考えることができた"},{"$f":"個票!B7","v":"登場人物を自分に置き換えて考えようとしている"},{"$f":"個票!B8","v":"友達の意見を参考にしながら多面的・多角的に考えようとしている"},{"$f":"個票!B9","v":"今までの自分を振り返りこれからの自分の生き方について考えようとしている"},{"$f":"個票!A10","v":"備考"},{"$f":"第1回!I2","v":0},{"$f":"第1回!J2","v":0},{"$f":"第1回!K2","v":0},{"$f":"第1回!L2","v":0},{"$f":"第1回!M2","v":0},{"$f":"第1回!N2","v":0},{"$f":"第1回!O2","v":0}]
["No","氏　　名","性別",{"$f":"IF(S1=0,\"\",S1)","v":"意欲的に考えることができた"},{"$f":"IF(T1=0,\"\",T1)","v":"登場人物を自分に置き換えて考えようとしている"},"友達の意見を参考にしながら多面的・多角的に考えようとしている","今までの自分を振り返りこれからの自分の生き方について考えようとしている","備考",null,null,null,null,null,null,null,null,{"$f":"個票!W3","v":0},{"$f":"個票!W4","v":0},{"$f":"個票!W5","v":0}]
[1,{"$f":"IF(Q3=0,\"\",Q3)","v":""},{"$f":"IF(R3=0,\"\",R3)","v":""},null,null,null,null,null,null,null,null,null,null,null,null,null,{"$f":"第1回!B3","v":0},{"$f":"第1回!C3","v":0}]
[2,{"$f":"IF(Q4=0,\"\",Q4)","v":""},"",null,null,null,null,null,null,null,null,null,null,null,null,null,{"$f":"第1回!B4","v":0},{"$f":"第1回!C4","v":0}]
[3,{"$f":"IF(Q5=0,\"\",Q5)","v":""},"",null,null,null,null,null,null,null,null,null,null,null,null,null,{"$f":"第1回!B5","v":0},{"$f":"第1回!C5","v":0}]
[4,"","",null,null,null,null,null,null,null,null,null,null,null,null,null,{"$f":"第1回!B6","v":0},{"$f":"第1回!C6","v":0}]
[5,"","",null,null,null,null,null,null,null,null,null,null,null,null,null,{"$f":"第1回!B7","v":0},{"$f":"第1回!C7","v":0}]
[6,"","",null,null,null,null,null,null,null,null,null,null,null,null,null,{"$f":"第1回!B8","v":0},{"$f":"第1回!C8","v":0}]
[7,"","",null,null,null,null,null,null,null,null,null,null,null,null,null,{"$f":"第1回!B9","v":0},{"$f":"第1回!C9","v":0}]
[8,"","",null,null,null,null,null,null,null,null,null,null,null,null,null,{"$f":"第1回!B10","v":0},{"$f":"第1回!C10","v":0}]
[9,"","",null,null,null,null,null,null,null,null,null,null,null,null,null,{"$f":"第1回!B11","v":0},{"$f":"第1回!C11","v":0}]
[10,"","",null,null,null,null,null,null,null,null,null,null,null,null,null,{"$f":"第1回!B12","v":0},{"$f":"第1回!C12","v":0}]
[11,"","",null,null,null,null,null,null,null,null,null,null,null,null,null,{"$f":"第1回!B13","v":0},{"$f":"第1回!C13","v":0}]
[12,"","",null,null,null,null,null,null,null,null,null,null,null,null,null,{"$f":"第1回!B14","v":0},{"$f":"第1回!C14","v":0}]
[13,"","",null,null,null,null,null,null,null,null,null,null,null,null,null,{"$f":"第1回!B15","v":0},{"$f":"第1回!C15","v":0}]
[14,"","",null,null,null,null,null,null,null,null,null,null,null,null,null,{"$f":"第1回!B16","v":0},{"$f":"第1回!C16","v":0}]
[15,"","",null,null,null,null,null,null,null,null,null,null,null,null,null,{"$f":"第1回!B17","v":0},{"$f":"第1回!C17","v":0}]
[16,"","",null,null,null,null,null,null,null,null,null,null,null,null,null,{"$f":"第1回!B18","v":0},{"$f":"第1回!C18","v":0}]
[17,"","",null,null,null,null,null,null,null,null,null,null,null,null,null,{"$f":"第1回!B19","v":0},{"$f":"第1回!C19","v":0}]
[18,"","",null,null,null,null,null,null,null,null,null,null,null,null,null,{"$f":"第1回!B20","v":0},{"$f":"第1回!C20","v":0}]
[19,"","",null,null,null,null,null,null,null,null,null,null,null,null,null,{"$f":"第1回!B21","v":0},{"$f":"第1回!C21","v":0}]
[20,"","",null,null,null,null,null,null,null,null,null,null,null,null,null,{"$f":"第1回!B22","v":0},{"$f":"第1回!C22","v":0}]
[21,"","",null,null,null,null,null,null,null,null,null,null,null,null,null,{"$f":"第1回!B23","v":0},{"$f":"第1回!C23","v":0}]
[22,"","",null,null,null,null,null,null,null,null,null,null,null,null,null,{"$f":"第1回!B24","v":0},{"$f":"第1回!C24","v":0}]
[23,"","",null,null,null,null,null,null,null,null,null,null,null,null,null,{"$f":"第1回!B25","v":0},{"$f":"第1回!C25","v":0}]
[24,"","",null,null,null,null,null,null,null,null,null,null,null,null,null,{"$f":"第1回!B26","v":0},{"$f":"第1回!C26","v":0}]
[25,"","",null,null,null,null,null,null,null,null,null,null,null,null,null,{"$f":"第1回!B27","v":0},{"$f":"第1回!C27","v":0}]
[26,"","",null,null,null,null,null,null,null,null,null,null,null,null,null,{"$f":"第1回!B28","v":0},{"$f":"第1回!C28","v":0}]
[27,"","",null,null,null,null,null,null,null,null,null,null,null,null,null,{"$f":"第1回!B29","v":0},{"$f":"第1回!C29","v":0}]
[28,"","",null,null,null,null,null,null,null,null,null,null,null,null,null,{"$f":"第1回!B30","v":0},{"$f":"第1回!C30","v":0}]
[29,"","",null,null,null,null,null,null,null,null,null,null,null,null,null,{"$f":"第1回!B31","v":0},{"$f":"第1回!C31","v":0}]
[30,"","",null,null,null,null,null,null,null,null,null,null,null,null,null,{"$f":"第1回!B32","v":0},{"$f":"第1回!C32","v":0}]
[31,"","",null,null,null,null,null,null,null,null,null,null,null,null,null,{"$f":"第1回!B33","v":0},{"$f":"第1回!C33","v":0}]
[32,"","",null,null,null,null,null,null,null,null,null,null,null,null,null,{"$f":"第1回!B34","v":0},{"$f":"第1回!C34","v":0}]
[33,"","",null,null,null,null,null,null,null,null,null,null,null,null,null,{"$f":"第1回!B35","v":0},{"$f":"第1回!C35","v":0}]
[34,"","",null,null,null,null,null,null,null,null,null,null,null,null,null,{"$f":"第1回!B36","v":0},{"$f":"第1回!C36","v":0}]
[35,"","",null,null,null,null,null,null,null,null,null,null,null,null,null,{"$f":"第1回!B37","v":0},{"$f":"第1回!C37","v":0}]
[36,"","",null,null,null,null,null,null,null,null,null,null,null,null,null,{"$f":"第1回!B38","v":0},{"$f":"第1回!C38","v":0}]
[37,"","",null,null,null,null,null,null,null,null,null,null,null,null,null,{"$f":"第1回!B39","v":0},{"$f":"第1回!C39","v":0}]
[38,"","",null,null,null,null,null,null,null,null,null,null,null,null,null,{"$f":"第1回!B40","v":0},{"$f":"第1回!C40","v":0}]
[39,"","",null,null,null,null,null,null,null,null,null,null,null,null,null,{"$f":"第1回!B41","v":0},{"$f":"第1回!C41","v":0}]
[40,"","",null,null,null,null,null,null,null,null,null,null,null,null,null,{"$f":"第1回!B42","v":0},{"$f":"第1回!C42","v":0}]

{"sheet":"第22回","index":22,"n_rows":42,"n_cols":30,"rows_kept":42,"cut":false,"hidden":false,"merged":[[38,7,38,14],[39,7,39,14],[40,7,40,14],[41,7,41,14],[32,7,32,14],[33,7,33,14],[34,7,34,14],[35,7,35,14],[36,7,36,14],[37,7,37,14],[26,7,26,14],[27,7,27,14],[28,7,28,14],[29,7,29,14],[30,7,30,14],[31,7,31,14],[20,7,20,14],[21,7,21,14],[22,7,22,14],[23,7,23,14],[24,7,24,14],[25,7,25,14],[14,7,14,14],[15,7,15,14],[16,7,16,14],[17,7,17,14],[18,7,18,14],[19,7,19,14],[8,7,8,14],[9,7,9,14],[10,7,10,14],[11,7,11,14],[12,7,12,14],[13,7,13,14],[2,7,2,14],[3,7,3,14],[4,7,4,14],[5,7,5,14],[6,7,6,14],[7,7,7,14],[0,1,0,2],[0,3,0,4],[0,5,0,8],[0,9,0,10],[0,11,0,14],[1,7,1,14]]}
[22,{"$f":"IF(Q2=0,\"\",Q2)","v":""},null,"主題名",null,{"$f":"IF(R2=0,\"\",R2)","v":""},null,null,null,"資料名",null,{"$f":"IF(S2=0,\"\",S2)","v":""},null,null,null,null,null,null,{"$f":"個票!B6","v":"意欲的に考えることができた"},{"$f":"個票!B7","v":"登場人物を自分に置き換えて考えようとしている"},{"$f":"個票!B8","v":"友達の意見を参考にしながら多面的・多角的に考えようとしている"},{"$f":"個票!B9","v":"今までの自分を振り返りこれからの自分の生き方について考えようとしている"},{"$f":"個票!A10","v":"備考"},{"$f":"第1回!I2","v":0},{"$f":"第1回!J2","v":0},{"$f":"第1回!K2","v":0},{"$f":"第1回!L2","v":0},{"$f":"第1回!M2","v":0},{"$f":"第1回!N2","v":0},{"$f":"第1回!O2","v":0}]
["No","氏　　名","性別",{"$f":"IF(S1=0,\"\",S1)","v":"意欲的に考えることができた"},{"$f":"IF(T1=0,\"\",T1)","v":"登場人物を自分に置き換えて考えようとしている"},"友達の意見を参考にしながら多面的・多角的に考えようとしている","今までの自分を振り返りこれからの自分の生き方について考えようとしている","備考",null,null,null,null,null,null,null,null,{"$f":"個票!X3","v":0},{"$f":"個票!X4","v":0},{"$f":"個票!X5","v":0}]
[1,{"$f":"IF(Q3=0,\"\",Q3)","v":""},{"$f":"IF(R3=0,\"\",R3)","v":""},null,null,null,null,null,null,null,null,null,null,null,null,null,{"$f":"第1回!B3","v":0},{"$f":"第1回!C3","v":0}]
[2,{"$f":"IF(Q4=0,\"\",Q4)","v":""},"",null,null,null,null,null,null,null,null,null,null,null,null,null,{"$f":"第1回!B4","v":0},{"$f":"第1回!C4","v":0}]
[3,{"$f":"IF(Q5=0,\"\",Q5)","v":""},"",null,null,null,null,null,null,null,null,null,null,null,null,null,{"$f":"第1回!B5","v":0},{"$f":"第1回!C5","v":0}]
[4,"","",null,null,null,null,null,null,null,null,null,null,null,null,null,{"$f":"第1回!B6","v":0},{"$f":"第1回!C6","v":0}]
[5,"","",null,null,null,null,null,null,null,null,null,null,null,null,null,{"$f":"第1回!B7","v":0},{"$f":"第1回!C7","v":0}]
[6,"","",null,null,null,null,null,null,null,null,null,null,null,null,null,{"$f":"第1回!B8","v":0},{"$f":"第1回!C8","v":0}]
[7,"","",null,null,null,null,null,null,null,null,null,null,null,null,null,{"$f":"第1回!B9","v":0},{"$f":"第1回!C9","v":0}]
[8,"","",null,null,null,null,null,null,null,null,null,null,null,null,null,{"$f":"第1回!B10","v":0},{"$f":"第1回!C10","v":0}]
[9,"","",null,null,null,null,null,null,null,null,null,null,null,null,null,{"$f":"第1回!B11","v":0},{"$f":"第1回!C11","v":0}]
[10,"","",null,null,null,null,null,null,null,null,null,null,null,null,null,{"$f":"第1回!B12","v":0},{"$f":"第1回!C12","v":0}]
[11,"","",null,null,null,null,null,null,null,null,null,null,null,null,null,{"$f":"第1回!B13","v":0},{"$f":"第1回!C13","v":0}]
[12,"","",null,null,null,null,null,null,null,null,null,null,null,null,null,{"$f":"第1回!B14","v":0},{"$f":"第1回!C14","v":0}]
[13,"","",null,null,null,null,null,null,null,null,null,null,null,null,null,{"$f":"第1回!B15","v":0},{"$f":"第1回!C15","v":0}]
[14,"","",null,null,null,null,null,null,null,null,null,null,null,null,null,{"$f":"第1回!B16","v":0},{"$f":"第1回!C16","v":0}]
[15,"","",null,null,null,null,null,null,null,null,null,null,null,null,null,{"$f":"第1回!B17","v":0},{"$f":"第1回!C17","v":0}]
[16,"","",null,null,null,null,null,null,null,null,null,null,null,null,null,{"$f":"第1回!B18","v":0},{"$f":"第1回!C18","v":0}]
[17,"","",null,null,null,null,null,null,null,null,null,null,null,null,null,{"$f":"第1回!B19","v":0},{"$f":"第1回!C19","v":0}]
[18,"","",null,null,null,null,null,null,null,null,null,null,null,null,null,{"$f":"第1回!B20","v":0},{"$f":"第1回!C20","v":0}]
[19,"","",null,null,null,null,null,null,null,null,null,null,null,null,null,{"$f":"第1回!B21","v":0},{"$f":"第1回!C21","v":0}]
[20,"","",null,null,null,null,null,null,null,null,null,null,null,null,null,{"$f":"第1回!B22","v":0},{"$f":"第1回!C22","v":0}]
[21,"","",null,null,null,null,null,null,null,null,null,null,null,null,null,{"$f":"第1回!B23","v":0},{"$f":"第1回!C23","v":0}]
[22,"","",null,null,null,null,null,null,null,null,null,null,null,null,null,{"$f":"第1回!B24","v":0},{"$f":"第1回!C24","v":0}]
[23,"","",null,null,null,null,null,null,null,null,null,null,null,null,null,{"$f":"第1回!B25","v":0},{"$f":"第1回!C25","v":0}]
[24,"","",null,null,null,null,null,null,null,null,null,null,null,null,null,{"$f":"第1回!B26","v":0},{"$f":"第1回!C26","v":0}]
[25,"","",null,null,null,null,null,null,null,null,null,null,null,null,null,{"$f":"第1回!B27","v":0},{"$f":"第1回!C27","v":0}]
[26,"","",null,null,null,null,null,null,null,null,null,null,null,null,null,{"$f":"第1回!B28","v":0},{"$f":"第1回!C28","v":0}]
[27,"","",null,null,null,null,null,null,null,null,null,null,null,null,null,{"$f":"第1回!B29","v":0},{"$f":"第1回!C29","v":0}]
[28,"","",null,null,null,null,null,null,null,null,null,null,null,null,null,{"$f":"第1回!B30","v":0},{"$f":"第1回!C30","v":0}]
[29,"","",null,null,null,null,null,null,null,null,null,null,null,null,null,{"$f":"第1回!B31","v":0},{"$f":"第1回!C31","v":0}]
[30,"","",null,null,null,null,null,null,null,null,null,null,null,null,null,{"$f":"第1回!B32","v":0},{"$f":"第1回!C32","v":0}]
[31,"","",null,null,null,null,null,null,null,null,null,null,null,null,null,{"$f":"第1回!B33","v":0},{"$f":"第1回!C33","v":0}]
[32,"","",null,null,null,null,null,null,null,null,null,null,null,null,null,{"$f":"第1回!B34","v":0},{"$f":"第1回!C34","v":0}]
[33,"","",null,null,null,null,null,null,null,null,null,null,null,null,null,{"$f":"第1回!B35","v":0},{"$f":"第1回!C35","v":0}]
[34,"","",null,null,null,null,null,null,null,null,null,null,null,null,null,{"$f":"第1回!B36","v":0},{"$f":"第1回!C36","v":0}]
[35,"","",null,null,null,null,null,null,null,null,null,null,null,null,null,{"$f":"第1回!B37","v":0},{"$f":"第1回!C37","v":0}]
[36,"","",null,null,null,null,null,null,null,null,null,null,null,null,null,{"$f":"第1回!B38","v":0},{"$f":"第1回!C38","v":0}]
[37,"","",null,null,null,null,null,null,null,null,null,null,null,null,null,{"$f":"第1回!B39","v":0},{"$f":"第1回!C39","v":0}]
[38,"","",null,null,null,null,null,null,null,null,null,null,null,null,null,{"$f":"第1回!B40","v":0},{"$f":"第1回!C40","v":0}]
[39,"","",null,null,null,null,null,null,null,null,null,null,null,null,null,{"$f":"第1回!B41","v":0},{"$f":"第1回!C41","v":0}]
[40,"","",null,null,null,null,null,null,null,null,null,null,null,null,null,{"$f":"第1回!B42","v":0},{"$f":"第1回!C42","v":0}]

{"sheet":"第23回","index":23,"n_rows":42,"n_cols":30,"rows_kept":42,"cut":false,"hidden":false,"merged":[[38,7,38,14],[39,7,39,14],[40,7,40,14],[41,7,41,14],[32,7,32,14],[33,7,33,14],[34,7,34,14],[35,7,35,14],[36,7,36,14],[37,7,37,14],[26,7,26,14],[27,7,27,14],[28,7,28,14],[29,7,29,14],[30,7,30,14],[31,7,31,14],[20,7,20,14],[21,7,21,14],[22,7,22,14],[23,7,23,14],[24,7,24,14],[25,7,25,14],[14,7,14,14],[15,7,15,14],[16,7,16,14],[17,7,17,14],[18,7,18,14],[19,7,19,14],[8,7,8,14],[9,7,9,14],[10,7,10,14],[11,7,11,14],[12,7,12,14],[13,7,13,14],[2,7,2,14],[3,7,3,14],[4,7,4,14],[5,7,5,14],[6,7,6,14],[7,7,7,14],[0,1,0,2],[0,3,0,4],[0,5,0,8],[0,9,0,10],[0,11,0,14],[1,7,1,14]]}
[23,{"$f":"IF(Q2=0,\"\",Q2)","v":""},null,"主題名",null,{"$f":"IF(R2=0,\"\",R2)","v":""},null,null,null,"資料名",null,{"$f":"IF(S2=0,\"\",S2)","v":""},null,null,null,null,null,null,{"$f":"個票!B6","v":"意欲的に考えることができた"},{"$f":"個票!B7","v":"登場人物を自分に置き換えて考えようとしている"},{"$f":"個票!B8","v":"友達の意見を参考にしながら多面的・多角的に考えようとしている"},{"$f":"個票!B9","v":"今までの自分を振り返りこれからの自分の生き方について考えようとしている"},{"$f":"個票!A10","v":"備考"},{"$f":"第1回!I2","v":0},{"$f":"第1回!J2","v":0},{"$f":"第1回!K2","v":0},{"$f":"第1回!L2","v":0},{"$f":"第1回!M2","v":0},{"$f":"第1回!N2","v":0},{"$f":"第1回!O2","v":0}]
["No","氏　　名","性別",{"$f":"IF(S1=0,\"\",S1)","v":"意欲的に考えることができた"},{"$f":"IF(T1=0,\"\",T1)","v":"登場人物を自分に置き換えて考えようとしている"},"友達の意見を参考にしながら多面的・多角的に考えようとしている","今までの自分を振り返りこれからの自分の生き方について考えようとしている","備考",null,null,null,null,null,null,null,null,{"$f":"個票!Y3","v":0},{"$f":"個票!Y4","v":0},{"$f":"個票!Y5","v":0}]
[1,{"$f":"IF(Q3=0,\"\",Q3)","v":""},{"$f":"IF(R3=0,\"\",R3)","v":""},null,null,null,null,null,null,null,null,null,null,null,null,null,{"$f":"第1回!B3","v":0},{"$f":"第1回!C3","v":0}]
[2,{"$f":"IF(Q4=0,\"\",Q4)","v":""},"",null,null,null,null,null,null,null,null,null,null,null,null,null,{"$f":"第1回!B4","v":0},{"$f":"第1回!C4","v":0}]
[3,{"$f":"IF(Q5=0,\"\",Q5)","v":""},"",null,null,null,null,null,null,null,null,null,null,null,null,null,{"$f":"第1回!B5","v":0},{"$f":"第1回!C5","v":0}]
[4,"","",null,null,null,null,null,null,null,null,null,null,null,null,null,{"$f":"第1回!B6","v":0},{"$f":"第1回!C6","v":0}]
[5,"","",null,null,null,null,null,null,null,null,null,null,null,null,null,{"$f":"第1回!B7","v":0},{"$f":"第1回!C7","v":0}]
[6,"","",null,null,null,null,null,null,null,null,null,null,null,null,null,{"$f":"第1回!B8","v":0},{"$f":"第1回!C8","v":0}]
[7,"","",null,null,null,null,null,null,null,null,null,null,null,null,null,{"$f":"第1回!B9","v":0},{"$f":"第1回!C9","v":0}]
[8,"","",null,null,null,null,null,null,null,null,null,null,null,null,null,{"$f":"第1回!B10","v":0},{"$f":"第1回!C10","v":0}]
[9,"","",null,null,null,null,null,null,null,null,null,null,null,null,null,{"$f":"第1回!B11","v":0},{"$f":"第1回!C11","v":0}]
[10,"","",null,null,null,null,null,null,null,null,null,null,null,null,null,{"$f":"第1回!B12","v":0},{"$f":"第1回!C12","v":0}]
[11,"","",null,null,null,null,null,null,null,null,null,null,null,null,null,{"$f":"第1回!B13","v":0},{"$f":"第1回!C13","v":0}]
[12,"","",null,null,null,null,null,null,null,null,null,null,null,null,null,{"$f":"第1回!B14","v":0},{"$f":"第1回!C14","v":0}]
[13,"","",null,null,null,null,null,null,null,null,null,null,null,null,null,{"$f":"第1回!B15","v":0},{"$f":"第1回!C15","v":0}]
[14,"","",null,null,null,null,null,null,null,null,null,null,null,null,null,{"$f":"第1回!B16","v":0},{"$f":"第1回!C16","v":0}]
[15,"","",null,null,null,null,null,null,null,null,null,null,null,null,null,{"$f":"第1回!B17","v":0},{"$f":"第1回!C17","v":0}]
[16,"","",null,null,null,null,null,null,null,null,null,null,null,null,null,{"$f":"第1回!B18","v":0},{"$f":"第1回!C18","v":0}]
[17,"","",null,null,null,null,null,null,null,null,null,null,null,null,null,{"$f":"第1回!B19","v":0},{"$f":"第1回!C19","v":0}]
[18,"","",null,null,null,null,null,null,null,null,null,null,null,null,null,{"$f":"第1回!B20","v":0},{"$f":"第1回!C20","v":0}]
[19,"","",null,null,null,null,null,null,null,null,null,null,null,null,null,{"$f":"第1回!B21","v":0},{"$f":"第1回!C21","v":0}]
[20,"","",null,null,null,null,null,null,null,null,null,null,null,null,null,{"$f":"第1回!B22","v":0},{"$f":"第1回!C22","v":0}]
[21,"","",null,null,null,null,null,null,null,null,null,null,null,null,null,{"$f":"第1回!B23","v":0},{"$f":"第1回!C23","v":0}]
[22,"","",null,null,null,null,null,null,null,null,null,null,null,null,null,{"$f":"第1回!B24","v":0},{"$f":"第1回!C24","v":0}]
[23,"","",null,null,null,null,null,null,null,null,null,null,null,null,null,{"$f":"第1回!B25","v":0},{"$f":"第1回!C25","v":0}]
[24,"","",null,null,null,null,null,null,null,null,null,null,null,null,null,{"$f":"第1回!B26","v":0},{"$f":"第1回!C26","v":0}]
[25,"","",null,null,null,null,null,null,null,null,null,null,null,null,null,{"$f":"第1回!B27","v":0},{"$f":"第1回!C27","v":0}]
[26,"","",null,null,null,null,null,null,null,null,null,null,null,null,null,{"$f":"第1回!B28","v":0},{"$f":"第1回!C28","v":0}]
[27,"","",null,null,null,null,null,null,null,null,null,null,null,null,null,{"$f":"第1回!B29","v":0},{"$f":"第1回!C29","v":0}]
[28,"","",null,null,null,null,null,null,null,null,null,null,null,null,null,{"$f":"第1回!B30","v":0},{"$f":"第1回!C30","v":0}]
[29,"","",null,null,null,null,null,null,null,null,null,null,null,null,null,{"$f":"第1回!B31","v":0},{"$f":"第1回!C31","v":0}]
[30,"","",null,null,null,null,null,null,null,null,null,null,null,null,null,{"$f":"第1回!B32","v":0},{"$f":"第1回!C32","v":0}]
[31,"","",null,null,null,null,null,null,null,null,null,null,null,null,null,{"$f":"第1回!B33","v":0},{"$f":"第1回!C33","v":0}]
[32,"","",null,null,null,null,null,null,null,null,null,null,null,null,null,{"$f":"第1回!B34","v":0},{"$f":"第1回!C34","v":0}]
[33,"","",null,null,null,null,null,null,null,null,null,null,null,null,null,{"$f":"第1回!B35","v":0},{"$f":"第1回!C35","v":0}]
[34,"","",null,null,null,null,null,null,null,null,null,null,null,null,null,{"$f":"第1回!B36","v":0},{"$f":"第1回!C36","v":0}]
[35,"","",null,null,null,null,null,null,null,null,null,null,null,null,null,{"$f":"第1回!B37","v":0},{"$f":"第1回!C37","v":0}]
[36,"","",null,null,null,null,null,null,null,null,null,null,null,null,null,{"$f":"第1回!B38","v":0},{"$f":"第1回!C38","v":0}]
[37,"","",null,null,null,null,null,null,null,null,null,null,null,null,null,{"$f":"第1回!B39","v":0},{"$f":"第1回!C39","v":0}]
[38,"","",null,null,null,null,null,null,null,null,null,null,null,null,null,{"$f":"第1回!B40","v":0},{"$f":"第1回!C40","v":0}]
[39,"","",null,null,null,null,null,null,null,null,null,null,null,null,null,{"$f":"第1回!B41","v":0},{"$f":"第1回!C41","v":0}]
[40,"","",null,null,null,null,null,null,null,null,null,null,null,null,null,{"$f":"第1回!B42","v":0},{"$f":"第1回!C42","v":0}]

{"sheet":"第24回","index":24,"n_rows":42,"n_cols":30,"rows_kept":42,"cut":false,"hidden":false,"merged":[[38,7,38,14],[39,7,39,14],[40,7,40,14],[41,7,41,14],[32,7,32,14],[33,7,33,14],[34,7,34,14],[35,7,35,14],[36,7,36,14],[37,7,37,14],[26,7,26,14],[27,7,27,14],[28,7,28,14],[29,7,29,14],[30,7,30,14],[31,7,31,14],[20,7,20,14],[21,7,21,14],[22,7,22,14],[23,7,23,14],[24,7,24,14],[25,7,25,14],[14,7,14,14],[15,7,15,14],[16,7,16,14],[17,7,17,14],[18,7,18,14],[19,7,19,14],[8,7,8,14],[9,7,9,14],[10,7,10,14],[11,7,11,14],[12,7,12,14],[13,7,13,14],[2,7,2,14],[3,7,3,14],[4,7,4,14],[5,7,5,14],[6,7,6,14],[7,7,7,14],[0,1,0,2],[0,3,0,4],[0,5,0,8],[0,9,0,10],[0,11,0,14],[1,7,1,14]]}
[24,{"$f":"IF(Q2=0,\"\",Q2)","v":""},null,"主題名",null,{"$f":"IF(R2=0,\"\",R2)","v":""},null,null,null,"資料名",null,{"$f":"IF(S2=0,\"\",S2)","v":""},null,null,null,null,null,null,{"$f":"個票!B6","v":"意欲的に考えることができた"},{"$f":"個票!B7","v":"登場人物を自分に置き換えて考えようとしている"},{"$f":"個票!B8","v":"友達の意見を参考にしながら多面的・多角的に考えようとしている"},{"$f":"個票!B9","v":"今までの自分を振り返りこれからの自分の生き方について考えようとしている"},{"$f":"個票!A10","v":"備考"},{"$f":"第1回!I2","v":0},{"$f":"第1回!J2","v":0},{"$f":"第1回!K2","v":0},{"$f":"第1回!L2","v":0},{"$f":"第1回!M2","v":0},{"$f":"第1回!N2","v":0},{"$f":"第1回!O2","v":0}]
["No","氏　　名","性別",{"$f":"IF(S1=0,\"\",S1)","v":"意欲的に考えることができた"},{"$f":"IF(T1=0,\"\",T1)","v":"登場人物を自分に置き換えて考えようとしている"},"友達の意見を参考にしながら多面的・多角的に考えようとしている","今までの自分を振り返りこれからの自分の生き方について考えようとしている","備考",null,null,null,null,null,null,null,null,{"$f":"個票!Z3","v":0},{"$f":"個票!Z4","v":0},{"$f":"個票!Z5","v":0}]
[1,{"$f":"IF(Q3=0,\"\",Q3)","v":""},{"$f":"IF(R3=0,\"\",R3)","v":""},null,null,null,null,null,null,null,null,null,null,null,null,null,{"$f":"第1回!B3","v":0},{"$f":"第1回!C3","v":0}]
[2,{"$f":"IF(Q4=0,\"\",Q4)","v":""},"",null,null,null,null,null,null,null,null,null,null,null,null,null,{"$f":"第1回!B4","v":0},{"$f":"第1回!C4","v":0}]
[3,{"$f":"IF(Q5=0,\"\",Q5)","v":""},"",null,null,null,null,null,null,null,null,null,null,null,null,null,{"$f":"第1回!B5","v":0},{"$f":"第1回!C5","v":0}]
[4,"","",null,null,null,null,null,null,null,null,null,null,null,null,null,{"$f":"第1回!B6","v":0},{"$f":"第1回!C6","v":0}]
[5,"","",null,null,null,null,null,null,null,null,null,null,null,null,null,{"$f":"第1回!B7","v":0},{"$f":"第1回!C7","v":0}]
[6,"","",null,null,null,null,null,null,null,null,null,null,null,null,null,{"$f":"第1回!B8","v":0},{"$f":"第1回!C8","v":0}]
[7,"","",null,null,null,null,null,null,null,null,null,null,null,null,null,{"$f":"第1回!B9","v":0},{"$f":"第1回!C9","v":0}]
[8,"","",null,null,null,null,null,null,null,null,null,null,null,null,null,{"$f":"第1回!B10","v":0},{"$f":"第1回!C10","v":0}]
[9,"","",null,null,null,null,null,null,null,null,null,null,null,null,null,{"$f":"第1回!B11","v":0},{"$f":"第1回!C11","v":0}]
[10,"","",null,null,null,null,null,null,null,null,null,null,null,null,null,{"$f":"第1回!B12","v":0},{"$f":"第1回!C12","v":0}]
[11,"","",null,null,null,null,null,null,null,null,null,null,null,null,null,{"$f":"第1回!B13","v":0},{"$f":"第1回!C13","v":0}]
[12,"","",null,null,null,null,null,null,null,null,null,null,null,null,null,{"$f":"第1回!B14","v":0},{"$f":"第1回!C14","v":0}]
[13,"","",null,null,null,null,null,null,null,null,null,null,null,null,null,{"$f":"第1回!B15","v":0},{"$f":"第1回!C15","v":0}]
[14,"","",null,null,null,null,null,null,null,null,null,null,null,null,null,{"$f":"第1回!B16","v":0},{"$f":"第1回!C16","v":0}]
[15,"","",null,null,null,null,null,null,null,null,null,null,null,null,null,{"$f":"第1回!B17","v":0},{"$f":"第1回!C17","v":0}]
[16,"","",null,null,null,null,null,null,null,null,null,null,null,null,null,{"$f":"第1回!B18","v":0},{"$f":"第1回!C18","v":0}]
[17,"","",null,null,null,null,null,null,null,null,null,null,null,null,null,{"$f":"第1回!B19","v":0},{"$f":"第1回!C19","v":0}]
[18,"","",null,null,null,null,null,null,null,null,null,null,null,null,null,{"$f":"第1回!B20","v":0},{"$f":"第1回!C20","v":0}]
[19,"","",null,null,null,null,null,null,null,null,null,null,null,null,null,{"$f":"第1回!B21","v":0},{"$f":"第1回!C21","v":0}]
[20,"","",null,null,null,null,null,null,null,null,null,null,null,null,null,{"$f":"第1回!B22","v":0},{"$f":"第1回!C22","v":0}]
[21,"","",null,null,null,null,null,null,null,null,null,null,null,null,null,{"$f":"第1回!B23","v":0},{"$f":"第1回!C23","v":0}]
[22,"","",null,null,null,null,null,null,null,null,null,null,null,null,null,{"$f":"第1回!B24","v":0},{"$f":"第1回!C24","v":0}]
[23,"","",null,null,null,null,null,null,null,null,null,null,null,null,null,{"$f":"第1回!B25","v":0},{"$f":"第1回!C25","v":0}]
[24,"","",null,null,null,null,null,null,null,null,null,null,null,null,null,{"$f":"第1回!B26","v":0},{"$f":"第1回!C26","v":0}]
[25,"","",null,null,null,null,null,null,null,null,null,null,null,null,null,{"$f":"第1回!B27","v":0},{"$f":"第1回!C27","v":0}]
[26,"","",null,null,null,null,null,null,null,null,null,null,null,null,null,{"$f":"第1回!B28","v":0},{"$f":"第1回!C28","v":0}]
[27,"","",null,null,null,null,null,null,null,null,null,null,null,null,null,{"$f":"第1回!B29","v":0},{"$f":"第1回!C29","v":0}]
[28,"","",null,null,null,null,null,null,null,null,null,null,null,null,null,{"$f":"第1回!B30","v":0},{"$f":"第1回!C30","v":0}]
[29,"","",null,null,null,null,null,null,null,null,null,null,null,null,null,{"$f":"第1回!B31","v":0},{"$f":"第1回!C31","v":0}]
[30,"","",null,null,null,null,null,null,null,null,null,null,null,null,null,{"$f":"第1回!B32","v":0},{"$f":"第1回!C32","v":0}]
[31,"","",null,null,null,null,null,null,null,null,null,null,null,null,null,{"$f":"第1回!B33","v":0},{"$f":"第1回!C33","v":0}]
[32,"","",null,null,null,null,null,null,null,null,null,null,null,null,null,{"$f":"第1回!B34","v":0},{"$f":"第1回!C34","v":0}]
[33,"","",null,null,null,null,null,null,null,null,null,null,null,null,null,{"$f":"第1回!B35","v":0},{"$f":"第1回!C35","v":0}]
[34,"","",null,null,null,null,null,null,null,null,null,null,null,null,null,{"$f":"第1回!B36","v":0},{"$f":"第1回!C36","v":0}]
[35,"","",null,null,null,null,null,null,null,null,null,null,null,null,null,{"$f":"第1回!B37","v":0},{"$f":"第1回!C37","v":0}]
[36,"","",null,null,null,null,null,null,null,null,null,null,null,null,null,{"$f":"第1回!B38","v":0},{"$f":"第1回!C38","v":0}]
[37,"","",null,null,null,null,null,null,null,null,null,null,null,null,null,{"$f":"第1回!B39","v":0},{"$f":"第1回!C39","v":0}]
[38,"","",null,null,null,null,null,null,null,null,null,null,null,null,null,{"$f":"第1回!B40","v":0},{"$f":"第1回!C40","v":0}]
[39,"","",null,null,null,null,null,null,null,null,null,null,null,null,null,{"$f":"第1回!B41","v":0},{"$f":"第1回!C41","v":0}]
[40,"","",null,null,null,null,null,null,null,null,null,null,null,null,null,{"$f":"第1回!B42","v":0},{"$f":"第1回!C42","v":0}]

{"sheet":"第25回","index":25,"n_rows":42,"n_cols":30,"rows_kept":42,"cut":false,"hidden":false,"merged":[[38,7,38,14],[39,7,39,14],[40,7,40,14],[41,7,41,14],[32,7,32,14],[33,7,33,14],[34,7,34,14],[35,7,35,14],[36,7,36,14],[37,7,37,14],[26,7,26,14],[27,7,27,14],[28,7,28,14],[29,7,29,14],[30,7,30,14],[31,7,31,14],[20,7,20,14],[21,7,21,14],[22,7,22,14],[23,7,23,14],[24,7,24,14],[25,7,25,14],[14,7,14,14],[15,7,15,14],[16,7,16,14],[17,7,17,14],[18,7,18,14],[19,7,19,14],[8,7,8,14],[9,7,9,14],[10,7,10,14],[11,7,11,14],[12,7,12,14],[13,7,13,14],[2,7,2,14],[3,7,3,14],[4,7,4,14],[5,7,5,14],[6,7,6,14],[7,7,7,14],[0,1,0,2],[0,3,0,4],[0,5,0,8],[0,9,0,10],[0,11,0,14],[1,7,1,14]]}
[25,{"$f":"IF(Q2=0,\"\",Q2)","v":""},null,"主題名",null,{"$f":"IF(R2=0,\"\",R2)","v":""},null,null,null,"資料名",null,{"$f":"IF(S2=0,\"\",S2)","v":""},null,null,null,null,null,null,{"$f":"個票!B6","v":"意欲的に考えることができた"},{"$f":"個票!B7","v":"登場人物を自分に置き換えて考えようとしている"},{"$f":"個票!B8","v":"友達の意見を参考にしながら多面的・多角的に考えようとしている"},{"$f":"個票!B9","v":"今までの自分を振り返りこれからの自分の生き方について考えようとしている"},{"$f":"個票!A10","v":"備考"},{"$f":"第1回!I2","v":0},{"$f":"第1回!J2","v":0},{"$f":"第1回!K2","v":0},{"$f":"第1回!L2","v":0},{"$f":"第1回!M2","v":0},{"$f":"第1回!N2","v":0},{"$f":"第1回!O2","v":0}]
["No","氏　　名","性別",{"$f":"IF(S1=0,\"\",S1)","v":"意欲的に考えることができた"},{"$f":"IF(T1=0,\"\",T1)","v":"登場人物を自分に置き換えて考えようとしている"},"友達の意見を参考にしながら多面的・多角的に考えようとしている","今までの自分を振り返りこれからの自分の生き方について考えようとしている","備考",null,null,null,null,null,null,null,null,{"$f":"個票!AA3","v":0},{"$f":"個票!AA4","v":0},{"$f":"個票!AA5","v":0}]
[1,{"$f":"IF(Q3=0,\"\",Q3)","v":""},{"$f":"IF(R3=0,\"\",R3)","v":""},null,null,null,null,null,null,null,null,null,null,null,null,null,{"$f":"第1回!B3","v":0},{"$f":"第1回!C3","v":0}]
[2,{"$f":"IF(Q4=0,\"\",Q4)","v":""},"",null,null,null,null,null,null,null,null,null,null,null,null,null,{"$f":"第1回!B4","v":0},{"$f":"第1回!C4","v":0}]
[3,{"$f":"IF(Q5=0,\"\",Q5)","v":""},"",null,null,null,null,null,null,null,null,null,null,null,null,null,{"$f":"第1回!B5","v":0},{"$f":"第1回!C5","v":0}]
[4,"","",null,null,null,null,null,null,null,null,null,null,null,null,null,{"$f":"第1回!B6","v":0},{"$f":"第1回!C6","v":0}]
[5,"","",null,null,null,null,null,null,null,null,null,null,null,null,null,{"$f":"第1回!B7","v":0},{"$f":"第1回!C7","v":0}]
[6,"","",null,null,null,null,null,null,null,null,null,null,null,null,null,{"$f":"第1回!B8","v":0},{"$f":"第1回!C8","v":0}]
[7,"","",null,null,null,null,null,null,null,null,null,null,null,null,null,{"$f":"第1回!B9","v":0},{"$f":"第1回!C9","v":0}]
[8,"","",null,null,null,null,null,null,null,null,null,null,null,null,null,{"$f":"第1回!B10","v":0},{"$f":"第1回!C10","v":0}]
[9,"","",null,null,null,null,null,null,null,null,null,null,null,null,null,{"$f":"第1回!B11","v":0},{"$f":"第1回!C11","v":0}]
[10,"","",null,null,null,null,null,null,null,null,null,null,null,null,null,{"$f":"第1回!B12","v":0},{"$f":"第1回!C12","v":0}]
[11,"","",null,null,null,null,null,null,null,null,null,null,null,null,null,{"$f":"第1回!B13","v":0},{"$f":"第1回!C13","v":0}]
[12,"","",null,null,null,null,null,null,null,null,null,null,null,null,null,{"$f":"第1回!B14","v":0},{"$f":"第1回!C14","v":0}]
[13,"","",null,null,null,null,null,null,null,null,null,null,null,null,null,{"$f":"第1回!B15","v":0},{"$f":"第1回!C15","v":0}]
[14,"","",null,null,null,null,null,null,null,null,null,null,null,null,null,{"$f":"第1回!B16","v":0},{"$f":"第1回!C16","v":0}]
[15,"","",null,null,null,null,null,null,null,null,null,null,null,null,null,{"$f":"第1回!B17","v":0},{"$f":"第1回!C17","v":0}]
[16,"","",null,null,null,null,null,null,null,null,null,null,null,null,null,{"$f":"第1回!B18","v":0},{"$f":"第1回!C18","v":0}]
[17,"","",null,null,null,null,null,null,null,null,null,null,null,null,null,{"$f":"第1回!B19","v":0},{"$f":"第1回!C19","v":0}]
[18,"","",null,null,null,null,null,null,null,null,null,null,null,null,null,{"$f":"第1回!B20","v":0},{"$f":"第1回!C20","v":0}]
[19,"","",null,null,null,null,null,null,null,null,null,null,null,null,null,{"$f":"第1回!B21","v":0},{"$f":"第1回!C21","v":0}]
[20,"","",null,null,null,null,null,null,null,null,null,null,null,null,null,{"$f":"第1回!B22","v":0},{"$f":"第1回!C22","v":0}]
[21,"","",null,null,null,null,null,null,null,null,null,null,null,null,null,{"$f":"第1回!B23","v":0},{"$f":"第1回!C23","v":0}]
[22,"","",null,null,null,null,null,null,null,null,null,null,null,null,null,{"$f":"第1回!B24","v":0},{"$f":"第1回!C24","v":0}]
[23,"","",null,null,null,null,null,null,null,null,null,null,null,null,null,{"$f":"第1回!B25","v":0},{"$f":"第1回!C25","v":0}]
[24,"","",null,null,null,null,null,null,null,null,null,null,null,null,null,{"$f":"第1回!B26","v":0},{"$f":"第1回!C26","v":0}]
[25,"","",null,null,null,null,null,null,null,null,null,null,null,null,null,{"$f":"第1回!B27","v":0},{"$f":"第1回!C27","v":0}]
[26,"","",null,null,null,null,null,null,null,null,null,null,null,null,null,{"$f":"第1回!B28","v":0},{"$f":"第1回!C28","v":0}]
[27,"","",null,null,null,null,null,null,null,null,null,null,null,null,null,{"$f":"第1回!B29","v":0},{"$f":"第1回!C29","v":0}]
[28,"","",null,null,null,null,null,null,null,null,null,null,null,null,null,{"$f":"第1回!B30","v":0},{"$f":"第1回!C30","v":0}]
[29,"","",null,null,null,null,null,null,null,null,null,null,null,null,null,{"$f":"第1回!B31","v":0},{"$f":"第1回!C31","v":0}]
[30,"","",null,null,null,null,null,null,null,null,null,null,null,null,null,{"$f":"第1回!B32","v":0},{"$f":"第1回!C32","v":0}]
[31,"","",null,null,null,null,null,null,null,null,null,null,null,null,null,{"$f":"第1回!B33","v":0},{"$f":"第1回!C33","v":0}]
[32,"","",null,null,null,null,null,null,null,null,null,null,null,null,null,{"$f":"第1回!B34","v":0},{"$f":"第1回!C34","v":0}]
[33,"","",null,null,null,null,null,null,null,null,null,null,null,null,null,{"$f":"第1回!B35","v":0},{"$f":"第1回!C35","v":0}]
[34,"","",null,null,null,null,null,null,null,null,null,null,null,null,null,{"$f":"第1回!B36","v":0},{"$f":"第1回!C36","v":0}]
[35,"","",null,null,null,null,null,null,null,null,null,null,null,null,null,{"$f":"第1回!B37","v":0},{"$f":"第1回!C37","v":0}]
[36,"","",null,null,null,null,null,null,null,null,null,null,null,null,null,{"$f":"第1回!B38","v":0},{"$f":"第1回!C38","v":0}]
[37,"","",null,null,null,null,null,null,null,null,null,null,null,null,null,{"$f":"第1回!B39","v":0},{"$f":"第1回!C39","v":0}]
[38,"","",null,null,null,null,null,null,null,null,null,null,null,null,null,{"$f":"第1回!B40","v":0},{"$f":"第1回!C40","v":0}]
[39,"","",null,null,null,null,null,null,null,null,null,null,null,null,null,{"$f":"第1回!B41","v":0},{"$f":"第1回!C41","v":0}]
[40,"","",null,null,null,null,null,null,null,null,null,null,null,null,null,{"$f":"第1回!B42","v":0},{"$f":"第1回!C42","v":0}]

{"sheet":"第26回","index":26,"n_rows":42,"n_cols":30,"rows_kept":42,"cut":false,"hidden":false,"merged":[[38,7,38,14],[39,7,39,14],[40,7,40,14],[41,7,41,14],[32,7,32,14],[33,7,33,14],[34,7,34,14],[35,7,35,14],[36,7,36,14],[37,7,37,14],[26,7,26,14],[27,7,27,14],[28,7,28,14],[29,7,29,14],[30,7,30,14],[31,7,31,14],[20,7,20,14],[21,7,21,14],[22,7,22,14],[23,7,23,14],[24,7,24,14],[25,7,25,14],[14,7,14,14],[15,7,15,14],[16,7,16,14],[17,7,17,14],[18,7,18,14],[19,7,19,14],[8,7,8,14],[9,7,9,14],[10,7,10,14],[11,7,11,14],[12,7,12,14],[13,7,13,14],[2,7,2,14],[3,7,3,14],[4,7,4,14],[5,7,5,14],[6,7,6,14],[7,7,7,14],[0,1,0,2],[0,3,0,4],[0,5,0,8],[0,9,0,10],[0,11,0,14],[1,7,1,14]]}
[26,{"$f":"IF(Q2=0,\"\",Q2)","v":""},null,"主題名",null,{"$f":"IF(R2=0,\"\",R2)","v":""},null,null,null,"資料名",null,{"$f":"IF(S2=0,\"\",S2)","v":""},null,null,null,null,null,null,{"$f":"個票!B6","v":"意欲的に考えることができた"},{"$f":"個票!B7","v":"登場人物を自分に置き換えて考えようとしている"},{"$f":"個票!B8","v":"友達の意見を参考にしながら多面的・多角的に考えようとしている"},{"$f":"個票!B9","v":"今までの自分を振り返りこれからの自分の生き方について考えようとしている"},{"$f":"個票!A10","v":"備考"},{"$f":"第1回!I2","v":0},{"$f":"第1回!J2","v":0},{"$f":"第1回!K2","v":0},{"$f":"第1回!L2","v":0},{"$f":"第1回!M2","v":0},{"$f":"第1回!N2","v":0},{"$f":"第1回!O2","v":0}]
["No","氏　　名","性別",{"$f":"IF(S1=0,\"\",S1)","v":"意欲的に考えることができた"},{"$f":"IF(T1=0,\"\",T1)","v":"登場人物を自分に置き換えて考えようとしている"},"友達の意見を参考にしながら多面的・多角的に考えようとしている","今までの自分を振り返りこれからの自分の生き方について考えようとしている","備考",null,null,null,null,null,null,null,null,{"$f":"個票!AB3","v":0},{"$f":"個票!AB4","v":0},{"$f":"個票!AB5","v":0}]
[1,{"$f":"IF(Q3=0,\"\",Q3)","v":""},{"$f":"IF(R3=0,\"\",R3)","v":""},null,null,null,null,null,null,null,null,null,null,null,null,null,{"$f":"第1回!B3","v":0},{"$f":"第1回!C3","v":0}]
[2,{"$f":"IF(Q4=0,\"\",Q4)","v":""},"",null,null,null,null,null,null,null,null,null,null,null,null,null,{"$f":"第1回!B4","v":0},{"$f":"第1回!C4","v":0}]
[3,{"$f":"IF(Q5=0,\"\",Q5)","v":""},"",null,null,null,null,null,null,null,null,null,null,null,null,null,{"$f":"第1回!B5","v":0},{"$f":"第1回!C5","v":0}]
[4,"","",null,null,null,null,null,null,null,null,null,null,null,null,null,{"$f":"第1回!B6","v":0},{"$f":"第1回!C6","v":0}]
[5,"","",null,null,null,null,null,null,null,null,null,null,null,null,null,{"$f":"第1回!B7","v":0},{"$f":"第1回!C7","v":0}]
[6,"","",null,null,null,null,null,null,null,null,null,null,null,null,null,{"$f":"第1回!B8","v":0},{"$f":"第1回!C8","v":0}]
[7,"","",null,null,null,null,null,null,null,null,null,null,null,null,null,{"$f":"第1回!B9","v":0},{"$f":"第1回!C9","v":0}]
[8,"","",null,null,null,null,null,null,null,null,null,null,null,null,null,{"$f":"第1回!B10","v":0},{"$f":"第1回!C10","v":0}]
[9,"","",null,null,null,null,null,null,null,null,null,null,null,null,null,{"$f":"第1回!B11","v":0},{"$f":"第1回!C11","v":0}]
[10,"","",null,null,null,null,null,null,null,null,null,null,null,null,null,{"$f":"第1回!B12","v":0},{"$f":"第1回!C12","v":0}]
[11,"","",null,null,null,null,null,null,null,null,null,null,null,null,null,{"$f":"第1回!B13","v":0},{"$f":"第1回!C13","v":0}]
[12,"","",null,null,null,null,null,null,null,null,null,null,null,null,null,{"$f":"第1回!B14","v":0},{"$f":"第1回!C14","v":0}]
[13,"","",null,null,null,null,null,null,null,null,null,null,null,null,null,{"$f":"第1回!B15","v":0},{"$f":"第1回!C15","v":0}]
[14,"","",null,null,null,null,null,null,null,null,null,null,null,null,null,{"$f":"第1回!B16","v":0},{"$f":"第1回!C16","v":0}]
[15,"","",null,null,null,null,null,null,null,null,null,null,null,null,null,{"$f":"第1回!B17","v":0},{"$f":"第1回!C17","v":0}]
[16,"","",null,null,null,null,null,null,null,null,null,null,null,null,null,{"$f":"第1回!B18","v":0},{"$f":"第1回!C18","v":0}]
[17,"","",null,null,null,null,null,null,null,null,null,null,null,null,null,{"$f":"第1回!B19","v":0},{"$f":"第1回!C19","v":0}]
[18,"","",null,null,null,null,null,null,null,null,null,null,null,null,null,{"$f":"第1回!B20","v":0},{"$f":"第1回!C20","v":0}]
[19,"","",null,null,null,null,null,null,null,null,null,null,null,null,null,{"$f":"第1回!B21","v":0},{"$f":"第1回!C21","v":0}]
[20,"","",null,null,null,null,null,null,null,null,null,null,null,null,null,{"$f":"第1回!B22","v":0},{"$f":"第1回!C22","v":0}]
[21,"","",null,null,null,null,null,null,null,null,null,null,null,null,null,{"$f":"第1回!B23","v":0},{"$f":"第1回!C23","v":0}]
[22,"","",null,null,null,null,null,null,null,null,null,null,null,null,null,{"$f":"第1回!B24","v":0},{"$f":"第1回!C24","v":0}]
[23,"","",null,null,null,null,null,null,null,null,null,null,null,null,null,{"$f":"第1回!B25","v":0},{"$f":"第1回!C25","v":0}]
[24,"","",null,null,null,null,null,null,null,null,null,null,null,null,null,{"$f":"第1回!B26","v":0},{"$f":"第1回!C26","v":0}]
[25,"","",null,null,null,null,null,null,null,null,null,null,null,null,null,{"$f":"第1回!B27","v":0},{"$f":"第1回!C27","v":0}]
[26,"","",null,null,null,null,null,null,null,null,null,null,null,null,null,{"$f":"第1回!B28","v":0},{"$f":"第1回!C28","v":0}]
[27,"","",null,null,null,null,null,null,null,null,null,null,null,null,null,{"$f":"第1回!B29","v":0},{"$f":"第1回!C29","v":0}]
[28,"","",null,null,null,null,null,null,null,null,null,null,null,null,null,{"$f":"第1回!B30","v":0},{"$f":"第1回!C30","v":0}]
[29,"","",null,null,null,null,null,null,null,null,null,null,null,null,null,{"$f":"第1回!B31","v":0},{"$f":"第1回!C31","v":0}]
[30,"","",null,null,null,null,null,null,null,null,null,null,null,null,null,{"$f":"第1回!B32","v":0},{"$f":"第1回!C32","v":0}]
[31,"","",null,null,null,null,null,null,null,null,null,null,null,null,null,{"$f":"第1回!B33","v":0},{"$f":"第1回!C33","v":0}]
[32,"","",null,null,null,null,null,null,null,null,null,null,null,null,null,{"$f":"第1回!B34","v":0},{"$f":"第1回!C34","v":0}]
[33,"","",null,null,null,null,null,null,null,null,null,null,null,null,null,{"$f":"第1回!B35","v":0},{"$f":"第1回!C35","v":0}]
[34,"","",null,null,null,null,null,null,null,null,null,null,null,null,null,{"$f":"第1回!B36","v":0},{"$f":"第1回!C36","v":0}]
[35,"","",null,null,null,null,null,null,null,null,null,null,null,null,null,{"$f":"第1回!B37","v":0},{"$f":"第1回!C37","v":0}]
[36,"","",null,null,null,null,null,null,null,null,null,null,null,null,null,{"$f":"第1回!B38","v":0},{"$f":"第1回!C38","v":0}]
[37,"","",null,null,null,null,null,null,null,null,null,null,null,null,null,{"$f":"第1回!B39","v":0},{"$f":"第1回!C39","v":0}]
[38,"","",null,null,null,null,null,null,null,null,null,null,null,null,null,{"$f":"第1回!B40","v":0},{"$f":"第1回!C40","v":0}]
[39,"","",null,null,null,null,null,null,null,null,null,null,null,null,null,{"$f":"第1回!B41","v":0},{"$f":"第1回!C41","v":0}]
[40,"","",null,null,null,null,null,null,null,null,null,null,null,null,null,{"$f":"第1回!B42","v":0},{"$f":"第1回!C42","v":0}]

{"sheet":"第27回","index":27,"n_rows":42,"n_cols":30,"rows_kept":42,"cut":false,"hidden":false,"merged":[[38,7,38,14],[39,7,39,14],[40,7,40,14],[41,7,41,14],[32,7,32,14],[33,7,33,14],[34,7,34,14],[35,7,35,14],[36,7,36,14],[37,7,37,14],[26,7,26,14],[27,7,27,14],[28,7,28,14],[29,7,29,14],[30,7,30,14],[31,7,31,14],[20,7,20,14],[21,7,21,14],[22,7,22,14],[23,7,23,14],[24,7,24,14],[25,7,25,14],[14,7,14,14],[15,7,15,14],[16,7,16,14],[17,7,17,14],[18,7,18,14],[19,7,19,14],[8,7,8,14],[9,7,9,14],[10,7,10,14],[11,7,11,14],[12,7,12,14],[13,7,13,14],[2,7,2,14],[3,7,3,14],[4,7,4,14],[5,7,5,14],[6,7,6,14],[7,7,7,14],[0,1,0,2],[0,3,0,4],[0,5,0,8],[0,9,0,10],[0,11,0,14],[1,7,1,14]]}
[27,{"$f":"IF(Q2=0,\"\",Q2)","v":""},null,"主題名",null,{"$f":"IF(R2=0,\"\",R2)","v":""},null,null,null,"資料名",null,{"$f":"IF(S2=0,\"\",S2)","v":""},null,null,null,null,null,null,{"$f":"個票!B6","v":"意欲的に考えることができた"},{"$f":"個票!B7","v":"登場人物を自分に置き換えて考えようとしている"},{"$f":"個票!B8","v":"友達の意見を参考にしながら多面的・多角的に考えようとしている"},{"$f":"個票!B9","v":"今までの自分を振り返りこれからの自分の生き方について考えようとしている"},{"$f":"個票!A10","v":"備考"},{"$f":"第1回!I2","v":0},{"$f":"第1回!J2","v":0},{"$f":"第1回!K2","v":0},{"$f":"第1回!L2","v":0},{"$f":"第1回!M2","v":0},{"$f":"第1回!N2","v":0},{"$f":"第1回!O2","v":0}]
["No","氏　　名","性別",{"$f":"IF(S1=0,\"\",S1)","v":"意欲的に考えることができた"},{"$f":"IF(T1=0,\"\",T1)","v":"登場人物を自分に置き換えて考えようとしている"},"友達の意見を参考にしながら多面的・多角的に考えようとしている","今までの自分を振り返りこれからの自分の生き方について考えようとしている","備考",null,null,null,null,null,null,null,null,{"$f":"個票!AC3","v":0},{"$f":"個票!AC4","v":0},{"$f":"個票!AC5","v":0}]
[1,{"$f":"IF(Q3=0,\"\",Q3)","v":""},{"$f":"IF(R3=0,\"\",R3)","v":""},null,null,null,null,null,null,null,null,null,null,null,null,null,{"$f":"第1回!B3","v":0},{"$f":"第1回!C3","v":0}]
[2,{"$f":"IF(Q4=0,\"\",Q4)","v":""},"",null,null,null,null,null,null,null,null,null,null,null,null,null,{"$f":"第1回!B4","v":0},{"$f":"第1回!C4","v":0}]
[3,{"$f":"IF(Q5=0,\"\",Q5)","v":""},"",null,null,null,null,null,null,null,null,null,null,null,null,null,{"$f":"第1回!B5","v":0},{"$f":"第1回!C5","v":0}]
[4,"","",null,null,null,null,null,null,null,null,null,null,null,null,null,{"$f":"第1回!B6","v":0},{"$f":"第1回!C6","v":0}]
[5,"","",null,null,null,null,null,null,null,null,null,null,null,null,null,{"$f":"第1回!B7","v":0},{"$f":"第1回!C7","v":0}]
[6,"","",null,null,null,null,null,null,null,null,null,null,null,null,null,{"$f":"第1回!B8","v":0},{"$f":"第1回!C8","v":0}]
[7,"","",null,null,null,null,null,null,null,null,null,null,null,null,null,{"$f":"第1回!B9","v":0},{"$f":"第1回!C9","v":0}]
[8,"","",null,null,null,null,null,null,null,null,null,null,null,null,null,{"$f":"第1回!B10","v":0},{"$f":"第1回!C10","v":0}]
[9,"","",null,null,null,null,null,null,null,null,null,null,null,null,null,{"$f":"第1回!B11","v":0},{"$f":"第1回!C11","v":0}]
[10,"","",null,null,null,null,null,null,null,null,null,null,null,null,null,{"$f":"第1回!B12","v":0},{"$f":"第1回!C12","v":0}]
[11,"","",null,null,null,null,null,null,null,null,null,null,null,null,null,{"$f":"第1回!B13","v":0},{"$f":"第1回!C13","v":0}]
[12,"","",null,null,null,null,null,null,null,null,null,null,null,null,null,{"$f":"第1回!B14","v":0},{"$f":"第1回!C14","v":0}]
[13,"","",null,null,null,null,null,null,null,null,null,null,null,null,null,{"$f":"第1回!B15","v":0},{"$f":"第1回!C15","v":0}]
[14,"","",null,null,null,null,null,null,null,null,null,null,null,null,null,{"$f":"第1回!B16","v":0},{"$f":"第1回!C16","v":0}]
[15,"","",null,null,null,null,null,null,null,null,null,null,null,null,null,{"$f":"第1回!B17","v":0},{"$f":"第1回!C17","v":0}]
[16,"","",null,null,null,null,null,null,null,null,null,null,null,null,null,{"$f":"第1回!B18","v":0},{"$f":"第1回!C18","v":0}]
[17,"","",null,null,null,null,null,null,null,null,null,null,null,null,null,{"$f":"第1回!B19","v":0},{"$f":"第1回!C19","v":0}]
[18,"","",null,null,null,null,null,null,null,null,null,null,null,null,null,{"$f":"第1回!B20","v":0},{"$f":"第1回!C20","v":0}]
[19,"","",null,null,null,null,null,null,null,null,null,null,null,null,null,{"$f":"第1回!B21","v":0},{"$f":"第1回!C21","v":0}]
[20,"","",null,null,null,null,null,null,null,null,null,null,null,null,null,{"$f":"第1回!B22","v":0},{"$f":"第1回!C22","v":0}]
[21,"","",null,null,null,null,null,null,null,null,null,null,null,null,null,{"$f":"第1回!B23","v":0},{"$f":"第1回!C23","v":0}]
[22,"","",null,null,null,null,null,null,null,null,null,null,null,null,null,{"$f":"第1回!B24","v":0},{"$f":"第1回!C24","v":0}]
[23,"","",null,null,null,null,null,null,null,null,null,null,null,null,null,{"$f":"第1回!B25","v":0},{"$f":"第1回!C25","v":0}]
[24,"","",null,null,null,null,null,null,null,null,null,null,null,null,null,{"$f":"第1回!B26","v":0},{"$f":"第1回!C26","v":0}]
[25,"","",null,null,null,null,null,null,null,null,null,null,null,null,null,{"$f":"第1回!B27","v":0},{"$f":"第1回!C27","v":0}]
[26,"","",null,null,null,null,null,null,null,null,null,null,null,null,null,{"$f":"第1回!B28","v":0},{"$f":"第1回!C28","v":0}]
[27,"","",null,null,null,null,null,null,null,null,null,null,null,null,null,{"$f":"第1回!B29","v":0},{"$f":"第1回!C29","v":0}]
[28,"","",null,null,null,null,null,null,null,null,null,null,null,null,null,{"$f":"第1回!B30","v":0},{"$f":"第1回!C30","v":0}]
[29,"","",null,null,null,null,null,null,null,null,null,null,null,null,null,{"$f":"第1回!B31","v":0},{"$f":"第1回!C31","v":0}]
[30,"","",null,null,null,null,null,null,null,null,null,null,null,null,null,{"$f":"第1回!B32","v":0},{"$f":"第1回!C32","v":0}]
[31,"","",null,null,null,null,null,null,null,null,null,null,null,null,null,{"$f":"第1回!B33","v":0},{"$f":"第1回!C33","v":0}]
[32,"","",null,null,null,null,null,null,null,null,null,null,null,null,null,{"$f":"第1回!B34","v":0},{"$f":"第1回!C34","v":0}]
[33,"","",null,null,null,null,null,null,null,null,null,null,null,null,null,{"$f":"第1回!B35","v":0},{"$f":"第1回!C35","v":0}]
[34,"","",null,null,null,null,null,null,null,null,null,null,null,null,null,{"$f":"第1回!B36","v":0},{"$f":"第1回!C36","v":0}]
[35,"","",null,null,null,null,null,null,null,null,null,null,null,null,null,{"$f":"第1回!B37","v":0},{"$f":"第1回!C37","v":0}]
[36,"","",null,null,null,null,null,null,null,null,null,null,null,null,null,{"$f":"第1回!B38","v":0},{"$f":"第1回!C38","v":0}]
[37,"","",null,null,null,null,null,null,null,null,null,null,null,null,null,{"$f":"第1回!B39","v":0},{"$f":"第1回!C39","v":0}]
[38,"","",null,null,null,null,null,null,null,null,null,null,null,null,null,{"$f":"第1回!B40","v":0},{"$f":"第1回!C40","v":0}]
[39,"","",null,null,null,null,null,null,null,null,null,null,null,null,null,{"$f":"第1回!B41","v":0},{"$f":"第1回!C41","v":0}]
[40,"","",null,null,null,null,null,null,null,null,null,null,null,null,null,{"$f":"第1回!B42","v":0},{"$f":"第1回!C42","v":0}]

{"sheet":"第28回","index":28,"n_rows":42,"n_cols":30,"rows_kept":42,"cut":false,"hidden":false,"merged":[[38,7,38,14],[39,7,39,14],[40,7,40,14],[41,7,41,14],[32,7,32,14],[33,7,33,14],[34,7,34,14],[35,7,35,14],[36,7,36,14],[37,7,37,14],[26,7,26,14],[27,7,27,14],[28,7,28,14],[29,7,29,14],[30,7,30,14],[31,7,31,14],[20,7,20,14],[21,7,21,14],[22,7,22,14],[23,7,23,14],[24,7,24,14],[25,7,25,14],[14,7,14,14],[15,7,15,14],[16,7,16,14],[17,7,17,14],[18,7,18,14],[19,7,19,14],[8,7,8,14],[9,7,9,14],[10,7,10,14],[11,7,11,14],[12,7,12,14],[13,7,13,14],[2,7,2,14],[3,7,3,14],[4,7,4,14],[5,7,5,14],[6,7,6,14],[7,7,7,14],[0,1,0,2],[0,3,0,4],[0,5,0,8],[0,9,0,10],[0,11,0,14],[1,7,1,14]]}
[28,{"$f":"IF(Q2=0,\"\",Q2)","v":""},null,"主題名",null,{"$f":"IF(R2=0,\"\",R2)","v":""},null,null,null,"資料名",null,{"$f":"IF(S2=0,\"\",S2)","v":""},null,null,null,null,null,null,{"$f":"個票!B6","v":"意欲的に考えることができた"},{"$f":"個票!B7","v":"登場人物を自分に置き換えて考えようとしている"},{"$f":"個票!B8","v":"友達の意見を参考にしながら多面的・多角的に考えようとしている"},{"$f":"個票!B9","v":"今までの自分を振り返りこれからの自分の生き方について考えようとしている"},{"$f":"個票!A10","v":"備考"},{"$f":"第1回!I2","v":0},{"$f":"第1回!J2","v":0},{"$f":"第1回!K2","v":0},{"$f":"第1回!L2","v":0},{"$f":"第1回!M2","v":0},{"$f":"第1回!N2","v":0},{"$f":"第1回!O2","v":0}]
["No","氏　　名","性別",{"$f":"IF(S1=0,\"\",S1)","v":"意欲的に考えることができた"},{"$f":"IF(T1=0,\"\",T1)","v":"登場人物を自分に置き換えて考えようとしている"},"友達の意見を参考にしながら多面的・多角的に考えようとしている","今までの自分を振り返りこれからの自分の生き方について考えようとしている","備考",null,null,null,null,null,null,null,null,{"$f":"個票!AD3","v":0},{"$f":"個票!AD4","v":0},{"$f":"個票!AD5","v":0}]
[1,{"$f":"IF(Q3=0,\"\",Q3)","v":""},{"$f":"IF(R3=0,\"\",R3)","v":""},null,null,null,null,null,null,null,null,null,null,null,null,null,{"$f":"第1回!B3","v":0},{"$f":"第1回!C3","v":0}]
[2,{"$f":"IF(Q4=0,\"\",Q4)","v":""},"",null,null,null,null,null,null,null,null,null,null,null,null,null,{"$f":"第1回!B4","v":0},{"$f":"第1回!C4","v":0}]
[3,{"$f":"IF(Q5=0,\"\",Q5)","v":""},"",null,null,null,null,null,null,null,null,null,null,null,null,null,{"$f":"第1回!B5","v":0},{"$f":"第1回!C5","v":0}]
[4,"","",null,null,null,null,null,null,null,null,null,null,null,null,null,{"$f":"第1回!B6","v":0},{"$f":"第1回!C6","v":0}]
[5,"","",null,null,null,null,null,null,null,null,null,null,null,null,null,{"$f":"第1回!B7","v":0},{"$f":"第1回!C7","v":0}]
[6,"","",null,null,null,null,null,null,null,null,null,null,null,null,null,{"$f":"第1回!B8","v":0},{"$f":"第1回!C8","v":0}]
[7,"","",null,null,null,null,null,null,null,null,null,null,null,null,null,{"$f":"第1回!B9","v":0},{"$f":"第1回!C9","v":0}]
[8,"","",null,null,null,null,null,null,null,null,null,null,null,null,null,{"$f":"第1回!B10","v":0},{"$f":"第1回!C10","v":0}]
[9,"","",null,null,null,null,null,null,null,null,null,null,null,null,null,{"$f":"第1回!B11","v":0},{"$f":"第1回!C11","v":0}]
[10,"","",null,null,null,null,null,null,null,null,null,null,null,null,null,{"$f":"第1回!B12","v":0},{"$f":"第1回!C12","v":0}]
[11,"","",null,null,null,null,null,null,null,null,null,null,null,null,null,{"$f":"第1回!B13","v":0},{"$f":"第1回!C13","v":0}]
[12,"","",null,null,null,null,null,null,null,null,null,null,null,null,null,{"$f":"第1回!B14","v":0},{"$f":"第1回!C14","v":0}]
[13,"","",null,null,null,null,null,null,null,null,null,null,null,null,null,{"$f":"第1回!B15","v":0},{"$f":"第1回!C15","v":0}]
[14,"","",null,null,null,null,null,null,null,null,null,null,null,null,null,{"$f":"第1回!B16","v":0},{"$f":"第1回!C16","v":0}]
[15,"","",null,null,null,null,null,null,null,null,null,null,null,null,null,{"$f":"第1回!B17","v":0},{"$f":"第1回!C17","v":0}]
[16,"","",null,null,null,null,null,null,null,null,null,null,null,null,null,{"$f":"第1回!B18","v":0},{"$f":"第1回!C18","v":0}]
[17,"","",null,null,null,null,null,null,null,null,null,null,null,null,null,{"$f":"第1回!B19","v":0},{"$f":"第1回!C19","v":0}]
[18,"","",null,null,null,null,null,null,null,null,null,null,null,null,null,{"$f":"第1回!B20","v":0},{"$f":"第1回!C20","v":0}]
[19,"","",null,null,null,null,null,null,null,null,null,null,null,null,null,{"$f":"第1回!B21","v":0},{"$f":"第1回!C21","v":0}]
[20,"","",null,null,null,null,null,null,null,null,null,null,null,null,null,{"$f":"第1回!B22","v":0},{"$f":"第1回!C22","v":0}]
[21,"","",null,null,null,null,null,null,null,null,null,null,null,null,null,{"$f":"第1回!B23","v":0},{"$f":"第1回!C23","v":0}]
[22,"","",null,null,null,null,null,null,null,null,null,null,null,null,null,{"$f":"第1回!B24","v":0},{"$f":"第1回!C24","v":0}]
[23,"","",null,null,null,null,null,null,null,null,null,null,null,null,null,{"$f":"第1回!B25","v":0},{"$f":"第1回!C25","v":0}]
[24,"","",null,null,null,null,null,null,null,null,null,null,null,null,null,{"$f":"第1回!B26","v":0},{"$f":"第1回!C26","v":0}]
[25,"","",null,null,null,null,null,null,null,null,null,null,null,null,null,{"$f":"第1回!B27","v":0},{"$f":"第1回!C27","v":0}]
[26,"","",null,null,null,null,null,null,null,null,null,null,null,null,null,{"$f":"第1回!B28","v":0},{"$f":"第1回!C28","v":0}]
[27,"","",null,null,null,null,null,null,null,null,null,null,null,null,null,{"$f":"第1回!B29","v":0},{"$f":"第1回!C29","v":0}]
[28,"","",null,null,null,null,null,null,null,null,null,null,null,null,null,{"$f":"第1回!B30","v":0},{"$f":"第1回!C30","v":0}]
[29,"","",null,null,null,null,null,null,null,null,null,null,null,null,null,{"$f":"第1回!B31","v":0},{"$f":"第1回!C31","v":0}]
[30,"","",null,null,null,null,null,null,null,null,null,null,null,null,null,{"$f":"第1回!B32","v":0},{"$f":"第1回!C32","v":0}]
[31,"","",null,null,null,null,null,null,null,null,null,null,null,null,null,{"$f":"第1回!B33","v":0},{"$f":"第1回!C33","v":0}]
[32,"","",null,null,null,null,null,null,null,null,null,null,null,null,null,{"$f":"第1回!B34","v":0},{"$f":"第1回!C34","v":0}]
[33,"","",null,null,null,null,null,null,null,null,null,null,null,null,null,{"$f":"第1回!B35","v":0},{"$f":"第1回!C35","v":0}]
[34,"","",null,null,null,null,null,null,null,null,null,null,null,null,null,{"$f":"第1回!B36","v":0},{"$f":"第1回!C36","v":0}]
[35,"","",null,null,null,null,null,null,null,null,null,null,null,null,null,{"$f":"第1回!B37","v":0},{"$f":"第1回!C37","v":0}]
[36,"","",null,null,null,null,null,null,null,null,null,null,null,null,null,{"$f":"第1回!B38","v":0},{"$f":"第1回!C38","v":0}]
[37,"","",null,null,null,null,null,null,null,null,null,null,null,null,null,{"$f":"第1回!B39","v":0},{"$f":"第1回!C39","v":0}]
[38,"","",null,null,null,null,null,null,null,null,null,null,null,null,null,{"$f":"第1回!B40","v":0},{"$f":"第1回!C40","v":0}]
[39,"","",null,null,null,null,null,null,null,null,null,null,null,null,null,{"$f":"第1回!B41","v":0},{"$f":"第1回!C41","v":0}]
[40,"","",null,null,null,null,null,null,null,null,null,null,null,null,null,{"$f":"第1回!B42","v":0},{"$f":"第1回!C42","v":0}]

{"sheet":"第29回","index":29,"n_rows":42,"n_cols":30,"rows_kept":42,"cut":false,"hidden":false,"merged":[[38,7,38,14],[39,7,39,14],[40,7,40,14],[41,7,41,14],[32,7,32,14],[33,7,33,14],[34,7,34,14],[35,7,35,14],[36,7,36,14],[37,7,37,14],[26,7,26,14],[27,7,27,14],[28,7,28,14],[29,7,29,14],[30,7,30,14],[31,7,31,14],[20,7,20,14],[21,7,21,14],[22,7,22,14],[23,7,23,14],[24,7,24,14],[25,7,25,14],[14,7,14,14],[15,7,15,14],[16,7,16,14],[17,7,17,14],[18,7,18,14],[19,7,19,14],[8,7,8,14],[9,7,9,14],[10,7,10,14],[11,7,11,14],[12,7,12,14],[13,7,13,14],[2,7,2,14],[3,7,3,14],[4,7,4,14],[5,7,5,14],[6,7,6,14],[7,7,7,14],[0,1,0,2],[0,3,0,4],[0,5,0,8],[0,9,0,10],[0,11,0,14],[1,7,1,14]]}
[29,{"$f":"IF(Q2=0,\"\",Q2)","v":""},null,"主題名",null,{"$f":"IF(R2=0,\"\",R2)","v":""},null,null,null,"資料名",null,{"$f":"IF(S2=0,\"\",S2)","v":""},null,null,null,null,null,null,{"$f":"個票!B6","v":"意欲的に考えることができた"},{"$f":"個票!B7","v":"登場人物を自分に置き換えて考えようとしている"},{"$f":"個票!B8","v":"友達の意見を参考にしながら多面的・多角的に考えようとしている"},{"$f":"個票!B9","v":"今までの自分を振り返りこれからの自分の生き方について考えようとしている"},{"$f":"個票!A10","v":"備考"},{"$f":"第1回!I2","v":0},{"$f":"第1回!J2","v":0},{"$f":"第1回!K2","v":0},{"$f":"第1回!L2","v":0},{"$f":"第1回!M2","v":0},{"$f":"第1回!N2","v":0},{"$f":"第1回!O2","v":0}]
["No","氏　　名","性別",{"$f":"IF(S1=0,\"\",S1)","v":"意欲的に考えることができた"},{"$f":"IF(T1=0,\"\",T1)","v":"登場人物を自分に置き換えて考えようとしている"},"友達の意見を参考にしながら多面的・多角的に考えようとしている","今までの自分を振り返りこれからの自分の生き方について考えようとしている","備考",null,null,null,null,null,null,null,null,{"$f":"個票!AE3","v":0},{"$f":"個票!AE4","v":0},{"$f":"個票!AE5","v":0}]
[1,{"$f":"IF(Q3=0,\"\",Q3)","v":""},{"$f":"IF(R3=0,\"\",R3)","v":""},null,null,null,null,null,null,null,null,null,null,null,null,null,{"$f":"第1回!B3","v":0},{"$f":"第1回!C3","v":0}]
[2,{"$f":"IF(Q4=0,\"\",Q4)","v":""},"",null,null,null,null,null,null,null,null,null,null,null,null,null,{"$f":"第1回!B4","v":0},{"$f":"第1回!C4","v":0}]
[3,{"$f":"IF(Q5=0,\"\",Q5)","v":""},"",null,null,null,null,null,null,null,null,null,null,null,null,null,{"$f":"第1回!B5","v":0},{"$f":"第1回!C5","v":0}]
[4,"","",null,null,null,null,null,null,null,null,null,null,null,null,null,{"$f":"第1回!B6","v":0},{"$f":"第1回!C6","v":0}]
[5,"","",null,null,null,null,null,null,null,null,null,null,null,null,null,{"$f":"第1回!B7","v":0},{"$f":"第1回!C7","v":0}]
[6,"","",null,null,null,null,null,null,null,null,null,null,null,null,null,{"$f":"第1回!B8","v":0},{"$f":"第1回!C8","v":0}]
[7,"","",null,null,null,null,null,null,null,null,null,null,null,null,null,{"$f":"第1回!B9","v":0},{"$f":"第1回!C9","v":0}]
[8,"","",null,null,null,null,null,null,null,null,null,null,null,null,null,{"$f":"第1回!B10","v":0},{"$f":"第1回!C10","v":0}]
[9,"","",null,null,null,null,null,null,null,null,null,null,null,null,null,{"$f":"第1回!B11","v":0},{"$f":"第1回!C11","v":0}]
[10,"","",null,null,null,null,null,null,null,null,null,null,null,null,null,{"$f":"第1回!B12","v":0},{"$f":"第1回!C12","v":0}]
[11,"","",null,null,null,null,null,null,null,null,null,null,null,null,null,{"$f":"第1回!B13","v":0},{"$f":"第1回!C13","v":0}]
[12,"","",null,null,null,null,null,null,null,null,null,null,null,null,null,{"$f":"第1回!B14","v":0},{"$f":"第1回!C14","v":0}]
[13,"","",null,null,null,null,null,null,null,null,null,null,null,null,null,{"$f":"第1回!B15","v":0},{"$f":"第1回!C15","v":0}]
[14,"","",null,null,null,null,null,null,null,null,null,null,null,null,null,{"$f":"第1回!B16","v":0},{"$f":"第1回!C16","v":0}]
[15,"","",null,null,null,null,null,null,null,null,null,null,null,null,null,{"$f":"第1回!B17","v":0},{"$f":"第1回!C17","v":0}]
[16,"","",null,null,null,null,null,null,null,null,null,null,null,null,null,{"$f":"第1回!B18","v":0},{"$f":"第1回!C18","v":0}]
[17,"","",null,null,null,null,null,null,null,null,null,null,null,null,null,{"$f":"第1回!B19","v":0},{"$f":"第1回!C19","v":0}]
[18,"","",null,null,null,null,null,null,null,null,null,null,null,null,null,{"$f":"第1回!B20","v":0},{"$f":"第1回!C20","v":0}]
[19,"","",null,null,null,null,null,null,null,null,null,null,null,null,null,{"$f":"第1回!B21","v":0},{"$f":"第1回!C21","v":0}]
[20,"","",null,null,null,null,null,null,null,null,null,null,null,null,null,{"$f":"第1回!B22","v":0},{"$f":"第1回!C22","v":0}]
[21,"","",null,null,null,null,null,null,null,null,null,null,null,null,null,{"$f":"第1回!B23","v":0},{"$f":"第1回!C23","v":0}]
[22,"","",null,null,null,null,null,null,null,null,null,null,null,null,null,{"$f":"第1回!B24","v":0},{"$f":"第1回!C24","v":0}]
[23,"","",null,null,null,null,null,null,null,null,null,null,null,null,null,{"$f":"第1回!B25","v":0},{"$f":"第1回!C25","v":0}]
[24,"","",null,null,null,null,null,null,null,null,null,null,null,null,null,{"$f":"第1回!B26","v":0},{"$f":"第1回!C26","v":0}]
[25,"","",null,null,null,null,null,null,null,null,null,null,null,null,null,{"$f":"第1回!B27","v":0},{"$f":"第1回!C27","v":0}]
[26,"","",null,null,null,null,null,null,null,null,null,null,null,null,null,{"$f":"第1回!B28","v":0},{"$f":"第1回!C28","v":0}]
[27,"","",null,null,null,null,null,null,null,null,null,null,null,null,null,{"$f":"第1回!B29","v":0},{"$f":"第1回!C29","v":0}]
[28,"","",null,null,null,null,null,null,null,null,null,null,null,null,null,{"$f":"第1回!B30","v":0},{"$f":"第1回!C30","v":0}]
[29,"","",null,null,null,null,null,null,null,null,null,null,null,null,null,{"$f":"第1回!B31","v":0},{"$f":"第1回!C31","v":0}]
[30,"","",null,null,null,null,null,null,null,null,null,null,null,null,null,{"$f":"第1回!B32","v":0},{"$f":"第1回!C32","v":0}]
[31,"","",null,null,null,null,null,null,null,null,null,null,null,null,null,{"$f":"第1回!B33","v":0},{"$f":"第1回!C33","v":0}]
[32,"","",null,null,null,null,null,null,null,null,null,null,null,null,null,{"$f":"第1回!B34","v":0},{"$f":"第1回!C34","v":0}]
[33,"","",null,null,null,null,null,null,null,null,null,null,null,null,null,{"$f":"第1回!B35","v":0},{"$f":"第1回!C35","v":0}]
[34,"","",null,null,null,null,null,null,null,null,null,null,null,null,null,{"$f":"第1回!B36","v":0},{"$f":"第1回!C36","v":0}]
[35,"","",null,null,null,null,null,null,null,null,null,null,null,null,null,{"$f":"第1回!B37","v":0},{"$f":"第1回!C37","v":0}]
[36,"","",null,null,null,null,null,null,null,null,null,null,null,null,null,{"$f":"第1回!B38","v":0},{"$f":"第1回!C38","v":0}]
[37,"","",null,null,null,null,null,null,null,null,null,null,null,null,null,{"$f":"第1回!B39","v":0},{"$f":"第1回!C39","v":0}]
[38,"","",null,null,null,null,null,null,null,null,null,null,null,null,null,{"$f":"第1回!B40","v":0},{"$f":"第1回!C40","v":0}]
[39,"","",null,null,null,null,null,null,null,null,null,null,null,null,null,{"$f":"第1回!B41","v":0},{"$f":"第1回!C41","v":0}]
[40,"","",null,null,null,null,null,null,null,null,null,null,null,null,null,{"$f":"第1回!B42","v":0},{"$f":"第1回!C42","v":0}]

{"sheet":"第30回","index":30,"n_rows":42,"n_cols":30,"rows_kept":42,"cut":false,"hidden":false,"merged":[[38,7,38,14],[39,7,39,14],[40,7,40,14],[41,7,41,14],[32,7,32,14],[33,7,33,14],[34,7,34,14],[35,7,35,14],[36,7,36,14],[37,7,37,14],[26,7,26,14],[27,7,27,14],[28,7,28,14],[29,7,29,14],[30,7,30,14],[31,7,31,14],[20,7,20,14],[21,7,21,14],[22,7,22,14],[23,7,23,14],[24,7,24,14],[25,7,25,14],[14,7,14,14],[15,7,15,14],[16,7,16,14],[17,7,17,14],[18,7,18,14],[19,7,19,14],[8,7,8,14],[9,7,9,14],[10,7,10,14],[11,7,11,14],[12,7,12,14],[13,7,13,14],[2,7,2,14],[3,7,3,14],[4,7,4,14],[5,7,5,14],[6,7,6,14],[7,7,7,14],[0,1,0,2],[0,3,0,4],[0,5,0,8],[0,9,0,10],[0,11,0,14],[1,7,1,14]]}
[30,{"$f":"IF(Q2=0,\"\",Q2)","v":""},null,"主題名",null,{"$f":"IF(R2=0,\"\",R2)","v":""},null,null,null,"資料名",null,{"$f":"IF(S2=0,\"\",S2)","v":""},null,null,null,null,null,null,{"$f":"個票!B6","v":"意欲的に考えることができた"},{"$f":"個票!B7","v":"登場人物を自分に置き換えて考えようとしている"},{"$f":"個票!B8","v":"友達の意見を参考にしながら多面的・多角的に考えようとしている"},{"$f":"個票!B9","v":"今までの自分を振り返りこれからの自分の生き方について考えようとしている"},{"$f":"個票!A10","v":"備考"},{"$f":"第1回!I2","v":0},{"$f":"第1回!J2","v":0},{"$f":"第1回!K2","v":0},{"$f":"第1回!L2","v":0},{"$f":"第1回!M2","v":0},{"$f":"第1回!N2","v":0},{"$f":"第1回!O2","v":0}]
["No","氏　　名","性別",{"$f":"IF(S1=0,\"\",S1)","v":"意欲的に考えることができた"},{"$f":"IF(T1=0,\"\",T1)","v":"登場人物を自分に置き換えて考えようとしている"},"友達の意見を参考にしながら多面的・多角的に考えようとしている","今までの自分を振り返りこれからの自分の生き方について考えようとしている","備考",null,null,null,null,null,null,null,null,{"$f":"個票!AF3","v":0},{"$f":"個票!AF4","v":0},{"$f":"個票!AF5","v":0}]
[1,{"$f":"IF(Q3=0,\"\",Q3)","v":""},{"$f":"IF(R3=0,\"\",R3)","v":""},null,null,null,null,null,null,null,null,null,null,null,null,null,{"$f":"第1回!B3","v":0},{"$f":"第1回!C3","v":0}]
[2,{"$f":"IF(Q4=0,\"\",Q4)","v":""},"",null,null,null,null,null,null,null,null,null,null,null,null,null,{"$f":"第1回!B4","v":0},{"$f":"第1回!C4","v":0}]
[3,{"$f":"IF(Q5=0,\"\",Q5)","v":""},"",null,null,null,null,null,null,null,null,null,null,null,null,null,{"$f":"第1回!B5","v":0},{"$f":"第1回!C5","v":0}]
[4,"","",null,null,null,null,null,null,null,null,null,null,null,null,null,{"$f":"第1回!B6","v":0},{"$f":"第1回!C6","v":0}]
[5,"","",null,null,null,null,null,null,null,null,null,null,null,null,null,{"$f":"第1回!B7","v":0},{"$f":"第1回!C7","v":0}]
[6,"","",null,null,null,null,null,null,null,null,null,null,null,null,null,{"$f":"第1回!B8","v":0},{"$f":"第1回!C8","v":0}]
[7,"","",null,null,null,null,null,null,null,null,null,null,null,null,null,{"$f":"第1回!B9","v":0},{"$f":"第1回!C9","v":0}]
[8,"","",null,null,null,null,null,null,null,null,null,null,null,null,null,{"$f":"第1回!B10","v":0},{"$f":"第1回!C10","v":0}]
[9,"","",null,null,null,null,null,null,null,null,null,null,null,null,null,{"$f":"第1回!B11","v":0},{"$f":"第1回!C11","v":0}]
[10,"","",null,null,null,null,null,null,null,null,null,null,null,null,null,{"$f":"第1回!B12","v":0},{"$f":"第1回!C12","v":0}]
[11,"","",null,null,null,null,null,null,null,null,null,null,null,null,null,{"$f":"第1回!B13","v":0},{"$f":"第1回!C13","v":0}]
[12,"","",null,null,null,null,null,null,null,null,null,null,null,null,null,{"$f":"第1回!B14","v":0},{"$f":"第1回!C14","v":0}]
[13,"","",null,null,null,null,null,null,null,null,null,null,null,null,null,{"$f":"第1回!B15","v":0},{"$f":"第1回!C15","v":0}]
[14,"","",null,null,null,null,null,null,null,null,null,null,null,null,null,{"$f":"第1回!B16","v":0},{"$f":"第1回!C16","v":0}]
[15,"","",null,null,null,null,null,null,null,null,null,null,null,null,null,{"$f":"第1回!B17","v":0},{"$f":"第1回!C17","v":0}]
[16,"","",null,null,null,null,null,null,null,null,null,null,null,null,null,{"$f":"第1回!B18","v":0},{"$f":"第1回!C18","v":0}]
[17,"","",null,null,null,null,null,null,null,null,null,null,null,null,null,{"$f":"第1回!B19","v":0},{"$f":"第1回!C19","v":0}]
[18,"","",null,null,null,null,null,null,null,null,null,null,null,null,null,{"$f":"第1回!B20","v":0},{"$f":"第1回!C20","v":0}]
[19,"","",null,null,null,null,null,null,null,null,null,null,null,null,null,{"$f":"第1回!B21","v":0},{"$f":"第1回!C21","v":0}]
[20,"","",null,null,null,null,null,null,null,null,null,null,null,null,null,{"$f":"第1回!B22","v":0},{"$f":"第1回!C22","v":0}]
[21,"","",null,null,null,null,null,null,null,null,null,null,null,null,null,{"$f":"第1回!B23","v":0},{"$f":"第1回!C23","v":0}]
[22,"","",null,null,null,null,null,null,null,null,null,null,null,null,null,{"$f":"第1回!B24","v":0},{"$f":"第1回!C24","v":0}]
[23,"","",null,null,null,null,null,null,null,null,null,null,null,null,null,{"$f":"第1回!B25","v":0},{"$f":"第1回!C25","v":0}]
[24,"","",null,null,null,null,null,null,null,null,null,null,null,null,null,{"$f":"第1回!B26","v":0},{"$f":"第1回!C26","v":0}]
[25,"","",null,null,null,null,null,null,null,null,null,null,null,null,null,{"$f":"第1回!B27","v":0},{"$f":"第1回!C27","v":0}]
[26,"","",null,null,null,null,null,null,null,null,null,null,null,null,null,{"$f":"第1回!B28","v":0},{"$f":"第1回!C28","v":0}]
[27,"","",null,null,null,null,null,null,null,null,null,null,null,null,null,{"$f":"第1回!B29","v":0},{"$f":"第1回!C29","v":0}]
[28,"","",null,null,null,null,null,null,null,null,null,null,null,null,null,{"$f":"第1回!B30","v":0},{"$f":"第1回!C30","v":0}]
[29,"","",null,null,null,null,null,null,null,null,null,null,null,null,null,{"$f":"第1回!B31","v":0},{"$f":"第1回!C31","v":0}]
[30,"","",null,null,null,null,null,null,null,null,null,null,null,null,null,{"$f":"第1回!B32","v":0},{"$f":"第1回!C32","v":0}]
[31,"","",null,null,null,null,null,null,null,null,null,null,null,null,null,{"$f":"第1回!B33","v":0},{"$f":"第1回!C33","v":0}]
[32,"","",null,null,null,null,null,null,null,null,null,null,null,null,null,{"$f":"第1回!B34","v":0},{"$f":"第1回!C34","v":0}]
[33,"","",null,null,null,null,null,null,null,null,null,null,null,null,null,{"$f":"第1回!B35","v":0},{"$f":"第1回!C35","v":0}]
[34,"","",null,null,null,null,null,null,null,null,null,null,null,null,null,{"$f":"第1回!B36","v":0},{"$f":"第1回!C36","v":0}]
[35,"","",null,null,null,null,null,null,null,null,null,null,null,null,null,{"$f":"第1回!B37","v":0},{"$f":"第1回!C37","v":0}]
[36,"","",null,null,null,null,null,null,null,null,null,null,null,null,null,{"$f":"第1回!B38","v":0},{"$f":"第1回!C38","v":0}]
[37,"","",null,null,null,null,null,null,null,null,null,null,null,null,null,{"$f":"第1回!B39","v":0},{"$f":"第1回!C39","v":0}]
[38,"","",null,null,null,null,null,null,null,null,null,null,null,null,null,{"$f":"第1回!B40","v":0},{"$f":"第1回!C40","v":0}]
[39,"","",null,null,null,null,null,null,null,null,null,null,null,null,null,{"$f":"第1回!B41","v":0},{"$f":"第1回!C41","v":0}]
[40,"","",null,null,null,null,null,null,null,null,null,null,null,null,null,{"$f":"第1回!B42","v":0},{"$f":"第1回!C42","v":0}]

{"sheet":"第31回","index":31,"n_rows":42,"n_cols":30,"rows_kept":42,"cut":false,"hidden":false,"merged":[[38,7,38,14],[39,7,39,14],[40,7,40,14],[41,7,41,14],[32,7,32,14],[33,7,33,14],[34,7,34,14],[35,7,35,14],[36,7,36,14],[37,7,37,14],[26,7,26,14],[27,7,27,14],[28,7,28,14],[29,7,29,14],[30,7,30,14],[31,7,31,14],[20,7,20,14],[21,7,21,14],[22,7,22,14],[23,7,23,14],[24,7,24,14],[25,7,25,14],[14,7,14,14],[15,7,15,14],[16,7,16,14],[17,7,17,14],[18,7,18,14],[19,7,19,14],[8,7,8,14],[9,7,9,14],[10,7,10,14],[11,7,11,14],[12,7,12,14],[13,7,13,14],[2,7,2,14],[3,7,3,14],[4,7,4,14],[5,7,5,14],[6,7,6,14],[7,7,7,14],[0,1,0,2],[0,3,0,4],[0,5,0,8],[0,9,0,10],[0,11,0,14],[1,7,1,14]]}
[31,{"$f":"IF(Q2=0,\"\",Q2)","v":""},null,"主題名",null,{"$f":"IF(R2=0,\"\",R2)","v":""},null,null,null,"資料名",null,{"$f":"IF(S2=0,\"\",S2)","v":""},null,null,null,null,null,null,{"$f":"個票!B6","v":"意欲的に考えることができた"},{"$f":"個票!B7","v":"登場人物を自分に置き換えて考えようとしている"},{"$f":"個票!B8","v":"友達の意見を参考にしながら多面的・多角的に考えようとしている"},{"$f":"個票!B9","v":"今までの自分を振り返りこれからの自分の生き方について考えようとしている"},{"$f":"個票!A10","v":"備考"},{"$f":"第1回!I2","v":0},{"$f":"第1回!J2","v":0},{"$f":"第1回!K2","v":0},{"$f":"第1回!L2","v":0},{"$f":"第1回!M2","v":0},{"$f":"第1回!N2","v":0},{"$f":"第1回!O2","v":0}]
["No","氏　　名","性別",{"$f":"IF(S1=0,\"\",S1)","v":"意欲的に考えることができた"},{"$f":"IF(T1=0,\"\",T1)","v":"登場人物を自分に置き換えて考えようとしている"},"友達の意見を参考にしながら多面的・多角的に考えようとしている","今までの自分を振り返りこれからの自分の生き方について考えようとしている","備考",null,null,null,null,null,null,null,null,{"$f":"個票!AG3","v":0},{"$f":"個票!AG4","v":0},{"$f":"個票!AG5","v":0}]
[1,{"$f":"IF(Q3=0,\"\",Q3)","v":""},{"$f":"IF(R3=0,\"\",R3)","v":""},null,null,null,null,null,null,null,null,null,null,null,null,null,{"$f":"第1回!B3","v":0},{"$f":"第1回!C3","v":0}]
[2,{"$f":"IF(Q4=0,\"\",Q4)","v":""},"",null,null,null,null,null,null,null,null,null,null,null,null,null,{"$f":"第1回!B4","v":0},{"$f":"第1回!C4","v":0}]
[3,{"$f":"IF(Q5=0,\"\",Q5)","v":""},"",null,null,null,null,null,null,null,null,null,null,null,null,null,{"$f":"第1回!B5","v":0},{"$f":"第1回!C5","v":0}]
[4,"","",null,null,null,null,null,null,null,null,null,null,null,null,null,{"$f":"第1回!B6","v":0},{"$f":"第1回!C6","v":0}]
[5,"","",null,null,null,null,null,null,null,null,null,null,null,null,null,{"$f":"第1回!B7","v":0},{"$f":"第1回!C7","v":0}]
[6,"","",null,null,null,null,null,null,null,null,null,null,null,null,null,{"$f":"第1回!B8","v":0},{"$f":"第1回!C8","v":0}]
[7,"","",null,null,null,null,null,null,null,null,null,null,null,null,null,{"$f":"第1回!B9","v":0},{"$f":"第1回!C9","v":0}]
[8,"","",null,null,null,null,null,null,null,null,null,null,null,null,null,{"$f":"第1回!B10","v":0},{"$f":"第1回!C10","v":0}]
[9,"","",null,null,null,null,null,null,null,null,null,null,null,null,null,{"$f":"第1回!B11","v":0},{"$f":"第1回!C11","v":0}]
[10,"","",null,null,null,null,null,null,null,null,null,null,null,null,null,{"$f":"第1回!B12","v":0},{"$f":"第1回!C12","v":0}]
[11,"","",null,null,null,null,null,null,null,null,null,null,null,null,null,{"$f":"第1回!B13","v":0},{"$f":"第1回!C13","v":0}]
[12,"","",null,null,null,null,null,null,null,null,null,null,null,null,null,{"$f":"第1回!B14","v":0},{"$f":"第1回!C14","v":0}]
[13,"","",null,null,null,null,null,null,null,null,null,null,null,null,null,{"$f":"第1回!B15","v":0},{"$f":"第1回!C15","v":0}]
[14,"","",null,null,null,null,null,null,null,null,null,null,null,null,null,{"$f":"第1回!B16","v":0},{"$f":"第1回!C16","v":0}]
[15,"","",null,null,null,null,null,null,null,null,null,null,null,null,null,{"$f":"第1回!B17","v":0},{"$f":"第1回!C17","v":0}]
[16,"","",null,null,null,null,null,null,null,null,null,null,null,null,null,{"$f":"第1回!B18","v":0},{"$f":"第1回!C18","v":0}]
[17,"","",null,null,null,null,null,null,null,null,null,null,null,null,null,{"$f":"第1回!B19","v":0},{"$f":"第1回!C19","v":0}]
[18,"","",null,null,null,null,null,null,null,null,null,null,null,null,null,{"$f":"第1回!B20","v":0},{"$f":"第1回!C20","v":0}]
[19,"","",null,null,null,null,null,null,null,null,null,null,null,null,null,{"$f":"第1回!B21","v":0},{"$f":"第1回!C21","v":0}]
[20,"","",null,null,null,null,null,null,null,null,null,null,null,null,null,{"$f":"第1回!B22","v":0},{"$f":"第1回!C22","v":0}]
[21,"","",null,null,null,null,null,null,null,null,null,null,null,null,null,{"$f":"第1回!B23","v":0},{"$f":"第1回!C23","v":0}]
[22,"","",null,null,null,null,null,null,null,null,null,null,null,null,null,{"$f":"第1回!B24","v":0},{"$f":"第1回!C24","v":0}]
[23,"","",null,null,null,null,null,null,null,null,null,null,null,null,null,{"$f":"第1回!B25","v":0},{"$f":"第1回!C25","v":0}]
[24,"","",null,null,null,null,null,null,null,null,null,null,null,null,null,{"$f":"第1回!B26","v":0},{"$f":"第1回!C26","v":0}]
[25,"","",null,null,null,null,null,null,null,null,null,null,null,null,null,{"$f":"第1回!B27","v":0},{"$f":"第1回!C27","v":0}]
[26,"","",null,null,null,null,null,null,null,null,null,null,null,null,null,{"$f":"第1回!B28","v":0},{"$f":"第1回!C28","v":0}]
[27,"","",null,null,null,null,null,null,null,null,null,null,null,null,null,{"$f":"第1回!B29","v":0},{"$f":"第1回!C29","v":0}]
[28,"","",null,null,null,null,null,null,null,null,null,null,null,null,null,{"$f":"第1回!B30","v":0},{"$f":"第1回!C30","v":0}]
[29,"","",null,null,null,null,null,null,null,null,null,null,null,null,null,{"$f":"第1回!B31","v":0},{"$f":"第1回!C31","v":0}]
[30,"","",null,null,null,null,null,null,null,null,null,null,null,null,null,{"$f":"第1回!B32","v":0},{"$f":"第1回!C32","v":0}]
[31,"","",null,null,null,null,null,null,null,null,null,null,null,null,null,{"$f":"第1回!B33","v":0},{"$f":"第1回!C33","v":0}]
[32,"","",null,null,null,null,null,null,null,null,null,null,null,null,null,{"$f":"第1回!B34","v":0},{"$f":"第1回!C34","v":0}]
[33,"","",null,null,null,null,null,null,null,null,null,null,null,null,null,{"$f":"第1回!B35","v":0},{"$f":"第1回!C35","v":0}]
[34,"","",null,null,null,null,null,null,null,null,null,null,null,null,null,{"$f":"第1回!B36","v":0},{"$f":"第1回!C36","v":0}]
[35,"","",null,null,null,null,null,null,null,null,null,null,null,null,null,{"$f":"第1回!B37","v":0},{"$f":"第1回!C37","v":0}]
[36,"","",null,null,null,null,null,null,null,null,null,null,null,null,null,{"$f":"第1回!B38","v":0},{"$f":"第1回!C38","v":0}]
[37,"","",null,null,null,null,null,null,null,null,null,null,null,null,null,{"$f":"第1回!B39","v":0},{"$f":"第1回!C39","v":0}]
[38,"","",null,null,null,null,null,null,null,null,null,null,null,null,null,{"$f":"第1回!B40","v":0},{"$f":"第1回!C40","v":0}]
[39,"","",null,null,null,null,null,null,null,null,null,null,null,null,null,{"$f":"第1回!B41","v":0},{"$f":"第1回!C41","v":0}]
[40,"","",null,null,null,null,null,null,null,null,null,null,null,null,null,{"$f":"第1回!B42","v":0},{"$f":"第1回!C42","v":0}]

{"sheet":"第32回","index":32,"n_rows":42,"n_cols":30,"rows_kept":42,"cut":false,"hidden":false,"merged":[[38,7,38,14],[39,7,39,14],[40,7,40,14],[41,7,41,14],[32,7,32,14],[33,7,33,14],[34,7,34,14],[35,7,35,14],[36,7,36,14],[37,7,37,14],[26,7,26,14],[27,7,27,14],[28,7,28,14],[29,7,29,14],[30,7,30,14],[31,7,31,14],[20,7,20,14],[21,7,21,14],[22,7,22,14],[23,7,23,14],[24,7,24,14],[25,7,25,14],[14,7,14,14],[15,7,15,14],[16,7,16,14],[17,7,17,14],[18,7,18,14],[19,7,19,14],[8,7,8,14],[9,7,9,14],[10,7,10,14],[11,7,11,14],[12,7,12,14],[13,7,13,14],[2,7,2,14],[3,7,3,14],[4,7,4,14],[5,7,5,14],[6,7,6,14],[7,7,7,14],[0,1,0,2],[0,3,0,4],[0,5,0,8],[0,9,0,10],[0,11,0,14],[1,7,1,14]]}
[32,{"$f":"IF(Q2=0,\"\",Q2)","v":""},null,"主題名",null,{"$f":"IF(R2=0,\"\",R2)","v":""},null,null,null,"資料名",null,{"$f":"IF(S2=0,\"\",S2)","v":""},null,null,null,null,null,null,{"$f":"個票!B6","v":"意欲的に考えることができた"},{"$f":"個票!B7","v":"登場人物を自分に置き換えて考えようとしている"},{"$f":"個票!B8","v":"友達の意見を参考にしながら多面的・多角的に考えようとしている"},{"$f":"個票!B9","v":"今までの自分を振り返りこれからの自分の生き方について考えようとしている"},{"$f":"個票!A10","v":"備考"},{"$f":"第1回!I2","v":0},{"$f":"第1回!J2","v":0},{"$f":"第1回!K2","v":0},{"$f":"第1回!L2","v":0},{"$f":"第1回!M2","v":0},{"$f":"第1回!N2","v":0},{"$f":"第1回!O2","v":0}]
["No","氏　　名","性別",{"$f":"IF(S1=0,\"\",S1)","v":"意欲的に考えることができた"},{"$f":"IF(T1=0,\"\",T1)","v":"登場人物を自分に置き換えて考えようとしている"},"友達の意見を参考にしながら多面的・多角的に考えようとしている","今までの自分を振り返りこれからの自分の生き方について考えようとしている","備考",null,null,null,null,null,null,null,null,{"$f":"個票!AH3","v":0},{"$f":"個票!AH4","v":0},{"$f":"個票!AH5","v":0}]
[1,{"$f":"IF(Q3=0,\"\",Q3)","v":""},{"$f":"IF(R3=0,\"\",R3)","v":""},null,null,null,null,null,null,null,null,null,null,null,null,null,{"$f":"第1回!B3","v":0},{"$f":"第1回!C3","v":0}]
[2,{"$f":"IF(Q4=0,\"\",Q4)","v":""},"",null,null,null,null,null,null,null,null,null,null,null,null,null,{"$f":"第1回!B4","v":0},{"$f":"第1回!C4","v":0}]
[3,{"$f":"IF(Q5=0,\"\",Q5)","v":""},"",null,null,null,null,null,null,null,null,null,null,null,null,null,{"$f":"第1回!B5","v":0},{"$f":"第1回!C5","v":0}]
[4,"","",null,null,null,null,null,null,null,null,null,null,null,null,null,{"$f":"第1回!B6","v":0},{"$f":"第1回!C6","v":0}]
[5,"","",null,null,null,null,null,null,null,null,null,null,null,null,null,{"$f":"第1回!B7","v":0},{"$f":"第1回!C7","v":0}]
[6,"","",null,null,null,null,null,null,null,null,null,null,null,null,null,{"$f":"第1回!B8","v":0},{"$f":"第1回!C8","v":0}]
[7,"","",null,null,null,null,null,null,null,null,null,null,null,null,null,{"$f":"第1回!B9","v":0},{"$f":"第1回!C9","v":0}]
[8,"","",null,null,null,null,null,null,null,null,null,null,null,null,null,{"$f":"第1回!B10","v":0},{"$f":"第1回!C10","v":0}]
[9,"","",null,null,null,null,null,null,null,null,null,null,null,null,null,{"$f":"第1回!B11","v":0},{"$f":"第1回!C11","v":0}]
[10,"","",null,null,null,null,null,null,null,null,null,null,null,null,null,{"$f":"第1回!B12","v":0},{"$f":"第1回!C12","v":0}]
[11,"","",null,null,null,null,null,null,null,null,null,null,null,null,null,{"$f":"第1回!B13","v":0},{"$f":"第1回!C13","v":0}]
[12,"","",null,null,null,null,null,null,null,null,null,null,null,null,null,{"$f":"第1回!B14","v":0},{"$f":"第1回!C14","v":0}]
[13,"","",null,null,null,null,null,null,null,null,null,null,null,null,null,{"$f":"第1回!B15","v":0},{"$f":"第1回!C15","v":0}]
[14,"","",null,null,null,null,null,null,null,null,null,null,null,null,null,{"$f":"第1回!B16","v":0},{"$f":"第1回!C16","v":0}]
[15,"","",null,null,null,null,null,null,null,null,null,null,null,null,null,{"$f":"第1回!B17","v":0},{"$f":"第1回!C17","v":0}]
[16,"","",null,null,null,null,null,null,null,null,null,null,null,null,null,{"$f":"第1回!B18","v":0},{"$f":"第1回!C18","v":0}]
[17,"","",null,null,null,null,null,null,null,null,null,null,null,null,null,{"$f":"第1回!B19","v":0},{"$f":"第1回!C19","v":0}]
[18,"","",null,null,null,null,null,null,null,null,null,null,null,null,null,{"$f":"第1回!B20","v":0},{"$f":"第1回!C20","v":0}]
[19,"","",null,null,null,null,null,null,null,null,null,null,null,null,null,{"$f":"第1回!B21","v":0},{"$f":"第1回!C21","v":0}]
[20,"","",null,null,null,null,null,null,null,null,null,null,null,null,null,{"$f":"第1回!B22","v":0},{"$f":"第1回!C22","v":0}]
[21,"","",null,null,null,null,null,null,null,null,null,null,null,null,null,{"$f":"第1回!B23","v":0},{"$f":"第1回!C23","v":0}]
[22,"","",null,null,null,null,null,null,null,null,null,null,null,null,null,{"$f":"第1回!B24","v":0},{"$f":"第1回!C24","v":0}]
[23,"","",null,null,null,null,null,null,null,null,null,null,null,null,null,{"$f":"第1回!B25","v":0},{"$f":"第1回!C25","v":0}]
[24,"","",null,null,null,null,null,null,null,null,null,null,null,null,null,{"$f":"第1回!B26","v":0},{"$f":"第1回!C26","v":0}]
[25,"","",null,null,null,null,null,null,null,null,null,null,null,null,null,{"$f":"第1回!B27","v":0},{"$f":"第1回!C27","v":0}]
[26,"","",null,null,null,null,null,null,null,null,null,null,null,null,null,{"$f":"第1回!B28","v":0},{"$f":"第1回!C28","v":0}]
[27,"","",null,null,null,null,null,null,null,null,null,null,null,null,null,{"$f":"第1回!B29","v":0},{"$f":"第1回!C29","v":0}]
[28,"","",null,null,null,null,null,null,null,null,null,null,null,null,null,{"$f":"第1回!B30","v":0},{"$f":"第1回!C30","v":0}]
[29,"","",null,null,null,null,null,null,null,null,null,null,null,null,null,{"$f":"第1回!B31","v":0},{"$f":"第1回!C31","v":0}]
[30,"","",null,null,null,null,null,null,null,null,null,null,null,null,null,{"$f":"第1回!B32","v":0},{"$f":"第1回!C32","v":0}]
[31,"","",null,null,null,null,null,null,null,null,null,null,null,null,null,{"$f":"第1回!B33","v":0},{"$f":"第1回!C33","v":0}]
[32,"","",null,null,null,null,null,null,null,null,null,null,null,null,null,{"$f":"第1回!B34","v":0},{"$f":"第1回!C34","v":0}]
[33,"","",null,null,null,null,null,null,null,null,null,null,null,null,null,{"$f":"第1回!B35","v":0},{"$f":"第1回!C35","v":0}]
[34,"","",null,null,null,null,null,null,null,null,null,null,null,null,null,{"$f":"第1回!B36","v":0},{"$f":"第1回!C36","v":0}]
[35,"","",null,null,null,null,null,null,null,null,null,null,null,null,null,{"$f":"第1回!B37","v":0},{"$f":"第1回!C37","v":0}]
[36,"","",null,null,null,null,null,null,null,null,null,null,null,null,null,{"$f":"第1回!B38","v":0},{"$f":"第1回!C38","v":0}]
[37,"","",null,null,null,null,null,null,null,null,null,null,null,null,null,{"$f":"第1回!B39","v":0},{"$f":"第1回!C39","v":0}]
[38,"","",null,null,null,null,null,null,null,null,null,null,null,null,null,{"$f":"第1回!B40","v":0},{"$f":"第1回!C40","v":0}]
[39,"","",null,null,null,null,null,null,null,null,null,null,null,null,null,{"$f":"第1回!B41","v":0},{"$f":"第1回!C41","v":0}]
[40,"","",null,null,null,null,null,null,null,null,null,null,null,null,null,{"$f":"第1回!B42","v":0},{"$f":"第1回!C42","v":0}]

{"sheet":"第33回","index":33,"n_rows":42,"n_cols":30,"rows_kept":42,"cut":false,"hidden":false,"merged":[[38,7,38,14],[39,7,39,14],[40,7,40,14],[41,7,41,14],[32,7,32,14],[33,7,33,14],[34,7,34,14],[35,7,35,14],[36,7,36,14],[37,7,37,14],[26,7,26,14],[27,7,27,14],[28,7,28,14],[29,7,29,14],[30,7,30,14],[31,7,31,14],[20,7,20,14],[21,7,21,14],[22,7,22,14],[23,7,23,14],[24,7,24,14],[25,7,25,14],[14,7,14,14],[15,7,15,14],[16,7,16,14],[17,7,17,14],[18,7,18,14],[19,7,19,14],[8,7,8,14],[9,7,9,14],[10,7,10,14],[11,7,11,14],[12,7,12,14],[13,7,13,14],[2,7,2,14],[3,7,3,14],[4,7,4,14],[5,7,5,14],[6,7,6,14],[7,7,7,14],[0,1,0,2],[0,3,0,4],[0,5,0,8],[0,9,0,10],[0,11,0,14],[1,7,1,14]]}
[33,{"$f":"IF(Q2=0,\"\",Q2)","v":""},null,"主題名",null,{"$f":"IF(R2=0,\"\",R2)","v":""},null,null,null,"資料名",null,{"$f":"IF(S2=0,\"\",S2)","v":""},null,null,null,null,null,null,{"$f":"個票!B6","v":"意欲的に考えることができた"},{"$f":"個票!B7","v":"登場人物を自分に置き換えて考えようとしている"},{"$f":"個票!B8","v":"友達の意見を参考にしながら多面的・多角的に考えようとしている"},{"$f":"個票!B9","v":"今までの自分を振り返りこれからの自分の生き方について考えようとしている"},{"$f":"個票!A10","v":"備考"},{"$f":"第1回!I2","v":0},{"$f":"第1回!J2","v":0},{"$f":"第1回!K2","v":0},{"$f":"第1回!L2","v":0},{"$f":"第1回!M2","v":0},{"$f":"第1回!N2","v":0},{"$f":"第1回!O2","v":0}]
["No","氏　　名","性別",{"$f":"IF(S1=0,\"\",S1)","v":"意欲的に考えることができた"},{"$f":"IF(T1=0,\"\",T1)","v":"登場人物を自分に置き換えて考えようとしている"},"友達の意見を参考にしながら多面的・多角的に考えようとしている","今までの自分を振り返りこれからの自分の生き方について考えようとしている","備考",null,null,null,null,null,null,null,null,{"$f":"個票!AI3","v":0},{"$f":"個票!AI4","v":0},{"$f":"個票!AI5","v":0}]
[1,{"$f":"IF(Q3=0,\"\",Q3)","v":""},{"$f":"IF(R3=0,\"\",R3)","v":""},null,null,null,null,null,null,null,null,null,null,null,null,null,{"$f":"第1回!B3","v":0},{"$f":"第1回!C3","v":0}]
[2,{"$f":"IF(Q4=0,\"\",Q4)","v":""},"",null,null,null,null,null,null,null,null,null,null,null,null,null,{"$f":"第1回!B4","v":0},{"$f":"第1回!C4","v":0}]
[3,{"$f":"IF(Q5=0,\"\",Q5)","v":""},"",null,null,null,null,null,null,null,null,null,null,null,null,null,{"$f":"第1回!B5","v":0},{"$f":"第1回!C5","v":0}]
[4,"","",null,null,null,null,null,null,null,null,null,null,null,null,null,{"$f":"第1回!B6","v":0},{"$f":"第1回!C6","v":0}]
[5,"","",null,null,null,null,null,null,null,null,null,null,null,null,null,{"$f":"第1回!B7","v":0},{"$f":"第1回!C7","v":0}]
[6,"","",null,null,null,null,null,null,null,null,null,null,null,null,null,{"$f":"第1回!B8","v":0},{"$f":"第1回!C8","v":0}]
[7,"","",null,null,null,null,null,null,null,null,null,null,null,null,null,{"$f":"第1回!B9","v":0},{"$f":"第1回!C9","v":0}]
[8,"","",null,null,null,null,null,null,null,null,null,null,null,null,null,{"$f":"第1回!B10","v":0},{"$f":"第1回!C10","v":0}]
[9,"","",null,null,null,null,null,null,null,null,null,null,null,null,null,{"$f":"第1回!B11","v":0},{"$f":"第1回!C11","v":0}]
[10,"","",null,null,null,null,null,null,null,null,null,null,null,null,null,{"$f":"第1回!B12","v":0},{"$f":"第1回!C12","v":0}]
[11,"","",null,null,null,null,null,null,null,null,null,null,null,null,null,{"$f":"第1回!B13","v":0},{"$f":"第1回!C13","v":0}]
[12,"","",null,null,null,null,null,null,null,null,null,null,null,null,null,{"$f":"第1回!B14","v":0},{"$f":"第1回!C14","v":0}]
[13,"","",null,null,null,null,null,null,null,null,null,null,null,null,null,{"$f":"第1回!B15","v":0},{"$f":"第1回!C15","v":0}]
[14,"","",null,null,null,null,null,null,null,null,null,null,null,null,null,{"$f":"第1回!B16","v":0},{"$f":"第1回!C16","v":0}]
[15,"","",null,null,null,null,null,null,null,null,null,null,null,null,null,{"$f":"第1回!B17","v":0},{"$f":"第1回!C17","v":0}]
[16,"","",null,null,null,null,null,null,null,null,null,null,null,null,null,{"$f":"第1回!B18","v":0},{"$f":"第1回!C18","v":0}]
[17,"","",null,null,null,null,null,null,null,null,null,null,null,null,null,{"$f":"第1回!B19","v":0},{"$f":"第1回!C19","v":0}]
[18,"","",null,null,null,null,null,null,null,null,null,null,null,null,null,{"$f":"第1回!B20","v":0},{"$f":"第1回!C20","v":0}]
[19,"","",null,null,null,null,null,null,null,null,null,null,null,null,null,{"$f":"第1回!B21","v":0},{"$f":"第1回!C21","v":0}]
[20,"","",null,null,null,null,null,null,null,null,null,null,null,null,null,{"$f":"第1回!B22","v":0},{"$f":"第1回!C22","v":0}]
[21,"","",null,null,null,null,null,null,null,null,null,null,null,null,null,{"$f":"第1回!B23","v":0},{"$f":"第1回!C23","v":0}]
[22,"","",null,null,null,null,null,null,null,null,null,null,null,null,null,{"$f":"第1回!B24","v":0},{"$f":"第1回!C24","v":0}]
[23,"","",null,null,null,null,null,null,null,null,null,null,null,null,null,{"$f":"第1回!B25","v":0},{"$f":"第1回!C25","v":0}]
[24,"","",null,null,null,null,null,null,null,null,null,null,null,null,null,{"$f":"第1回!B26","v":0},{"$f":"第1回!C26","v":0}]
[25,"","",null,null,null,null,null,null,null,null,null,null,null,null,null,{"$f":"第1回!B27","v":0},{"$f":"第1回!C27","v":0}]
[26,"","",null,null,null,null,null,null,null,null,null,null,null,null,null,{"$f":"第1回!B28","v":0},{"$f":"第1回!C28","v":0}]
[27,"","",null,null,null,null,null,null,null,null,null,null,null,null,null,{"$f":"第1回!B29","v":0},{"$f":"第1回!C29","v":0}]
[28,"","",null,null,null,null,null,null,null,null,null,null,null,null,null,{"$f":"第1回!B30","v":0},{"$f":"第1回!C30","v":0}]
[29,"","",null,null,null,null,null,null,null,null,null,null,null,null,null,{"$f":"第1回!B31","v":0},{"$f":"第1回!C31","v":0}]
[30,"","",null,null,null,null,null,null,null,null,null,null,null,null,null,{"$f":"第1回!B32","v":0},{"$f":"第1回!C32","v":0}]
[31,"","",null,null,null,null,null,null,null,null,null,null,null,null,null,{"$f":"第1回!B33","v":0},{"$f":"第1回!C33","v":0}]
[32,"","",null,null,null,null,null,null,null,null,null,null,null,null,null,{"$f":"第1回!B34","v":0},{"$f":"第1回!C34","v":0}]
[33,"","",null,null,null,null,null,null,null,null,null,null,null,null,null,{"$f":"第1回!B35","v":0},{"$f":"第1回!C35","v":0}]
[34,"","",null,null,null,null,null,null,null,null,null,null,null,null,null,{"$f":"第1回!B36","v":0},{"$f":"第1回!C36","v":0}]
[35,"","",null,null,null,null,null,null,null,null,null,null,null,null,null,{"$f":"第1回!B37","v":0},{"$f":"第1回!C37","v":0}]
[36,"","",null,null,null,null,null,null,null,null,null,null,null,null,null,{"$f":"第1回!B38","v":0},{"$f":"第1回!C38","v":0}]
[37,"","",null,null,null,null,null,null,null,null,null,null,null,null,null,{"$f":"第1回!B39","v":0},{"$f":"第1回!C39","v":0}]
[38,"","",null,null,null,null,null,null,null,null,null,null,null,null,null,{"$f":"第1回!B40","v":0},{"$f":"第1回!C40","v":0}]
[39,"","",null,null,null,null,null,null,null,null,null,null,null,null,null,{"$f":"第1回!B41","v":0},{"$f":"第1回!C41","v":0}]
[40,"","",null,null,null,null,null,null,null,null,null,null,null,null,null,{"$f":"第1回!B42","v":0},{"$f":"第1回!C42","v":0}]

{"sheet":"第34回","index":34,"n_rows":42,"n_cols":30,"rows_kept":42,"cut":false,"hidden":false,"merged":[[38,7,38,14],[39,7,39,14],[40,7,40,14],[41,7,41,14],[32,7,32,14],[33,7,33,14],[34,7,34,14],[35,7,35,14],[36,7,36,14],[37,7,37,14],[26,7,26,14],[27,7,27,14],[28,7,28,14],[29,7,29,14],[30,7,30,14],[31,7,31,14],[20,7,20,14],[21,7,21,14],[22,7,22,14],[23,7,23,14],[24,7,24,14],[25,7,25,14],[14,7,14,14],[15,7,15,14],[16,7,16,14],[17,7,17,14],[18,7,18,14],[19,7,19,14],[8,7,8,14],[9,7,9,14],[10,7,10,14],[11,7,11,14],[12,7,12,14],[13,7,13,14],[2,7,2,14],[3,7,3,14],[4,7,4,14],[5,7,5,14],[6,7,6,14],[7,7,7,14],[0,1,0,2],[0,3,0,4],[0,5,0,8],[0,9,0,10],[0,11,0,14],[1,7,1,14]]}
[34,{"$f":"IF(Q2=0,\"\",Q2)","v":""},null,"主題名",null,{"$f":"IF(R2=0,\"\",R2)","v":""},null,null,null,"資料名",null,{"$f":"IF(S2=0,\"\",S2)","v":""},null,null,null,null,null,null,{"$f":"個票!B6","v":"意欲的に考えることができた"},{"$f":"個票!B7","v":"登場人物を自分に置き換えて考えようとしている"},{"$f":"個票!B8","v":"友達の意見を参考にしながら多面的・多角的に考えようとしている"},{"$f":"個票!B9","v":"今までの自分を振り返りこれからの自分の生き方について考えようとしている"},{"$f":"個票!A10","v":"備考"},{"$f":"第1回!I2","v":0},{"$f":"第1回!J2","v":0},{"$f":"第1回!K2","v":0},{"$f":"第1回!L2","v":0},{"$f":"第1回!M2","v":0},{"$f":"第1回!N2","v":0},{"$f":"第1回!O2","v":0}]
["No","氏　　名","性別",{"$f":"IF(S1=0,\"\",S1)","v":"意欲的に考えることができた"},{"$f":"IF(T1=0,\"\",T1)","v":"登場人物を自分に置き換えて考えようとしている"},"友達の意見を参考にしながら多面的・多角的に考えようとしている","今までの自分を振り返りこれからの自分の生き方について考えようとしている","備考",null,null,null,null,null,null,null,null,{"$f":"個票!AJ3","v":0},{"$f":"個票!AJ4","v":0},{"$f":"個票!AJ5","v":0}]
[1,{"$f":"IF(Q3=0,\"\",Q3)","v":""},{"$f":"IF(R3=0,\"\",R3)","v":""},null,null,null,null,null,null,null,null,null,null,null,null,null,{"$f":"第1回!B3","v":0},{"$f":"第1回!C3","v":0}]
[2,{"$f":"IF(Q4=0,\"\",Q4)","v":""},"",null,null,null,null,null,null,null,null,null,null,null,null,null,{"$f":"第1回!B4","v":0},{"$f":"第1回!C4","v":0}]
[3,{"$f":"IF(Q5=0,\"\",Q5)","v":""},"",null,null,null,null,null,null,null,null,null,null,null,null,null,{"$f":"第1回!B5","v":0},{"$f":"第1回!C5","v":0}]
[4,"","",null,null,null,null,null,null,null,null,null,null,null,null,null,{"$f":"第1回!B6","v":0},{"$f":"第1回!C6","v":0}]
[5,"","",null,null,null,null,null,null,null,null,null,null,null,null,null,{"$f":"第1回!B7","v":0},{"$f":"第1回!C7","v":0}]
[6,"","",null,null,null,null,null,null,null,null,null,null,null,null,null,{"$f":"第1回!B8","v":0},{"$f":"第1回!C8","v":0}]
[7,"","",null,null,null,null,null,null,null,null,null,null,null,null,null,{"$f":"第1回!B9","v":0},{"$f":"第1回!C9","v":0}]
[8,"","",null,null,null,null,null,null,null,null,null,null,null,null,null,{"$f":"第1回!B10","v":0},{"$f":"第1回!C10","v":0}]
[9,"","",null,null,null,null,null,null,null,null,null,null,null,null,null,{"$f":"第1回!B11","v":0},{"$f":"第1回!C11","v":0}]
[10,"","",null,null,null,null,null,null,null,null,null,null,null,null,null,{"$f":"第1回!B12","v":0},{"$f":"第1回!C12","v":0}]
[11,"","",null,null,null,null,null,null,null,null,null,null,null,null,null,{"$f":"第1回!B13","v":0},{"$f":"第1回!C13","v":0}]
[12,"","",null,null,null,null,null,null,null,null,null,null,null,null,null,{"$f":"第1回!B14","v":0},{"$f":"第1回!C14","v":0}]
[13,"","",null,null,null,null,null,null,null,null,null,null,null,null,null,{"$f":"第1回!B15","v":0},{"$f":"第1回!C15","v":0}]
[14,"","",null,null,null,null,null,null,null,null,null,null,null,null,null,{"$f":"第1回!B16","v":0},{"$f":"第1回!C16","v":0}]
[15,"","",null,null,null,null,null,null,null,null,null,null,null,null,null,{"$f":"第1回!B17","v":0},{"$f":"第1回!C17","v":0}]
[16,"","",null,null,null,null,null,null,null,null,null,null,null,null,null,{"$f":"第1回!B18","v":0},{"$f":"第1回!C18","v":0}]
[17,"","",null,null,null,null,null,null,null,null,null,null,null,null,null,{"$f":"第1回!B19","v":0},{"$f":"第1回!C19","v":0}]
[18,"","",null,null,null,null,null,null,null,null,null,null,null,null,null,{"$f":"第1回!B20","v":0},{"$f":"第1回!C20","v":0}]
[19,"","",null,null,null,null,null,null,null,null,null,null,null,null,null,{"$f":"第1回!B21","v":0},{"$f":"第1回!C21","v":0}]
[20,"","",null,null,null,null,null,null,null,null,null,null,null,null,null,{"$f":"第1回!B22","v":0},{"$f":"第1回!C22","v":0}]
[21,"","",null,null,null,null,null,null,null,null,null,null,null,null,null,{"$f":"第1回!B23","v":0},{"$f":"第1回!C23","v":0}]
[22,"","",null,null,null,null,null,null,null,null,null,null,null,null,null,{"$f":"第1回!B24","v":0},{"$f":"第1回!C24","v":0}]
[23,"","",null,null,null,null,null,null,null,null,null,null,null,null,null,{"$f":"第1回!B25","v":0},{"$f":"第1回!C25","v":0}]
[24,"","",null,null,null,null,null,null,null,null,null,null,null,null,null,{"$f":"第1回!B26","v":0},{"$f":"第1回!C26","v":0}]
[25,"","",null,null,null,null,null,null,null,null,null,null,null,null,null,{"$f":"第1回!B27","v":0},{"$f":"第1回!C27","v":0}]
[26,"","",null,null,null,null,null,null,null,null,null,null,null,null,null,{"$f":"第1回!B28","v":0},{"$f":"第1回!C28","v":0}]
[27,"","",null,null,null,null,null,null,null,null,null,null,null,null,null,{"$f":"第1回!B29","v":0},{"$f":"第1回!C29","v":0}]
[28,"","",null,null,null,null,null,null,null,null,null,null,null,null,null,{"$f":"第1回!B30","v":0},{"$f":"第1回!C30","v":0}]
[29,"","",null,null,null,null,null,null,null,null,null,null,null,null,null,{"$f":"第1回!B31","v":0},{"$f":"第1回!C31","v":0}]
[30,"","",null,null,null,null,null,null,null,null,null,null,null,null,null,{"$f":"第1回!B32","v":0},{"$f":"第1回!C32","v":0}]
[31,"","",null,null,null,null,null,null,null,null,null,null,null,null,null,{"$f":"第1回!B33","v":0},{"$f":"第1回!C33","v":0}]
[32,"","",null,null,null,null,null,null,null,null,null,null,null,null,null,{"$f":"第1回!B34","v":0},{"$f":"第1回!C34","v":0}]
[33,"","",null,null,null,null,null,null,null,null,null,null,null,null,null,{"$f":"第1回!B35","v":0},{"$f":"第1回!C35","v":0}]
[34,"","",null,null,null,null,null,null,null,null,null,null,null,null,null,{"$f":"第1回!B36","v":0},{"$f":"第1回!C36","v":0}]
[35,"","",null,null,null,null,null,null,null,null,null,null,null,null,null,{"$f":"第1回!B37","v":0},{"$f":"第1回!C37","v":0}]
[36,"","",null,null,null,null,null,null,null,null,null,null,null,null,null,{"$f":"第1回!B38","v":0},{"$f":"第1回!C38","v":0}]
[37,"","",null,null,null,null,null,null,null,null,null,null,null,null,null,{"$f":"第1回!B39","v":0},{"$f":"第1回!C39","v":0}]
[38,"","",null,null,null,null,null,null,null,null,null,null,null,null,null,{"$f":"第1回!B40","v":0},{"$f":"第1回!C40","v":0}]
[39,"","",null,null,null,null,null,null,null,null,null,null,null,null,null,{"$f":"第1回!B41","v":0},{"$f":"第1回!C41","v":0}]
[40,"","",null,null,null,null,null,null,null,null,null,null,null,null,null,{"$f":"第1回!B42","v":0},{"$f":"第1回!C42","v":0}]

{"sheet":"第35回","index":35,"n_rows":42,"n_cols":30,"rows_kept":42,"cut":false,"hidden":false,"merged":[[38,7,38,14],[39,7,39,14],[40,7,40,14],[41,7,41,14],[32,7,32,14],[33,7,33,14],[34,7,34,14],[35,7,35,14],[36,7,36,14],[37,7,37,14],[26,7,26,14],[27,7,27,14],[28,7,28,14],[29,7,29,14],[30,7,30,14],[31,7,31,14],[20,7,20,14],[21,7,21,14],[22,7,22,14],[23,7,23,14],[24,7,24,14],[25,7,25,14],[14,7,14,14],[15,7,15,14],[16,7,16,14],[17,7,17,14],[18,7,18,14],[19,7,19,14],[8,7,8,14],[9,7,9,14],[10,7,10,14],[11,7,11,14],[12,7,12,14],[13,7,13,14],[2,7,2,14],[3,7,3,14],[4,7,4,14],[5,7,5,14],[6,7,6,14],[7,7,7,14],[0,1,0,2],[0,3,0,4],[0,5,0,8],[0,9,0,10],[0,11,0,14],[1,7,1,14]]}
[35,{"$f":"IF(Q2=0,\"\",Q2)","v":""},null,"主題名",null,{"$f":"IF(R2=0,\"\",R2)","v":""},null,null,null,"資料名",null,{"$f":"IF(S2=0,\"\",S2)","v":""},null,null,null,null,null,null,{"$f":"個票!B6","v":"意欲的に考えることができた"},{"$f":"個票!B7","v":"登場人物を自分に置き換えて考えようとしている"},{"$f":"個票!B8","v":"友達の意見を参考にしながら多面的・多角的に考えようとしている"},{"$f":"個票!B9","v":"今までの自分を振り返りこれからの自分の生き方について考えようとしている"},{"$f":"個票!A10","v":"備考"},{"$f":"第1回!I2","v":0},{"$f":"第1回!J2","v":0},{"$f":"第1回!K2","v":0},{"$f":"第1回!L2","v":0},{"$f":"第1回!M2","v":0},{"$f":"第1回!N2","v":0},{"$f":"第1回!O2","v":0}]
["No","氏　　名","性別",{"$f":"IF(S1=0,\"\",S1)","v":"意欲的に考えることができた"},{"$f":"IF(T1=0,\"\",T1)","v":"登場人物を自分に置き換えて考えようとしている"},"友達の意見を参考にしながら多面的・多角的に考えようとしている","今までの自分を振り返りこれからの自分の生き方について考えようとしている","備考",null,null,null,null,null,null,null,null,{"$f":"個票!AK3","v":0},{"$f":"個票!AK4","v":0},{"$f":"個票!AK5","v":0}]
[1,{"$f":"IF(Q3=0,\"\",Q3)","v":""},{"$f":"IF(R3=0,\"\",R3)","v":""},null,null,null,null,null,null,null,null,null,null,null,null,null,{"$f":"第1回!B3","v":0},{"$f":"第1回!C3","v":0}]
[2,{"$f":"IF(Q4=0,\"\",Q4)","v":""},"",null,null,null,null,null,null,null,null,null,null,null,null,null,{"$f":"第1回!B4","v":0},{"$f":"第1回!C4","v":0}]
[3,{"$f":"IF(Q5=0,\"\",Q5)","v":""},"",null,null,null,null,null,null,null,null,null,null,null,null,null,{"$f":"第1回!B5","v":0},{"$f":"第1回!C5","v":0}]
[4,"","",null,null,null,null,null,null,null,null,null,null,null,null,null,{"$f":"第1回!B6","v":0},{"$f":"第1回!C6","v":0}]
[5,"","",null,null,null,null,null,null,null,null,null,null,null,null,null,{"$f":"第1回!B7","v":0},{"$f":"第1回!C7","v":0}]
[6,"","",null,null,null,null,null,null,null,null,null,null,null,null,null,{"$f":"第1回!B8","v":0},{"$f":"第1回!C8","v":0}]
[7,"","",null,null,null,null,null,null,null,null,null,null,null,null,null,{"$f":"第1回!B9","v":0},{"$f":"第1回!C9","v":0}]
[8,"","",null,null,null,null,null,null,null,null,null,null,null,null,null,{"$f":"第1回!B10","v":0},{"$f":"第1回!C10","v":0}]
[9,"","",null,null,null,null,null,null,null,null,null,null,null,null,null,{"$f":"第1回!B11","v":0},{"$f":"第1回!C11","v":0}]
[10,"","",null,null,null,null,null,null,null,null,null,null,null,null,null,{"$f":"第1回!B12","v":0},{"$f":"第1回!C12","v":0}]
[11,"","",null,null,null,null,null,null,null,null,null,null,null,null,null,{"$f":"第1回!B13","v":0},{"$f":"第1回!C13","v":0}]
[12,"","",null,null,null,null,null,null,null,null,null,null,null,null,null,{"$f":"第1回!B14","v":0},{"$f":"第1回!C14","v":0}]
[13,"","",null,null,null,null,null,null,null,null,null,null,null,null,null,{"$f":"第1回!B15","v":0},{"$f":"第1回!C15","v":0}]
[14,"","",null,null,null,null,null,null,null,null,null,null,null,null,null,{"$f":"第1回!B16","v":0},{"$f":"第1回!C16","v":0}]
[15,"","",null,null,null,null,null,null,null,null,null,null,null,null,null,{"$f":"第1回!B17","v":0},{"$f":"第1回!C17","v":0}]
[16,"","",null,null,null,null,null,null,null,null,null,null,null,null,null,{"$f":"第1回!B18","v":0},{"$f":"第1回!C18","v":0}]
[17,"","",null,null,null,null,null,null,null,null,null,null,null,null,null,{"$f":"第1回!B19","v":0},{"$f":"第1回!C19","v":0}]
[18,"","",null,null,null,null,null,null,null,null,null,null,null,null,null,{"$f":"第1回!B20","v":0},{"$f":"第1回!C20","v":0}]
[19,"","",null,null,null,null,null,null,null,null,null,null,null,null,null,{"$f":"第1回!B21","v":0},{"$f":"第1回!C21","v":0}]
[20,"","",null,null,null,null,null,null,null,null,null,null,null,null,null,{"$f":"第1回!B22","v":0},{"$f":"第1回!C22","v":0}]
[21,"","",null,null,null,null,null,null,null,null,null,null,null,null,null,{"$f":"第1回!B23","v":0},{"$f":"第1回!C23","v":0}]
[22,"","",null,null,null,null,null,null,null,null,null,null,null,null,null,{"$f":"第1回!B24","v":0},{"$f":"第1回!C24","v":0}]
[23,"","",null,null,null,null,null,null,null,null,null,null,null,null,null,{"$f":"第1回!B25","v":0},{"$f":"第1回!C25","v":0}]
[24,"","",null,null,null,null,null,null,null,null,null,null,null,null,null,{"$f":"第1回!B26","v":0},{"$f":"第1回!C26","v":0}]
[25,"","",null,null,null,null,null,null,null,null,null,null,null,null,null,{"$f":"第1回!B27","v":0},{"$f":"第1回!C27","v":0}]
[26,"","",null,null,null,null,null,null,null,null,null,null,null,null,null,{"$f":"第1回!B28","v":0},{"$f":"第1回!C28","v":0}]
[27,"","",null,null,null,null,null,null,null,null,null,null,null,null,null,{"$f":"第1回!B29","v":0},{"$f":"第1回!C29","v":0}]
[28,"","",null,null,null,null,null,null,null,null,null,null,null,null,null,{"$f":"第1回!B30","v":0},{"$f":"第1回!C30","v":0}]
[29,"","",null,null,null,null,null,null,null,null,null,null,null,null,null,{"$f":"第1回!B31","v":0},{"$f":"第1回!C31","v":0}]
[30,"","",null,null,null,null,null,null,null,null,null,null,null,null,null,{"$f":"第1回!B32","v":0},{"$f":"第1回!C32","v":0}]
[31,"","",null,null,null,null,null,null,null,null,null,null,null,null,null,{"$f":"第1回!B33","v":0},{"$f":"第1回!C33","v":0}]
[32,"","",null,null,null,null,null,null,null,null,null,null,null,null,null,{"$f":"第1回!B34","v":0},{"$f":"第1回!C34","v":0}]
[33,"","",null,null,null,null,null,null,null,null,null,null,null,null,null,{"$f":"第1回!B35","v":0},{"$f":"第1回!C35","v":0}]
[34,"","",null,null,null,null,null,null,null,null,null,null,null,null,null,{"$f":"第1回!B36","v":0},{"$f":"第1回!C36","v":0}]
[35,"","",null,null,null,null,null,null,null,null,null,null,null,null,null,{"$f":"第1回!B37","v":0},{"$f":"第1回!C37","v":0}]
[36,"","",null,null,null,null,null,null,null,null,null,null,null,null,null,{"$f":"第1回!B38","v":0},{"$f":"第1回!C38","v":0}]
[37,"","",null,null,null,null,null,null,null,null,null,null,null,null,null,{"$f":"第1回!B39","v":0},{"$f":"第1回!C39","v":0}]
[38,"","",null,null,null,null,null,null,null,null,null,null,null,null,null,{"$f":"第1回!B40","v":0},{"$f":"第1回!C40","v":0}]
[39,"","",null,null,null,null,null,null,null,null,null,null,null,null,null,{"$f":"第1回!B41","v":0},{"$f":"第1回!C41","v":0}]
[40,"","",null,null,null,null,null,null,null,null,null,null,null,null,null,{"$f":"第1回!B42","v":0},{"$f":"第1回!C42","v":0}]